BEGIN:VCALENDAR
VERSION:2.0
PRODID:-//City of Parma Heights - ECPv6.15.20//NONSGML v1.0//EN
CALSCALE:GREGORIAN
METHOD:PUBLISH
X-WR-CALNAME:City of Parma Heights
X-ORIGINAL-URL:https://parmaheightsoh.gov
X-WR-CALDESC:Events for City of Parma Heights
REFRESH-INTERVAL;VALUE=DURATION:PT1H
X-Robots-Tag:noindex
X-PUBLISHED-TTL:PT1H
BEGIN:VTIMEZONE
TZID:UTC
BEGIN:STANDARD
TZOFFSETFROM:+0000
TZOFFSETTO:+0000
TZNAME:UTC
DTSTART:20240101T000000
END:STANDARD
END:VTIMEZONE
BEGIN:VEVENT
DTSTART;TZID=UTC:20251130T170000
DTEND;TZID=UTC:20251130T180000
DTSTAMP:20260421T212739
CREATED:20250506T204451Z
LAST-MODIFIED:20251008T174605Z
UID:10000329-1764522000-1764525600@parmaheightsoh.gov
SUMMARY:Tree Lighting Ceremony
DESCRIPTION:Happy Holidays from Mayor Gallo and the City of Parma Heights! Join us for a festive kickoff to the season! \n\nEnjoy cookies and cocoa\nSpecial visitors from the North Pole\nCountdown to the holidays
URL:https://parmaheightsoh.gov/event/tree-lighting-ceremony/
LOCATION:Greenbrier Commons
CATEGORIES:City,Recreation
ORGANIZER;CN="Recreation Department":MAILTO:recreation@parmaheights.us
END:VEVENT
BEGIN:VEVENT
DTSTART;TZID=UTC:20251018T130000
DTEND;TZID=UTC:20251018T160000
DTSTAMP:20260421T212739
CREATED:20251008T173332Z
LAST-MODIFIED:20251008T173416Z
UID:10000402-1760792400-1760803200@parmaheightsoh.gov
SUMMARY:Intermediate Line Dance
DESCRIPTION:Let loose and join our instructor Jamie Wylie for fun and engaging line dance lessons! Walk-throughs will be provided\, and we’re happy to take song requests.
URL:https://parmaheightsoh.gov/event/intermediate-line-dance/
LOCATION:Cassidy Theatre\, 6200 Pearl Road\, Parma Heights\, OH\, United States
CATEGORIES:City,Recreation
ORGANIZER;CN="Recreation Department":MAILTO:recreation@parmaheights.us
END:VEVENT
BEGIN:VEVENT
DTSTART;TZID=UTC:20251011T140000
DTEND;TZID=UTC:20251011T160000
DTSTAMP:20260421T212739
CREATED:20251008T173057Z
LAST-MODIFIED:20251008T173057Z
UID:10000401-1760191200-1760198400@parmaheightsoh.gov
SUMMARY:Halloween Crafts with Parma Heights
DESCRIPTION:Join us for a fun children’s craft event with Lisa Zaremba! Come dressed in your Halloween costume for some extra spooky fun. Register online in advance or on the day of the event!
URL:https://parmaheightsoh.gov/event/halloween-crafts-with-parma-heights/
LOCATION:Cassidy Theatre\, 6200 Pearl Road\, Parma Heights\, OH\, United States
CATEGORIES:City,Recreation
ORGANIZER;CN="Recreation Department":MAILTO:recreation@parmaheights.us
END:VEVENT
END:VCALENDAR