BEGIN:VCALENDAR
VERSION:2.0
PRODID:-//City of Parma Heights - ECPv6.15.20//NONSGML v1.0//EN
CALSCALE:GREGORIAN
METHOD:PUBLISH
X-WR-CALNAME:City of Parma Heights
X-ORIGINAL-URL:https://parmaheightsoh.gov
X-WR-CALDESC:Events for City of Parma Heights
REFRESH-INTERVAL;VALUE=DURATION:PT1H
X-Robots-Tag:noindex
X-PUBLISHED-TTL:PT1H
BEGIN:VTIMEZONE
TZID:UTC
BEGIN:STANDARD
TZOFFSETFROM:+0000
TZOFFSETTO:+0000
TZNAME:UTC
DTSTART:20240101T000000
END:STANDARD
END:VTIMEZONE
BEGIN:VEVENT
DTSTART;TZID=UTC:20250908T181500
DTEND;TZID=UTC:20250908T190000
DTSTAMP:20260422T003253
CREATED:20250905T141635Z
LAST-MODIFIED:20250905T203307Z
UID:10000377-1757355300-1757358000@parmaheightsoh.gov
SUMMARY:Mayor's Caucus
DESCRIPTION:Please click the link below to view the agenda for this meeting. \nThank you\, \nBarbara \nCaucus Agenda 9.8.25 \n 
URL:https://parmaheightsoh.gov/event/mayors-caucus-45/
LOCATION:City Hall
CATEGORIES:City
ORGANIZER;CN="Council Clerk Allen":MAILTO:ballen@parmaheights.us
END:VEVENT
BEGIN:VEVENT
DTSTART;TZID=UTC:20250826T171500
DTEND;TZID=UTC:20250826T173000
DTSTAMP:20260422T003253
CREATED:20250822T151406Z
LAST-MODIFIED:20250822T204933Z
UID:10000375-1756228500-1756229400@parmaheightsoh.gov
SUMMARY:Special Council Meeting
DESCRIPTION:Thank you for your interest in the City of Parma Heights. \nCC Packet 8.26.25 \n  \n  \n 
URL:https://parmaheightsoh.gov/event/special-council-meeting-4/
LOCATION:City Hall
CATEGORIES:City
ORGANIZER;CN="Council Clerk Allen":MAILTO:ballen@parmaheights.us
END:VEVENT
BEGIN:VEVENT
DTSTART;TZID=UTC:20250826T170000
DTEND;TZID=UTC:20250826T171500
DTSTAMP:20260422T003253
CREATED:20250822T151437Z
LAST-MODIFIED:20250822T204440Z
UID:10000376-1756227600-1756228500@parmaheightsoh.gov
SUMMARY:Mayor's Caucus
DESCRIPTION:Please click on the link below to view the Mayor’s Caucus Agenda. \nCaucus Agenda 8.26.25 \n  \n  \n 
URL:https://parmaheightsoh.gov/event/mayors-caucus-44/
LOCATION:City Hall
CATEGORIES:City
ORGANIZER;CN="Council Clerk Allen":MAILTO:ballen@parmaheights.us
END:VEVENT
BEGIN:VEVENT
DTSTART;TZID=UTC:20250825T164500
DTEND;TZID=UTC:20250825T173000
DTSTAMP:20260422T003253
CREATED:20250821T194425Z
LAST-MODIFIED:20250822T153236Z
UID:10000373-1756140300-1756143000@parmaheightsoh.gov
SUMMARY:Utilities & Streets Committee
DESCRIPTION:The Utilities and Streets Committee will meet on Monday\, August 25\, 2025. \n8 25 2025 Utilities and Streets
URL:https://parmaheightsoh.gov/event/utilities-streets-committee/
LOCATION:City Hall
CATEGORIES:City
ORGANIZER;CN="Council Clerk Allen":MAILTO:ballen@parmaheights.us
END:VEVENT
BEGIN:VEVENT
DTSTART;TZID=UTC:20250825T160000
DTEND;TZID=UTC:20250825T164500
DTSTAMP:20260422T003253
CREATED:20250821T191759Z
LAST-MODIFIED:20250821T195130Z
UID:10000372-1756137600-1756140300@parmaheightsoh.gov
SUMMARY:Ad Hoc Committee
DESCRIPTION:The Ad Hoc Committee will be meeting at 4:00 p.m. on this day.  Please see the agenda below. \nAd Hoc Committee Agenda 8.25.25
URL:https://parmaheightsoh.gov/event/ad-hoc-committee/
LOCATION:City Hall
CATEGORIES:City
ORGANIZER;CN="Council Clerk Allen":MAILTO:ballen@parmaheights.us
END:VEVENT
BEGIN:VEVENT
DTSTART;TZID=UTC:20250821T180000
DTEND;TZID=UTC:20250821T183000
DTSTAMP:20260422T003253
CREATED:20250811T142011Z
LAST-MODIFIED:20250818T160526Z
UID:10000371-1755799200-1755801000@parmaheightsoh.gov
SUMMARY:Civil Service Meeting
DESCRIPTION:The Civil Service Commission will be meeting on this day.  Please click below to view the agenda. \n8.21.2025 Agenda
URL:https://parmaheightsoh.gov/event/civil-service-meeting-5/
LOCATION:City Hall
CATEGORIES:City
ORGANIZER;CN="Council Clerk Allen":MAILTO:ballen@parmaheights.us
END:VEVENT
BEGIN:VEVENT
DTSTART;TZID=UTC:20250721T180000
DTEND;TZID=UTC:20250721T183000
DTSTAMP:20260422T003253
CREATED:20250710T174228Z
LAST-MODIFIED:20250710T175221Z
UID:10000370-1753120800-1753122600@parmaheightsoh.gov
SUMMARY:Board of Zoning Appeals
DESCRIPTION:The Board of Zoning Appeals will hold a meeting on this day.  Please click the link below to view the agenda for this meeting. \nCase 2025-03 and 2025 – 04
URL:https://parmaheightsoh.gov/event/board-of-zoning-appeals-9/
LOCATION:City Hall
CATEGORIES:City
ORGANIZER;CN="Council Clerk Allen":MAILTO:ballen@parmaheights.us
END:VEVENT
BEGIN:VEVENT
DTSTART;VALUE=DATE:20250718
DTEND;VALUE=DATE:20250720
DTSTAMP:20260422T003253
CREATED:20250414T160603Z
LAST-MODIFIED:20250716T163032Z
UID:10000311-1752796800-1752969599@parmaheightsoh.gov
SUMMARY:Third Annual City Wide Yard Sale
DESCRIPTION:FRIDAY & SATURDAY \nJULY 18 – 19\, 2025 \nPlease click the link below to view the list of participating addresses. \n2025 Third Annual Yard Sale
URL:https://parmaheightsoh.gov/event/third-annual-city-wide-yard-sale/
CATEGORIES:City
ORGANIZER;CN="Council Clerk Allen":MAILTO:ballen@parmaheights.us
END:VEVENT
BEGIN:VEVENT
DTSTART;TZID=UTC:20250708T173000
DTEND;TZID=UTC:20250708T180000
DTSTAMP:20260422T003253
CREATED:20250705T172739Z
LAST-MODIFIED:20250705T172739Z
UID:10000369-1751995800-1751997600@parmaheightsoh.gov
SUMMARY:City Council Work Session
DESCRIPTION:The City Council will hold a Work Session on this day.  Please click below to view the agenda. \n7 08 2025 Council Work Session Agenda
URL:https://parmaheightsoh.gov/event/city-council-work-session-3/
LOCATION:City Hall
CATEGORIES:City
ORGANIZER;CN="Council Clerk Allen":MAILTO:ballen@parmaheights.us
END:VEVENT
BEGIN:VEVENT
DTSTART;TZID=UTC:20250708T171500
DTEND;TZID=UTC:20250708T173000
DTSTAMP:20260422T003253
CREATED:20250703T203200Z
LAST-MODIFIED:20250703T203200Z
UID:10000368-1751994900-1751995800@parmaheightsoh.gov
SUMMARY:Special Council Meeting
DESCRIPTION:Thank you for your interest in the City of Parma Heights. \nPlease click on the lick to view the agenda for this meeting. \nCC Packet 7.08.25 \n 
URL:https://parmaheightsoh.gov/event/special-council-meeting-3/
LOCATION:City Hall
CATEGORIES:City
ORGANIZER;CN="Council Clerk Allen":MAILTO:ballen@parmaheights.us
END:VEVENT
BEGIN:VEVENT
DTSTART;TZID=UTC:20250708T170000
DTEND;TZID=UTC:20250708T171500
DTSTAMP:20260422T003253
CREATED:20250703T203039Z
LAST-MODIFIED:20250703T203039Z
UID:10000367-1751994000-1751994900@parmaheightsoh.gov
SUMMARY:Mayor's Caucus
DESCRIPTION:Please click on the link below to view the Mayor’s Caucus Agenda. \nCaucus Agenda 7.8.25 \n  \n 
URL:https://parmaheightsoh.gov/event/mayors-caucus-43/
LOCATION:City Hall
CATEGORIES:City
ORGANIZER;CN="Council Clerk Allen":MAILTO:ballen@parmaheights.us
END:VEVENT
BEGIN:VEVENT
DTSTART;TZID=UTC:20250623T190000
DTEND;TZID=UTC:20250623T193000
DTSTAMP:20260422T003253
CREATED:20250606T201655Z
LAST-MODIFIED:20250620T201700Z
UID:10000361-1750705200-1750707000@parmaheightsoh.gov
SUMMARY:Council Meeting
DESCRIPTION:Thank you for your interest in the City of Parma Heights. \nPlease click on the lick to view the agenda for this meeting. \nCC Packet 6.23.2025 \n 
URL:https://parmaheightsoh.gov/event/council-meeting-13/
LOCATION:City Hall
CATEGORIES:City
ORGANIZER;CN="Council Clerk Allen":MAILTO:ballen@parmaheights.us
END:VEVENT
BEGIN:VEVENT
DTSTART;TZID=UTC:20250623T183000
DTEND;TZID=UTC:20250623T190000
DTSTAMP:20260422T003253
CREATED:20250606T201501Z
LAST-MODIFIED:20250620T201526Z
UID:10000359-1750703400-1750705200@parmaheightsoh.gov
SUMMARY:Mayor's Caucus
DESCRIPTION:Please click on the link below to view the Mayor’s Caucus Agenda. \nCaucus Agenda 6.23.25 \n  \n 
URL:https://parmaheightsoh.gov/event/mayors-caucus-42/
LOCATION:City Hall
CATEGORIES:City
ORGANIZER;CN="Council Clerk Allen":MAILTO:ballen@parmaheights.us
END:VEVENT
BEGIN:VEVENT
DTSTART;TZID=UTC:20250623T140000
DTEND;TZID=UTC:20250623T143000
DTSTAMP:20260422T003253
CREATED:20250620T171216Z
LAST-MODIFIED:20250620T171256Z
UID:10000366-1750687200-1750689000@parmaheightsoh.gov
SUMMARY:Records Commission
DESCRIPTION:Please click the link below to view the agenda for the upcoming Records Commission meeting. \nJune 23 2025 Agenda
URL:https://parmaheightsoh.gov/event/records-commission-3/
LOCATION:City Hall
CATEGORIES:City
ORGANIZER;CN="Council Clerk Allen":MAILTO:ballen@parmaheights.us
END:VEVENT
BEGIN:VEVENT
DTSTART;TZID=UTC:20250609T190000
DTEND;TZID=UTC:20250609T193000
DTSTAMP:20260422T003253
CREATED:20250606T201624Z
LAST-MODIFIED:20250606T201624Z
UID:10000360-1749495600-1749497400@parmaheightsoh.gov
SUMMARY:Council Meeting
DESCRIPTION:Thank you for your interest in the City of Parma Heights. \nPlease click on the lick to view the agenda for this meeting. \nCC Packet 6.09.2025
URL:https://parmaheightsoh.gov/event/council-meeting-12/
LOCATION:City Hall
CATEGORIES:City
ORGANIZER;CN="Council Clerk Allen":MAILTO:ballen@parmaheights.us
END:VEVENT
BEGIN:VEVENT
DTSTART;TZID=UTC:20250609T181500
DTEND;TZID=UTC:20250609T190000
DTSTAMP:20260422T003253
CREATED:20250606T201417Z
LAST-MODIFIED:20250606T201417Z
UID:10000358-1749492900-1749495600@parmaheightsoh.gov
SUMMARY:Mayor's Caucus
DESCRIPTION:Please click on the link below to view the Mayor’s Caucus Agenda. \nCaucus Agenda 6.9.25 \n 
URL:https://parmaheightsoh.gov/event/mayors-caucus-41/
LOCATION:City Hall
CATEGORIES:City
ORGANIZER;CN="Council Clerk Allen":MAILTO:ballen@parmaheights.us
END:VEVENT
BEGIN:VEVENT
DTSTART;TZID=UTC:20250609T170000
DTEND;TZID=UTC:20250609T174500
DTSTAMP:20260422T003253
CREATED:20250606T203120Z
LAST-MODIFIED:20250606T204644Z
UID:10000363-1749488400-1749491100@parmaheightsoh.gov
SUMMARY:Utilities and Streets Committee
DESCRIPTION:6 09 2025 Utilities and Streets
URL:https://parmaheightsoh.gov/event/finance-committee-3/
LOCATION:City Hall
CATEGORIES:City
ORGANIZER;CN="Council Clerk Allen":MAILTO:ballen@parmaheights.us
END:VEVENT
BEGIN:VEVENT
DTSTART;TZID=UTC:20250527T190000
DTEND;TZID=UTC:20250527T193000
DTSTAMP:20260422T003253
CREATED:20250430T185820Z
LAST-MODIFIED:20250523T210909Z
UID:10000315-1748372400-1748374200@parmaheightsoh.gov
SUMMARY:Council Meeting
DESCRIPTION:Thank you for your interest in the City of Parma Heights. \nPlease click on the lick to view the agenda for this meeting. \nCC Packet 5.27.25
URL:https://parmaheightsoh.gov/event/council-meeting-10/
LOCATION:City Hall
CATEGORIES:City
ORGANIZER;CN="Council Clerk Allen":MAILTO:ballen@parmaheights.us
END:VEVENT
BEGIN:VEVENT
DTSTART;TZID=UTC:20250527T180000
DTEND;TZID=UTC:20250527T190000
DTSTAMP:20260422T003253
CREATED:20250430T185724Z
LAST-MODIFIED:20250523T210354Z
UID:10000313-1748368800-1748372400@parmaheightsoh.gov
SUMMARY:Mayor's Caucus
DESCRIPTION:Please click on the link below to view the Mayor’s Caucus Agenda. \nCaucus Agenda 5.27.25 \n 
URL:https://parmaheightsoh.gov/event/mayors-caucus-40/
LOCATION:City Hall
CATEGORIES:City
ORGANIZER;CN="Council Clerk Allen":MAILTO:ballen@parmaheights.us
END:VEVENT
BEGIN:VEVENT
DTSTART;TZID=UTC:20250527T173000
DTEND;TZID=UTC:20250527T180000
DTSTAMP:20260422T003253
CREATED:20250523T210513Z
LAST-MODIFIED:20250523T210513Z
UID:10000352-1748367000-1748368800@parmaheightsoh.gov
SUMMARY:Safety Committee
DESCRIPTION:Please click below to view the agenda for this meeting. \nSafety Committee Agenda 5.27.25
URL:https://parmaheightsoh.gov/event/safety-committee-6/
LOCATION:City Hall
CATEGORIES:City
ORGANIZER;CN="Council Clerk Allen":MAILTO:ballen@parmaheights.us
END:VEVENT
BEGIN:VEVENT
DTSTART;TZID=UTC:20250522T180000
DTEND;TZID=UTC:20250522T183000
DTSTAMP:20260422T003253
CREATED:20250515T170256Z
LAST-MODIFIED:20250520T164031Z
UID:10000349-1747936800-1747938600@parmaheightsoh.gov
SUMMARY:Civil Service Meeting
DESCRIPTION:Please find the agenda below for this meeting. \n5.22. 2025 Agenda \n 
URL:https://parmaheightsoh.gov/event/civil-service-meeting-4/
LOCATION:City Hall
CATEGORIES:City
ORGANIZER;CN="Council Clerk Allen":MAILTO:ballen@parmaheights.us
END:VEVENT
BEGIN:VEVENT
DTSTART;TZID=UTC:20250519T170000
DTEND;TZID=UTC:20250519T173000
DTSTAMP:20260422T003253
CREATED:20250516T133218Z
LAST-MODIFIED:20250516T202139Z
UID:10000350-1747674000-1747675800@parmaheightsoh.gov
SUMMARY:Council Meeting
DESCRIPTION:Thank you for your interest in the City of Parma Heights. \nCC Packet 5.19.2025
URL:https://parmaheightsoh.gov/event/council-meeting-11/
LOCATION:City Hall
CATEGORIES:City
ORGANIZER;CN="Council Clerk Allen":MAILTO:ballen@parmaheights.us
END:VEVENT
BEGIN:VEVENT
DTSTART;TZID=UTC:20250512T190000
DTEND;TZID=UTC:20250512T193000
DTSTAMP:20260422T003253
CREATED:20250430T185758Z
LAST-MODIFIED:20250509T204711Z
UID:10000314-1747076400-1747078200@parmaheightsoh.gov
SUMMARY:Council Meeting
DESCRIPTION:Thank you for your interest in the City of Parma Heights. \nCC Packet 5.12.25
URL:https://parmaheightsoh.gov/event/council-meeting-9/
LOCATION:City Hall
CATEGORIES:City
ORGANIZER;CN="Council Clerk Allen":MAILTO:ballen@parmaheights.us
END:VEVENT
BEGIN:VEVENT
DTSTART;TZID=UTC:20250512T181500
DTEND;TZID=UTC:20250512T190000
DTSTAMP:20260422T003253
CREATED:20250430T185650Z
LAST-MODIFIED:20250509T163240Z
UID:10000312-1747073700-1747076400@parmaheightsoh.gov
SUMMARY:Mayor's Caucus
DESCRIPTION:Please click on the link below to view the Mayor’s Caucus Agenda. \nCaucus Agenda 5.12.25 \n  \n 
URL:https://parmaheightsoh.gov/event/mayors-caucus-39/
LOCATION:City Hall
CATEGORIES:City
ORGANIZER;CN="Council Clerk Allen":MAILTO:ballen@parmaheights.us
END:VEVENT
BEGIN:VEVENT
DTSTART;TZID=UTC:20250512T174500
DTEND;TZID=UTC:20250512T181500
DTSTAMP:20260422T003253
CREATED:20250509T160823Z
LAST-MODIFIED:20250509T160823Z
UID:10000348-1747071900-1747073700@parmaheightsoh.gov
SUMMARY:Finance Committee Meeting
DESCRIPTION:Please click the link below to view the agenda for the Finance Committee. \nFinance Committee 5 12 25
URL:https://parmaheightsoh.gov/event/finance-committee-meeting-3/
LOCATION:City Hall
CATEGORIES:City
ORGANIZER;CN="Council Clerk Allen":MAILTO:ballen@parmaheights.us
END:VEVENT
BEGIN:VEVENT
DTSTART;TZID=UTC:20250428T190000
DTEND;TZID=UTC:20250428T193000
DTSTAMP:20260422T003253
CREATED:20250327T141812Z
LAST-MODIFIED:20250425T194712Z
UID:10000306-1745866800-1745868600@parmaheightsoh.gov
SUMMARY:Council Meeting
DESCRIPTION:Thank you for your interest in the City of Parma Heights.  Please click on the link below to view the agenda for this meeting. \nCC Packet 4.28.25
URL:https://parmaheightsoh.gov/event/council-meeting-8/
LOCATION:City Hall
CATEGORIES:City
ORGANIZER;CN="Council Clerk Allen":MAILTO:ballen@parmaheights.us
END:VEVENT
BEGIN:VEVENT
DTSTART;TZID=UTC:20250428T181500
DTEND;TZID=UTC:20250428T190000
DTSTAMP:20260422T003253
CREATED:20250327T141942Z
LAST-MODIFIED:20250425T192546Z
UID:10000308-1745864100-1745866800@parmaheightsoh.gov
SUMMARY:Mayor's Caucus
DESCRIPTION:Please click on the link below to view the Mayor’s Caucus Agenda. \nCaucus Agenda Packet 4.28.25
URL:https://parmaheightsoh.gov/event/mayors-caucus-38/
LOCATION:City Hall
CATEGORIES:City
ORGANIZER;CN="Council Clerk Allen":MAILTO:ballen@parmaheights.us
END:VEVENT
BEGIN:VEVENT
DTSTART;TZID=UTC:20250414T190000
DTEND;TZID=UTC:20250414T193000
DTSTAMP:20260422T003253
CREATED:20250327T141738Z
LAST-MODIFIED:20250411T204359Z
UID:10000305-1744657200-1744659000@parmaheightsoh.gov
SUMMARY:Council Meeting
DESCRIPTION:Thank you for your interest in the City of Parma Heights.  Please click on the link below to view the agenda for this meeting. \nCC PACKET 4.14.25
URL:https://parmaheightsoh.gov/event/council-meeting-7/
LOCATION:City Hall
CATEGORIES:City
ORGANIZER;CN="Council Clerk Allen":MAILTO:ballen@parmaheights.us
END:VEVENT
BEGIN:VEVENT
DTSTART;TZID=UTC:20250414T183000
DTEND;TZID=UTC:20250414T190000
DTSTAMP:20260422T003253
CREATED:20250327T141914Z
LAST-MODIFIED:20250411T204310Z
UID:10000307-1744655400-1744657200@parmaheightsoh.gov
SUMMARY:Mayor's Caucus
DESCRIPTION:Please click on the link below to view the Mayor’s Caucus Agenda. \nCaucus Agenda 4.14.25
URL:https://parmaheightsoh.gov/event/mayors-caucus-37/
LOCATION:City Hall
CATEGORIES:City
ORGANIZER;CN="Council Clerk Allen":MAILTO:ballen@parmaheights.us
END:VEVENT
BEGIN:VEVENT
DTSTART;TZID=UTC:20250414T174500
DTEND;TZID=UTC:20250414T181500
DTSTAMP:20260422T003253
CREATED:20250327T143106Z
LAST-MODIFIED:20250411T194130Z
UID:10000310-1744652700-1744654500@parmaheightsoh.gov
SUMMARY:Recreation Commission Meeting
DESCRIPTION:Please click the link below to view the agenda for this meeting. \nThank you. \nRecreation April 14 2025 Agenda
URL:https://parmaheightsoh.gov/event/recreation-commission-meeting/
LOCATION:City Hall
CATEGORIES:City
ORGANIZER;CN="Council Clerk Allen":MAILTO:ballen@parmaheights.us
END:VEVENT
END:VCALENDAR