BEGIN:VCALENDAR
VERSION:2.0
PRODID:-//City of Parma Heights - ECPv6.15.20//NONSGML v1.0//EN
CALSCALE:GREGORIAN
METHOD:PUBLISH
X-ORIGINAL-URL:https://parmaheightsoh.gov
X-WR-CALDESC:Events for City of Parma Heights
REFRESH-INTERVAL;VALUE=DURATION:PT1H
X-Robots-Tag:noindex
X-PUBLISHED-TTL:PT1H
BEGIN:VTIMEZONE
TZID:UTC
BEGIN:STANDARD
TZOFFSETFROM:+0000
TZOFFSETTO:+0000
TZNAME:UTC
DTSTART:20220101T000000
END:STANDARD
END:VTIMEZONE
BEGIN:VEVENT
DTSTART;TZID=UTC:20240108T190000
DTEND;TZID=UTC:20240108T200000
DTSTAMP:20260422T184252
CREATED:20240104T144713Z
LAST-MODIFIED:20240105T152535Z
UID:10000059-1704740400-1704744000@parmaheightsoh.gov
SUMMARY:City Council Meeting
DESCRIPTION:Please click the link below to view the agenda for this meeting. \nCC PACKET 1 8 2024
URL:https://parmaheightsoh.gov/event/city-council/
CATEGORIES:City
ORGANIZER;CN="Council Clerk Allen":MAILTO:ballen@parmaheights.us
END:VEVENT
BEGIN:VEVENT
DTSTART;TZID=UTC:20240108T184500
DTEND;TZID=UTC:20240108T190000
DTSTAMP:20260422T184252
CREATED:20240104T194437Z
LAST-MODIFIED:20240104T194456Z
UID:10000061-1704739500-1704740400@parmaheightsoh.gov
SUMMARY:Mayor's Caucus
DESCRIPTION:Please click the link below to view the agenda for this meeting. \nCaucus Agenda 1.8.24
URL:https://parmaheightsoh.gov/event/mayors-caucus-9/
CATEGORIES:City
ORGANIZER;CN="Council Clerk Allen":MAILTO:ballen@parmaheights.us
END:VEVENT
BEGIN:VEVENT
DTSTART;TZID=UTC:20231120T173000
DTEND;TZID=UTC:20231120T183000
DTSTAMP:20260422T184252
CREATED:20231116T144931Z
LAST-MODIFIED:20231116T144931Z
UID:10000051-1700501400-1700505000@parmaheightsoh.gov
SUMMARY:City Council Work Session
DESCRIPTION:The City of Parma Heights will hold a City Council Work Session meeting to further discuss the 2024 Budget.  Click on the link below to view the agenda. \n11 20 2023 Council Work Session Agenda
URL:https://parmaheightsoh.gov/event/city-council-work-session/
CATEGORIES:City
ORGANIZER;CN="Council Clerk Allen":MAILTO:ballen@parmaheights.us
END:VEVENT
BEGIN:VEVENT
DTSTART;TZID=UTC:20231113T140000
DTEND;TZID=UTC:20231113T143000
DTSTAMP:20260422T184252
CREATED:20231109T191000Z
LAST-MODIFIED:20231109T191000Z
UID:10000048-1699884000-1699885800@parmaheightsoh.gov
SUMMARY:Records Commission
DESCRIPTION:Please be advised that the Records Commission will meet at 2:00 p.m. on November 13\, 2023 in the City Council Chamber. \nRC – 11 13 2023 Agenda
URL:https://parmaheightsoh.gov/event/records-commission/
CATEGORIES:City
ORGANIZER;CN="Council Clerk Allen":MAILTO:ballen@parmaheights.us
END:VEVENT
BEGIN:VEVENT
DTSTART;TZID=UTC:20231023T173000
DTEND;TZID=UTC:20231023T180000
DTSTAMP:20260422T184252
CREATED:20231018T145301Z
LAST-MODIFIED:20231018T145301Z
UID:10000041-1698082200-1698084000@parmaheightsoh.gov
SUMMARY:Recreation Commission
DESCRIPTION:This meeting will take place in City Hall Chamber at 5:30 p.m.  Please click the agenda below to view. \nOctober 23 2023 Agenda
URL:https://parmaheightsoh.gov/event/recreation-commission/
LOCATION:City Hall
CATEGORIES:City
ORGANIZER;CN="Council Clerk Allen":MAILTO:ballen@parmaheights.us
END:VEVENT
END:VCALENDAR