BEGIN:VCALENDAR
VERSION:2.0
PRODID:-//City of Parma Heights - ECPv6.15.20//NONSGML v1.0//EN
CALSCALE:GREGORIAN
METHOD:PUBLISH
X-WR-CALNAME:City of Parma Heights
X-ORIGINAL-URL:https://parmaheightsoh.gov
X-WR-CALDESC:Events for City of Parma Heights
REFRESH-INTERVAL;VALUE=DURATION:PT1H
X-Robots-Tag:noindex
X-PUBLISHED-TTL:PT1H
BEGIN:VTIMEZONE
TZID:UTC
BEGIN:STANDARD
TZOFFSETFROM:+0000
TZOFFSETTO:+0000
TZNAME:UTC
DTSTART:20230101T000000
END:STANDARD
END:VTIMEZONE
BEGIN:VEVENT
DTSTART;TZID=UTC:20241015T183000
DTEND;TZID=UTC:20241015T190000
DTSTAMP:20260422T122504
CREATED:20241011T195810Z
LAST-MODIFIED:20241011T195822Z
UID:10000238-1729017000-1729018800@parmaheightsoh.gov
SUMMARY:Mayor's Caucus
DESCRIPTION:  \nPlease click the link below to view the Mayor’s Caucus agenda. \nCaucus Agenda 10.15.24 \n  \n  \n 
URL:https://parmaheightsoh.gov/event/mayors-caucus-25/
CATEGORIES:City
ORGANIZER;CN="Council Clerk Allen":MAILTO:ballen@parmaheights.us
END:VEVENT
BEGIN:VEVENT
DTSTART;TZID=UTC:20241015T173000
DTEND;TZID=UTC:20241015T183000
DTSTAMP:20260422T122504
CREATED:20241011T200125Z
LAST-MODIFIED:20241011T200125Z
UID:10000239-1729013400-1729017000@parmaheightsoh.gov
SUMMARY:Safety Committee
DESCRIPTION:Please click the link below to view the agenda for this Safety Committee meeting. \nSafety Committee Agenda 10 15 2024
URL:https://parmaheightsoh.gov/event/safety-committee/
CATEGORIES:City
ORGANIZER;CN="Council Clerk Allen":MAILTO:ballen@parmaheights.us
END:VEVENT
BEGIN:VEVENT
DTSTART;TZID=UTC:20241007T190000
DTEND;TZID=UTC:20241007T200000
DTSTAMP:20260422T122505
CREATED:20241004T162907Z
LAST-MODIFIED:20241004T223935Z
UID:10000234-1728327600-1728331200@parmaheightsoh.gov
SUMMARY:Special City Council Meeting and Public Hearing
DESCRIPTION:Thank you for your interest in the City of Parma Heights. \nPlease click the link below to view the agenda for this meeting. \nCC PACKET 10 07 2024 \n  \n  \n 
URL:https://parmaheightsoh.gov/event/special-city-council-meeting-3/
LOCATION:City Hall
CATEGORIES:City
ORGANIZER;CN="Council Clerk Allen":MAILTO:ballen@parmaheights.us
END:VEVENT
BEGIN:VEVENT
DTSTART;TZID=UTC:20240926T061500
DTEND;TZID=UTC:20240926T183000
DTSTAMP:20260422T122505
CREATED:20240923T141659Z
LAST-MODIFIED:20240923T203636Z
UID:10000232-1727331300-1727375400@parmaheightsoh.gov
SUMMARY:Civil Service
DESCRIPTION:Please click below to view the agenda for this meeting. \n9 26 2024 Agenda \n 
URL:https://parmaheightsoh.gov/event/civil-service/
LOCATION:City Hall
CATEGORIES:City
ORGANIZER;CN="Council Clerk Allen":MAILTO:ballen@parmaheights.us
END:VEVENT
BEGIN:VEVENT
DTSTART;TZID=UTC:20240923T190000
DTEND;TZID=UTC:20240923T200000
DTSTAMP:20260422T122505
CREATED:20240920T171506Z
LAST-MODIFIED:20240920T171506Z
UID:10000231-1727118000-1727121600@parmaheightsoh.gov
SUMMARY:City Council Meeting
DESCRIPTION:Thank you for your interest in the City of Parma Heights. \nCC PACKET 9 23 2024 \n  \n 
URL:https://parmaheightsoh.gov/event/city-council-meeting-20/
LOCATION:City Hall
CATEGORIES:City
ORGANIZER;CN="Council Clerk Allen":MAILTO:ballen@parmaheights.us
END:VEVENT
BEGIN:VEVENT
DTSTART;TZID=UTC:20240916T180000
DTEND;TZID=UTC:20240916T183000
DTSTAMP:20260422T122505
CREATED:20240905T183829Z
LAST-MODIFIED:20240905T183829Z
UID:10000225-1726509600-1726511400@parmaheightsoh.gov
SUMMARY:Board of Zoning Appeals
DESCRIPTION:Thank you for your interest in the City of Parma Heights.  Please click below to view the agenda for this upcoming meeting. \nCase 2024 – 07
URL:https://parmaheightsoh.gov/event/board-of-zoning-appeals-6/
LOCATION:City Hall
CATEGORIES:City
ORGANIZER;CN="Council Clerk Allen":MAILTO:ballen@parmaheights.us
END:VEVENT
BEGIN:VEVENT
DTSTART;TZID=UTC:20240909T190000
DTEND;TZID=UTC:20240909T200000
DTSTAMP:20260422T122505
CREATED:20240905T194026Z
LAST-MODIFIED:20240906T214014Z
UID:10000227-1725908400-1725912000@parmaheightsoh.gov
SUMMARY:City Council Meeting
DESCRIPTION:Thank you for your interest in the City of Parma Heights. \nCC PACKET 9 9 2024 \n  \n 
URL:https://parmaheightsoh.gov/event/city-council-meeting-19/
LOCATION:City Hall
CATEGORIES:City
ORGANIZER;CN="Council Clerk Allen":MAILTO:ballen@parmaheights.us
END:VEVENT
BEGIN:VEVENT
DTSTART;TZID=UTC:20240903T173000
DTEND;TZID=UTC:20240903T183000
DTSTAMP:20260422T122505
CREATED:20240830T141802Z
LAST-MODIFIED:20240830T155202Z
UID:10000224-1725384600-1725388200@parmaheightsoh.gov
SUMMARY:Special Planning Commission Meeting
DESCRIPTION:Thank you for your interest in the City of Parma Heights. \n09 03 2024 SP Planning agenda \n  \n 
URL:https://parmaheightsoh.gov/event/special-planning-commission-meeting-2/
LOCATION:City Hall
CATEGORIES:City
ORGANIZER;CN="Council Clerk Allen":MAILTO:ballen@parmaheights.us
END:VEVENT
BEGIN:VEVENT
DTSTART;TZID=UTC:20240826T173000
DTEND;TZID=UTC:20240826T183000
DTSTAMP:20260422T122505
CREATED:20240822T191546Z
LAST-MODIFIED:20240822T192608Z
UID:10000221-1724693400-1724697000@parmaheightsoh.gov
SUMMARY:Special Planning Commission Meeting
DESCRIPTION:Thank you for your interest in the City of Parma Heights. \n8 26 2024 Special Planning Commission Agenda \n 
URL:https://parmaheightsoh.gov/event/special-planning-commission-meeting/
LOCATION:City Hall
CATEGORIES:City
ORGANIZER;CN="Council Clerk Allen":MAILTO:ballen@parmaheights.us
END:VEVENT
BEGIN:VEVENT
DTSTART;TZID=UTC:20240819T180000
DTEND;TZID=UTC:20240819T183000
DTSTAMP:20260422T122505
CREATED:20240807T161412Z
LAST-MODIFIED:20240807T161412Z
UID:10000217-1724090400-1724092200@parmaheightsoh.gov
SUMMARY:Board of Zoning Appeals
DESCRIPTION:Thank you for your interest in the City of Parma Heights.  Please click below to view the agenda for this upcoming meeting. \nCase 2024 – 05 and 2024 – 06 7085 York Road and 7038 Greenbriar Dr
URL:https://parmaheightsoh.gov/event/board-of-zoning-appeals-5/
LOCATION:City Hall
CATEGORIES:City
ORGANIZER;CN="Council Clerk Allen":MAILTO:ballen@parmaheights.us
END:VEVENT
BEGIN:VEVENT
DTSTART;TZID=UTC:20240812T191500
DTEND;TZID=UTC:20240812T200000
DTSTAMP:20260422T122505
CREATED:20240809T180515Z
LAST-MODIFIED:20240809T193042Z
UID:10000219-1723490100-1723492800@parmaheightsoh.gov
SUMMARY:Special City Council Meeting
DESCRIPTION:Thank you for your interest in the City of Parma Heights. \nCC PACKET 8 12 2024 \n 
URL:https://parmaheightsoh.gov/event/special-city-council-meeting-2/
LOCATION:City Hall
CATEGORIES:City
ORGANIZER;CN="Council Clerk Allen":MAILTO:ballen@parmaheights.us
END:VEVENT
BEGIN:VEVENT
DTSTART;TZID=UTC:20240729T183000
DTEND;TZID=UTC:20240729T190000
DTSTAMP:20260422T122505
CREATED:20240726T213317Z
LAST-MODIFIED:20240726T213317Z
UID:10000215-1722277800-1722279600@parmaheightsoh.gov
SUMMARY:Special City Council Meeting
DESCRIPTION:Thank you for your interest in the City of Parma Heights. \nCC SPECIAL MEETING PACKET 7 29 2024 \n 
URL:https://parmaheightsoh.gov/event/special-city-council-meeting/
LOCATION:City Hall
CATEGORIES:City
ORGANIZER;CN="Council Clerk Allen":MAILTO:ballen@parmaheights.us
END:VEVENT
BEGIN:VEVENT
DTSTART;VALUE=DATE:20240719
DTEND;VALUE=DATE:20240721
DTSTAMP:20260422T122505
CREATED:20240516T134258Z
LAST-MODIFIED:20240717T151200Z
UID:10000131-1721347200-1721519999@parmaheightsoh.gov
SUMMARY:City Wide Yard Sale
DESCRIPTION:
URL:https://parmaheightsoh.gov/event/city-wide-yard-sale/
CATEGORIES:City
ATTACH;FMTTYPE=application/pdf:https://parmaheightsoh.gov/wp-content/uploads/2024/05/2024-Yard-Sale-Final-Flyer.pdf
ORGANIZER;CN="Council Clerk Allen":MAILTO:ballen@parmaheights.us
END:VEVENT
BEGIN:VEVENT
DTSTART;TZID=UTC:20240715T180000
DTEND;TZID=UTC:20240715T183000
DTSTAMP:20260422T122505
CREATED:20240628T193354Z
LAST-MODIFIED:20240628T194444Z
UID:10000155-1721066400-1721068200@parmaheightsoh.gov
SUMMARY:Board of Zoning Appeals
DESCRIPTION:Thank you for your interest in the City of Parma Heights.  Please click below to view the agenda for this upcoming meeting. \nCase 2024 – 04 7038 Greenbriar LLC\, 7038 Greenbriar Dr PPN 474-28-013
URL:https://parmaheightsoh.gov/event/board-of-zoning-appeals-4/
LOCATION:City Hall
CATEGORIES:City
ORGANIZER;CN="Council Clerk Allen":MAILTO:ballen@parmaheights.us
END:VEVENT
BEGIN:VEVENT
DTSTART;TZID=UTC:20240624T190000
DTEND;TZID=UTC:20240624T200000
DTSTAMP:20260422T122505
CREATED:20240614T200033Z
LAST-MODIFIED:20240621T203050Z
UID:10000147-1719255600-1719259200@parmaheightsoh.gov
SUMMARY:City Council Meeting
DESCRIPTION:Thank you for your interest in the City of Parma Heights. \nCC PACKET 6 24 2024 \n 
URL:https://parmaheightsoh.gov/event/city-council-meeting-18/
LOCATION:City Hall
CATEGORIES:City
ORGANIZER;CN="Council Clerk Allen":MAILTO:ballen@parmaheights.us
END:VEVENT
BEGIN:VEVENT
DTSTART;TZID=UTC:20240624T173000
DTEND;TZID=UTC:20240624T183000
DTSTAMP:20260422T122505
CREATED:20240614T195657Z
LAST-MODIFIED:20240618T194012Z
UID:10000145-1719250200-1719253800@parmaheightsoh.gov
SUMMARY:Council Safety Committee
DESCRIPTION:Chairwoman Maruschak has called a City Council Safety Committee meeting. \nSafety Committee Agenda 06 24 2024
URL:https://parmaheightsoh.gov/event/council-safety-committee/
LOCATION:City Hall
CATEGORIES:City
ORGANIZER;CN="Council Clerk Allen":MAILTO:ballen@parmaheights.us
END:VEVENT
BEGIN:VEVENT
DTSTART;TZID=UTC:20240624T140000
DTEND;TZID=UTC:20240624T143000
DTSTAMP:20260422T122505
CREATED:20240614T193920Z
LAST-MODIFIED:20240614T193920Z
UID:10000143-1719237600-1719239400@parmaheightsoh.gov
SUMMARY:Records Commission Meeting
DESCRIPTION:Please be advised that a Records Commission meeting will be held at City Hall on June 24th at 2:00 p.m. \nRC – 06 24 2024 Agenda
URL:https://parmaheightsoh.gov/event/records-commission-meeting/
LOCATION:City Hall
CATEGORIES:City
ORGANIZER;CN="Council Clerk Allen":MAILTO:ballen@parmaheights.us
END:VEVENT
BEGIN:VEVENT
DTSTART;TZID=UTC:20240620T181500
DTEND;TZID=UTC:20240620T184500
DTSTAMP:20260422T122505
CREATED:20240614T181703Z
LAST-MODIFIED:20240617T194113Z
UID:10000142-1718907300-1718909100@parmaheightsoh.gov
SUMMARY:Civil Service Commission
DESCRIPTION:The Civil Service Commission will be meeting on June 20th at 6:15 p.m. \nJune 20 2024 Agenda \n 
URL:https://parmaheightsoh.gov/event/civil-service-commission/
LOCATION:City Hall
CATEGORIES:City
ORGANIZER;CN="Council Clerk Allen":MAILTO:ballen@parmaheights.us
END:VEVENT
BEGIN:VEVENT
DTSTART;TZID=UTC:20240617T190000
DTEND;TZID=UTC:20240617T200000
DTSTAMP:20260422T122505
CREATED:20240510T161718Z
LAST-MODIFIED:20240614T191842Z
UID:10000125-1718650800-1718654400@parmaheightsoh.gov
SUMMARY:Charter Review Commission
DESCRIPTION:Thank you for your interest in the City of Parma Heights. \n6.17.24 Agenda  \n 
URL:https://parmaheightsoh.gov/event/charter-review-commission-4/
LOCATION:City Hall
CATEGORIES:City
ORGANIZER;CN="Council Clerk Allen":MAILTO:ballen@parmaheights.us
END:VEVENT
BEGIN:VEVENT
DTSTART;TZID=UTC:20240617T180000
DTEND;TZID=UTC:20240617T183000
DTSTAMP:20260422T122505
CREATED:20240604T154751Z
LAST-MODIFIED:20240604T154751Z
UID:10000139-1718647200-1718649000@parmaheightsoh.gov
SUMMARY:Board of Zoning Appeals
DESCRIPTION:Thank you for your interest in the City of Parma Heights.  Please click below to view the agenda for this upcoming meeting. \nCase 2024 – 03 Susan Ryder\, 6364 Dellrose Drive PPN 472-07-055
URL:https://parmaheightsoh.gov/event/board-of-zoning-appeals-3/
LOCATION:City Hall
CATEGORIES:City
ORGANIZER;CN="Council Clerk Allen":MAILTO:ballen@parmaheights.us
END:VEVENT
BEGIN:VEVENT
DTSTART;TZID=UTC:20240610T190000
DTEND;TZID=UTC:20240610T200000
DTSTAMP:20260422T122505
CREATED:20240607T204017Z
LAST-MODIFIED:20240607T204017Z
UID:10000140-1718046000-1718049600@parmaheightsoh.gov
SUMMARY:City Council Meeting
DESCRIPTION:Thank you for your interest in the City of Parma Heights. \nCC PACKET 6 10 2024 \n 
URL:https://parmaheightsoh.gov/event/city-council-meeting-17/
LOCATION:City Hall
CATEGORIES:City
ORGANIZER;CN="Council Clerk Allen":MAILTO:ballen@parmaheights.us
END:VEVENT
BEGIN:VEVENT
DTSTART;TZID=UTC:20240603T190000
DTEND;TZID=UTC:20240603T200000
DTSTAMP:20260422T122505
CREATED:20240510T161816Z
LAST-MODIFIED:20240531T170806Z
UID:10000128-1717441200-1717444800@parmaheightsoh.gov
SUMMARY:Charter Review Commission
DESCRIPTION:Thank you for your interest in the City of Parma Heights.  Please click below to view the agenda for this meeting. \n6.3.24 Agenda w attachment
URL:https://parmaheightsoh.gov/event/charter-review-commission-7/
LOCATION:City Hall
CATEGORIES:City
ORGANIZER;CN="Council Clerk Allen":MAILTO:ballen@parmaheights.us
END:VEVENT
BEGIN:VEVENT
DTSTART;TZID=UTC:20240603T173000
DTEND;TZID=UTC:20240603T183000
DTSTAMP:20260422T122505
CREATED:20240529T192012Z
LAST-MODIFIED:20240531T140149Z
UID:10000138-1717435800-1717439400@parmaheightsoh.gov
SUMMARY:Planning Commission Meeting
DESCRIPTION:The Planning Commission will be meeting\, please click the link below to view the agenda. \n06 03 2024 Planning agenda \nThank you\, \n 
URL:https://parmaheightsoh.gov/event/planning-commission-meeting/
CATEGORIES:City
ORGANIZER;CN="Council Clerk Allen":MAILTO:ballen@parmaheights.us
END:VEVENT
BEGIN:VEVENT
DTSTART;TZID=UTC:20240528T190000
DTEND;TZID=UTC:20240528T200000
DTSTAMP:20260422T122505
CREATED:20240523T183555Z
LAST-MODIFIED:20240524T211608Z
UID:10000135-1716922800-1716926400@parmaheightsoh.gov
SUMMARY:City Council Meeting
DESCRIPTION:Thank you for your interest in the City of Parma Heights. \nCC PACEKT 5 28 2024 \n 
URL:https://parmaheightsoh.gov/event/city-council-meeting-16/
LOCATION:City Hall
CATEGORIES:City
ORGANIZER;CN="Council Clerk Allen":MAILTO:ballen@parmaheights.us
END:VEVENT
BEGIN:VEVENT
DTSTART;TZID=UTC:20240528T174500
DTEND;TZID=UTC:20240528T183000
DTSTAMP:20260422T122505
CREATED:20240523T183506Z
LAST-MODIFIED:20240523T200310Z
UID:10000134-1716918300-1716921000@parmaheightsoh.gov
SUMMARY:Recreation Committee Meeting
DESCRIPTION:The Safety Committee Chair\, Councilwoman Maruschak has called a Recreation Committee Meeting. \nCity Council Recreation Committee Meeting 05 28 2024 \n  \nThank you\, \n 
URL:https://parmaheightsoh.gov/event/recreation-committee-meeting-2/
CATEGORIES:City
ORGANIZER;CN="Council Clerk Allen":MAILTO:ballen@parmaheights.us
END:VEVENT
BEGIN:VEVENT
DTSTART;VALUE=DATE:20240527
DTEND;VALUE=DATE:20240528
DTSTAMP:20260422T122505
CREATED:20240523T184139Z
LAST-MODIFIED:20240523T184139Z
UID:10000137-1716768000-1716854399@parmaheightsoh.gov
SUMMARY:Memorial Day
DESCRIPTION:Parma Heights City Hall will be closed Monday\, May 27\, 2024 in observance of Memorial Day. \n 
URL:https://parmaheightsoh.gov/event/memorial-day/
LOCATION:City Hall
CATEGORIES:City
ORGANIZER;CN="Council Clerk Allen":MAILTO:ballen@parmaheights.us
END:VEVENT
BEGIN:VEVENT
DTSTART;TZID=UTC:20240520T190000
DTEND;TZID=UTC:20240520T200000
DTSTAMP:20260422T122505
CREATED:20240516T203018Z
LAST-MODIFIED:20240520T140542Z
UID:10000133-1716231600-1716235200@parmaheightsoh.gov
SUMMARY:Charter Review Commission
DESCRIPTION:  \nThank you for your interest in the City of Parma Heights. \nPlease click the link below to view the agenda. \n5.20.24 Full Agenda CRC \n 
URL:https://parmaheightsoh.gov/event/charter-review-commission-8/
LOCATION:City Hall
CATEGORIES:City
ORGANIZER;CN="Council Clerk Allen":MAILTO:ballen@parmaheights.us
END:VEVENT
BEGIN:VEVENT
DTSTART;TZID=UTC:20240520T180000
DTEND;TZID=UTC:20240520T190000
DTSTAMP:20260422T122505
CREATED:20240514T163739Z
LAST-MODIFIED:20240514T163739Z
UID:10000130-1716228000-1716231600@parmaheightsoh.gov
SUMMARY:Board of Zoning Appeals
DESCRIPTION:Board of Zoning Appeals meeting will be held on May 20th at 6:00 p.m. \nPlease click below to view the agenda. \nCase 2024 – 02 Hertz Rental
URL:https://parmaheightsoh.gov/event/board-of-zoning-appeals-2/
CATEGORIES:City
ORGANIZER;CN="Council Clerk Allen":MAILTO:ballen@parmaheights.us
END:VEVENT
BEGIN:VEVENT
DTSTART;TZID=UTC:20240515T164500
DTEND;TZID=UTC:20240515T173000
DTSTAMP:20260422T122505
CREATED:20240510T192818Z
LAST-MODIFIED:20240510T193248Z
UID:10000129-1715791500-1715794200@parmaheightsoh.gov
SUMMARY:Safety Committee Meeting
DESCRIPTION:The Safety Committee Chair\, Councilwoman Maruschak has called a Safety Committee Meeting. \nCity Council Safety Committee Meeting 05 15 2024 \nThank you\, \n 
URL:https://parmaheightsoh.gov/event/safety-committee-meeting-3/
CATEGORIES:City
ORGANIZER;CN="Council Clerk Allen":MAILTO:ballen@parmaheights.us
END:VEVENT
BEGIN:VEVENT
DTSTART;TZID=UTC:20240514T173000
DTEND;TZID=UTC:20240514T183000
DTSTAMP:20260422T122505
CREATED:20240412T185245Z
LAST-MODIFIED:20240510T195134Z
UID:10000117-1715707800-1715711400@parmaheightsoh.gov
SUMMARY:Utilities and Streets Committee
DESCRIPTION:Please click the link below to view the Utilities and Streets Committee agenda. \nMay 14 2024 Agenda
URL:https://parmaheightsoh.gov/event/utilities-and-streets-committee/
LOCATION:City Hall
CATEGORIES:City
ORGANIZER;CN="Council Clerk Allen":MAILTO:ballen@parmaheights.us
END:VEVENT
END:VCALENDAR