BEGIN:VCALENDAR
VERSION:2.0
PRODID:-//City of Parma Heights - ECPv6.15.20//NONSGML v1.0//EN
CALSCALE:GREGORIAN
METHOD:PUBLISH
X-ORIGINAL-URL:https://parmaheightsoh.gov
X-WR-CALDESC:Events for City of Parma Heights
REFRESH-INTERVAL;VALUE=DURATION:PT1H
X-Robots-Tag:noindex
X-PUBLISHED-TTL:PT1H
BEGIN:VTIMEZONE
TZID:UTC
BEGIN:STANDARD
TZOFFSETFROM:+0000
TZOFFSETTO:+0000
TZNAME:UTC
DTSTART:20250101T000000
END:STANDARD
END:VTIMEZONE
BEGIN:VEVENT
DTSTART;TZID=UTC:20261109T190000
DTEND;TZID=UTC:20261109T193000
DTSTAMP:20260423T084719
CREATED:20251222T180411Z
LAST-MODIFIED:20251222T180411Z
UID:10000443-1794250800-1794252600@parmaheightsoh.gov
SUMMARY:City Council
DESCRIPTION:Our regularly scheduled City Council meeting is scheduled for this day.  Please mark your calendar accordingly and check back closer to the date of the meeting to view the agenda. \nThank you for your continued interest in the City of Parma Heights.
URL:https://parmaheightsoh.gov/event/city-council-19/
LOCATION:City Hall
CATEGORIES:City
ORGANIZER;CN="Council Clerk Allen":MAILTO:ballen@parmaheights.us
END:VEVENT
BEGIN:VEVENT
DTSTART;TZID=UTC:20261114T090000
DTEND;TZID=UTC:20261114T120000
DTSTAMP:20260423T084719
CREATED:20251212T212111Z
LAST-MODIFIED:20251212T212111Z
UID:10000423-1794646800-1794657600@parmaheightsoh.gov
SUMMARY:Campaign Sign Collection
DESCRIPTION:All events will be held at the Parma Heights Service Garage in the Greenbrier Commons\nAll events will be held from 9:00 a.m. to noon\nProof of residency is required – for residential use only.\nPlease see below for further details for each event.\nPlease contact the Service Department at 440.884.9607 for additional information or questions on any event.\nThe Cuyahoga County Solid Waste District is the leading resource in Cuyahoga County for information\, expertise and programs that support sustainable materials management and reduce environmental impact waste. For more details visit; www.cuyahogarecyles.org \n\nBoth the sign and the holder can be recycled.
URL:https://parmaheightsoh.gov/event/campaign-sign-collection-2/
LOCATION:Service Garage at Greenbrier Commons
CATEGORIES:City
ATTACH;FMTTYPE=image/png:https://parmaheightsoh.gov/wp-content/uploads/2025/12/Recycle-symbol.png
END:VEVENT
BEGIN:VEVENT
DTSTART;TZID=UTC:20261123T190000
DTEND;TZID=UTC:20261123T193000
DTSTAMP:20260423T084719
CREATED:20251222T180446Z
LAST-MODIFIED:20251222T180446Z
UID:10000444-1795460400-1795462200@parmaheightsoh.gov
SUMMARY:City Council
DESCRIPTION:Our regularly scheduled City Council meeting is scheduled for this day.  Please mark your calendar accordingly and check back closer to the date of the meeting to view the agenda. \nThank you for your continued interest in the City of Parma Heights.
URL:https://parmaheightsoh.gov/event/city-council-20/
LOCATION:City Hall
CATEGORIES:City
ORGANIZER;CN="Council Clerk Allen":MAILTO:ballen@parmaheights.us
END:VEVENT
BEGIN:VEVENT
DTSTART;TZID=UTC:20261214T190000
DTEND;TZID=UTC:20261214T193000
DTSTAMP:20260423T084719
CREATED:20251222T180517Z
LAST-MODIFIED:20251222T180517Z
UID:10000445-1797274800-1797276600@parmaheightsoh.gov
SUMMARY:City Council
DESCRIPTION:Our regularly scheduled City Council meeting is scheduled for this day.  Please mark your calendar accordingly and check back closer to the date of the meeting to view the agenda. \nThank you for your continued interest in the City of Parma Heights.
URL:https://parmaheightsoh.gov/event/city-council-21/
LOCATION:City Hall
CATEGORIES:City
ORGANIZER;CN="Council Clerk Allen":MAILTO:ballen@parmaheights.us
END:VEVENT
END:VCALENDAR