BEGIN:VCALENDAR
VERSION:2.0
PRODID:-//City of Parma Heights - ECPv6.15.20//NONSGML v1.0//EN
CALSCALE:GREGORIAN
METHOD:PUBLISH
X-WR-CALNAME:City of Parma Heights
X-ORIGINAL-URL:https://parmaheightsoh.gov
X-WR-CALDESC:Events for City of Parma Heights
REFRESH-INTERVAL;VALUE=DURATION:PT1H
X-Robots-Tag:noindex
X-PUBLISHED-TTL:PT1H
BEGIN:VTIMEZONE
TZID:UTC
BEGIN:STANDARD
TZOFFSETFROM:+0000
TZOFFSETTO:+0000
TZNAME:UTC
DTSTART:20250101T000000
END:STANDARD
END:VTIMEZONE
BEGIN:VEVENT
DTSTART;TZID=UTC:20260323T190000
DTEND;TZID=UTC:20260323T193000
DTSTAMP:20260422T225059
CREATED:20251222T175459Z
LAST-MODIFIED:20260321T161333Z
UID:10000432-1774292400-1774294200@parmaheightsoh.gov
SUMMARY:City Council
DESCRIPTION:CC Packet 3.23.26
URL:https://parmaheightsoh.gov/event/city-council-8/
LOCATION:City Hall
CATEGORIES:City
ORGANIZER;CN="Council Clerk Allen":MAILTO:ballen@parmaheights.us
END:VEVENT
BEGIN:VEVENT
DTSTART;TZID=UTC:20260328T130000
DTEND;TZID=UTC:20260328T143000
DTSTAMP:20260422T225059
CREATED:20260123T173603Z
LAST-MODIFIED:20260123T173843Z
UID:10000457-1774702800-1774708200@parmaheightsoh.gov
SUMMARY:
DESCRIPTION:Come rain or shine\, the Parma Heights City Council is holding it’s first annual Easter Egg Hunt at Nathan Hale Park on March 28\, 2026.  Hunt will begin for residents only\, promptly at 1:30 p.m. but the Easter Bunny will be available from 1:00 p.m. to 2:30 p.m. for photos and visits.  Each child (ages 1 -10) must be accompanied by an adult.  Signage will be posted indicating where each age group should meet.  Please register at  https://forms.gle/DpXg5dYTiiMS25RV8 or use the QR Code below by March 23\, 2026.  There is no charge for this community event. \n 
URL:https://parmaheightsoh.gov/event/7948/
LOCATION:Nathan Hale Park\, 7075 Parma Park Blvd\, Parma Heights\, OH\, United States
ATTACH;FMTTYPE=image/jpeg:https://parmaheightsoh.gov/wp-content/uploads/2026/01/QR-CODE-EASTER-HUNT-2026.jpg
ORGANIZER;CN="Council Clerk Allen":MAILTO:ballen@parmaheights.us
END:VEVENT
BEGIN:VEVENT
DTSTART;TZID=UTC:20260328T130000
DTEND;TZID=UTC:20260328T143000
DTSTAMP:20260422T225059
CREATED:20260227T170043Z
LAST-MODIFIED:20260227T170440Z
UID:10000465-1774702800-1774708200@parmaheightsoh.gov
SUMMARY:2026 Easter Egg Hunt
DESCRIPTION:                                                                                           \nCome rain or shine\, the Parma Heights City Council is holding it’s first annual Easter Egg Hunt at Nathan Hale Park on March 28\, 2026.  Hunt will begin for residents only\, promptly at 1:30 p.m. but the Easter Bunny will be available from 1:00 p.m. to 2:30 p.m. for photos and visits.  Each child (ages 1 -10) must be accompanied by an adult.  Signage will be posted indicating where each age group should meet.  Please register at  https://forms.gle/DpXg5dYTiiMS25RV8 or use the QR Code below by March 23\, 2026.  There is no charge for this community event. \n                                                                                                                             \n  \n  \n 
URL:https://parmaheightsoh.gov/event/2026-easter-egg-hunt/
LOCATION:Nathan Hale Park\, 7075 Parma Park Blvd\, Parma Heights\, OH\, United States
CATEGORIES:City
ORGANIZER;CN="Council Clerk Allen":MAILTO:ballen@parmaheights.us
END:VEVENT
BEGIN:VEVENT
DTSTART;TZID=UTC:20260413T181500
DTEND;TZID=UTC:20260413T184500
DTSTAMP:20260422T225059
CREATED:20260410T185344Z
LAST-MODIFIED:20260410T185344Z
UID:10000470-1776104100-1776105900@parmaheightsoh.gov
SUMMARY:Safety Committee Meeting
DESCRIPTION:Safety Committee Agenda 4.13.26
URL:https://parmaheightsoh.gov/event/safety-committee-meeting-7/
LOCATION:City Hall
CATEGORIES:City
ORGANIZER;CN="Council Clerk Allen":MAILTO:ballen@parmaheights.us
END:VEVENT
BEGIN:VEVENT
DTSTART;TZID=UTC:20260413T184500
DTEND;TZID=UTC:20260413T190000
DTSTAMP:20260422T225059
CREATED:20260410T185218Z
LAST-MODIFIED:20260410T185846Z
UID:10000469-1776105900-1776106800@parmaheightsoh.gov
SUMMARY:Mayor's Caucus
DESCRIPTION:Caucus Agenda 4.13.26
URL:https://parmaheightsoh.gov/event/mayors-caucus-59/
LOCATION:City Hall
CATEGORIES:City
ORGANIZER;CN="Council Clerk Allen":MAILTO:ballen@parmaheights.us
END:VEVENT
BEGIN:VEVENT
DTSTART;TZID=UTC:20260413T190000
DTEND;TZID=UTC:20260413T193000
DTSTAMP:20260422T225059
CREATED:20260410T193504Z
LAST-MODIFIED:20260410T193504Z
UID:10000471-1776106800-1776108600@parmaheightsoh.gov
SUMMARY:City Council
DESCRIPTION:CC Packet 4.13.26
URL:https://parmaheightsoh.gov/event/city-council-9/
LOCATION:City Hall
CATEGORIES:City
ORGANIZER;CN="Council Clerk Allen":MAILTO:ballen@parmaheights.us
END:VEVENT
BEGIN:VEVENT
DTSTART;TZID=UTC:20260420T173000
DTEND;TZID=UTC:20260420T180000
DTSTAMP:20260422T225059
CREATED:20260417T144717Z
LAST-MODIFIED:20260417T144717Z
UID:10000472-1776706200-1776708000@parmaheightsoh.gov
SUMMARY:Recreation Commission
DESCRIPTION:Recreation April 20\, 2026 Agenda
URL:https://parmaheightsoh.gov/event/recreation-commission-5/
LOCATION:City Hall
CATEGORIES:City
ORGANIZER;CN="Council Clerk Allen":MAILTO:ballen@parmaheights.us
END:VEVENT
BEGIN:VEVENT
DTSTART;TZID=UTC:20260425T090000
DTEND;TZID=UTC:20260425T120000
DTSTAMP:20260422T225059
CREATED:20251212T211535Z
LAST-MODIFIED:20251212T211535Z
UID:10000420-1777107600-1777118400@parmaheightsoh.gov
SUMMARY:Community Shred Event
DESCRIPTION:All events will be held at the Parma Heights Service Garage in the Greenbrier Commons\nAll events will be held from 9:00 a.m. to noon\nProof of residency is required – for residential use only.\nPlease see below for further details for each event.\nPlease contact the Service Department at 440.884.9607 for additional information or questions on any event.\nThe Cuyahoga County Solid Waste District is the leading resource in Cuyahoga County for information\, expertise and programs that support sustainable materials management and reduce environmental impact waste. For more details visit; www.cuyahogarecyles.org \n\nPlease limit to 2 boxes per household.
URL:https://parmaheightsoh.gov/event/community-shred-event-5/
LOCATION:Service Garage at Greenbrier Commons
CATEGORIES:City
ATTACH;FMTTYPE=image/png:https://parmaheightsoh.gov/wp-content/uploads/2025/12/Recycle-symbol.png
END:VEVENT
BEGIN:VEVENT
DTSTART;TZID=UTC:20260425T130000
DTEND;TZID=UTC:20260425T160000
DTSTAMP:20260422T225059
CREATED:20260422T141157Z
LAST-MODIFIED:20260422T144934Z
UID:10000473-1777122000-1777132800@parmaheightsoh.gov
SUMMARY:Earth Day Celebration
DESCRIPTION:Come celebrate our most precious resource – Mother Earth \nJoin Us for our 5th Annual Earth Day Event!\nCelebrate our most precious resource – Mother Earth – at this fun-filled community event! \nLocation: Greenbrier Commons\nDate: April 25\, 2026\nTime: 1pm – 4pm \nEnjoy hands-on experiences with Satoo Reptiles & Aquatics. \nExciting Activities: Visit interactive tables with information\, games\, and more\, hosted by various community groups! \nDon’t miss out. Bring your friends and family for a day of learning\, fun\, and celebration!
URL:https://parmaheightsoh.gov/event/earth-day-celebration/
LOCATION:Greenbrier Commons
CATEGORIES:City,Recreation
END:VEVENT
BEGIN:VEVENT
DTSTART;TZID=UTC:20260427T190000
DTEND;TZID=UTC:20260427T193000
DTSTAMP:20260422T225059
CREATED:20251222T175618Z
LAST-MODIFIED:20251222T175618Z
UID:10000434-1777316400-1777318200@parmaheightsoh.gov
SUMMARY:City Council
DESCRIPTION:Our regularly scheduled City Council meeting is scheduled for this day.  Please mark your calendar accordingly and check back closer to the date of the meeting to view the agenda. \nThank you for your continued interest in the City of Parma Heights.
URL:https://parmaheightsoh.gov/event/city-council-10/
LOCATION:City Hall
CATEGORIES:City
ORGANIZER;CN="Council Clerk Allen":MAILTO:ballen@parmaheights.us
END:VEVENT
BEGIN:VEVENT
DTSTART;TZID=UTC:20260502T140000
DTEND;TZID=UTC:20260502T160000
DTSTAMP:20260422T225059
CREATED:20260422T141329Z
LAST-MODIFIED:20260422T144741Z
UID:10000474-1777730400-1777737600@parmaheightsoh.gov
SUMMARY:Spring Crafts at Cassidy Theatre
DESCRIPTION:Visit MyRec.com for more information. \nWe invite everyone to join us for a fun family-friendly craft activity hosted by Lisa Zaremba! Let your creativity shine as you decorate to your heart’s content. A snack and drinks will be provided! \nLimited seating per craft\, so pre-registration is required for each adult or child. We do request that you try to arrive at the program’s designated start time. \n 
URL:https://parmaheightsoh.gov/event/spring-crafts-at-cassidy-theatre/
LOCATION:Cassidy Theatre\, 6200 Pearl Road\, Parma Heights\, OH\, United States
CATEGORIES:City,Recreation
END:VEVENT
BEGIN:VEVENT
DTSTART;TZID=UTC:20260509T090000
DTEND;TZID=UTC:20260509T120000
DTSTAMP:20260422T225059
CREATED:20251212T205911Z
LAST-MODIFIED:20251212T210514Z
UID:10000415-1778317200-1778328000@parmaheightsoh.gov
SUMMARY:Household Hazardous Waste Collection
DESCRIPTION:All events will be held at the Parma Heights Service Garage in the Greenbrier Commons\nAll events will be held from 9:00 a.m. to noon\nProof of residency is required – for residential use only.\nPlease see below for further details for each event.\nPlease contact the Service Department at 440.884.9607 for additional information or questions on any event.\nThe Cuyahoga County Solid Waste District is the leading resource in Cuyahoga County for information\, expertise and programs that support sustainable materials management and reduce environmental impact waste. For more details visit; www.cuyahogarecyles.org \n\nHousehold Material Accepted:\n\nOil or solvent-based paint\, sealers\, primers\, or coatings (aerosols or liquids)\nVarnishes\, polyurethanes\, shellacs\nPaint thinner\, mineral spirits\, turpentine\nPesticides\, herbicides\, fungicides\nCaustic household cleaners\nPool Chemicals\nAutomotive fluids\, motor oil\, car batteries\nAdhesives\, roof tar\, driveway sealer\nKerosene\, gasoline\, lighter fluid\n\nMaterials NOT Accepted:\n\nLatex paint\n\nDisposal of Latex Paint – The Cuyahoga County Solid Waste District does not accept latex paint. Latex paint is comprised mostly of water and is not a hazardous material. To dispose of latex paint\, solidify and place in your curbside trash. This can be done by placing cat litter or sand in the can and leaving the lid off until the paint dries. Dried out paint and/or empty paint cans are not hazardous and should be placed in the regular rubbish.\n\n\nExplosives\, gun powder\, ammunition\, flares\nMedical Waste •\nPharmaceuticals\, medicine\, sharps\nRadioactive waste (i.e. smoke detectors)\nElectronics\, Appliances\nTires
URL:https://parmaheightsoh.gov/event/household-hazardous-waste-collection-8/
LOCATION:Service Garage at Greenbrier Commons
CATEGORIES:City
ATTACH;FMTTYPE=image/png:https://parmaheightsoh.gov/wp-content/uploads/2025/12/Recycle-symbol.png
END:VEVENT
BEGIN:VEVENT
DTSTART;TZID=UTC:20260511T190000
DTEND;TZID=UTC:20260511T193000
DTSTAMP:20260422T225059
CREATED:20251222T175715Z
LAST-MODIFIED:20251222T175715Z
UID:10000435-1778526000-1778527800@parmaheightsoh.gov
SUMMARY:City Council
DESCRIPTION:Our regularly scheduled City Council meeting is scheduled for this day.  Please mark your calendar accordingly and check back closer to the date of the meeting to view the agenda. \nThank you for your continued interest in the City of Parma Heights.
URL:https://parmaheightsoh.gov/event/city-council-11/
LOCATION:City Hall
CATEGORIES:City
ORGANIZER;CN="Council Clerk Allen":MAILTO:ballen@parmaheights.us
END:VEVENT
BEGIN:VEVENT
DTSTART;TZID=UTC:20260516T100000
DTEND;TZID=UTC:20260516T110000
DTSTAMP:20260422T225059
CREATED:20260422T223103Z
LAST-MODIFIED:20260422T223103Z
UID:10000484-1778925600-1778929200@parmaheightsoh.gov
SUMMARY:Summer Outdoor Yoga at Radlick Park
DESCRIPTION:Summer Outdoor Yoga at Radlick Park \nVisit MyRec.com for more information. \nClasses scheduled on the following Saturdays at 10am:\nMay 16\, May 30\, 6/13\, 6/27\, 7/11\, 7/25\, 8/8\, 8/22\, 9/12\, 9/26
URL:https://parmaheightsoh.gov/event/summer-outdoor-yoga-at-radlick-park/
LOCATION:Radlick Park\, Parma Heights
CATEGORIES:City,Recreation
END:VEVENT
BEGIN:VEVENT
DTSTART;TZID=UTC:20260516T100000
DTEND;TZID=UTC:20260516T120000
DTSTAMP:20260422T225059
CREATED:20260422T141453Z
LAST-MODIFIED:20260422T145240Z
UID:10000475-1778925600-1778932800@parmaheightsoh.gov
SUMMARY:Baseball & Softball Clinic at Kurtz Park
DESCRIPTION:Baseball & Softball Clinic at Kurtz Park from 10 am to 2pm.  Boys and girls ages 9-14 of all skill levels are welcome attend this free event.Visit MyRec.com for more information. \n 
URL:https://parmaheightsoh.gov/event/baseball-softball-clinic-at-kurtz-park/
LOCATION:Kurtz Park\, 6281 West 130th Street\, Parma Heights\, OH\, United States
CATEGORIES:City,Recreation
END:VEVENT
BEGIN:VEVENT
DTSTART;TZID=UTC:20260525T090000
DTEND;TZID=UTC:20260525T230000
DTSTAMP:20260422T225059
CREATED:20260422T141635Z
LAST-MODIFIED:20260422T141635Z
UID:10000476-1779699600-1779750000@parmaheightsoh.gov
SUMMARY:Memorial Day Parade
DESCRIPTION:The day’s events start at 9:15 in the Greenbrier Commons with a Memorial Wreath Ceremony.
URL:https://parmaheightsoh.gov/event/memorial-day-parade/
LOCATION:Greenbrier Commons
CATEGORIES:City,Recreation
END:VEVENT
BEGIN:VEVENT
DTSTART;TZID=UTC:20260526T190000
DTEND;TZID=UTC:20260526T193000
DTSTAMP:20260422T225059
CREATED:20251222T175746Z
LAST-MODIFIED:20251222T175746Z
UID:10000436-1779822000-1779823800@parmaheightsoh.gov
SUMMARY:City Council
DESCRIPTION:Our regularly scheduled City Council meeting is scheduled for this day.  Please mark your calendar accordingly and check back closer to the date of the meeting to view the agenda. \nThank you for your continued interest in the City of Parma Heights.
URL:https://parmaheightsoh.gov/event/city-council-12/
LOCATION:City Hall
CATEGORIES:City
ORGANIZER;CN="Council Clerk Allen":MAILTO:ballen@parmaheights.us
END:VEVENT
BEGIN:VEVENT
DTSTART;VALUE=DATE:20260528
DTEND;VALUE=DATE:20260529
DTSTAMP:20260422T225059
CREATED:20260115T215939Z
LAST-MODIFIED:20260115T215939Z
UID:10000451-1779926400-1780012799@parmaheightsoh.gov
SUMMARY:Curbside Rubbish- Holiday Delay
DESCRIPTION:Services will be delayed one day due to the holiday. Curbside garbage collection will be Thursday May 28th.
URL:https://parmaheightsoh.gov/event/curbside-rubbish-holiday-delay/
CATEGORIES:City
END:VEVENT
BEGIN:VEVENT
DTSTART;TZID=UTC:20260530T100000
DTEND;TZID=UTC:20260530T110000
DTSTAMP:20260422T225059
CREATED:20260422T223220Z
LAST-MODIFIED:20260422T223220Z
UID:10000485-1780135200-1780138800@parmaheightsoh.gov
SUMMARY:Summer Outdoor Yoga at Radlick Park
DESCRIPTION:Summer Outdoor Yoga at Radlick Park \nVisit MyRec.com for more information. \nClasses scheduled on the following Saturdays at 10am:\nMay 16\, May 30\, 6/13\, 6/27\, 7/11\, 7/25\, 8/8\, 8/22\, 9/12\, 9/26
URL:https://parmaheightsoh.gov/event/summer-outdoor-yoga-at-radlick-park-2/
LOCATION:Radlick Park\, Parma Heights
CATEGORIES:City,Recreation
END:VEVENT
BEGIN:VEVENT
DTSTART;TZID=UTC:20260530T130000
DTEND;TZID=UTC:20260530T160000
DTSTAMP:20260422T225059
CREATED:20260422T224625Z
LAST-MODIFIED:20260422T224625Z
UID:10000495-1780146000-1780156800@parmaheightsoh.gov
SUMMARY:Line Dancing at Cassidy Theatre
DESCRIPTION:Line Dancing -1pm to 4pm at Cassidy Theatre. \nVisit MyRec.com for more information.
URL:https://parmaheightsoh.gov/event/line-dancing-at-cassidy-theatre/
LOCATION:Cassidy Theatre\, 6200 Pearl Road\, Parma Heights\, OH\, United States
CATEGORIES:City,Recreation
END:VEVENT
BEGIN:VEVENT
DTSTART;TZID=UTC:20260608T190000
DTEND;TZID=UTC:20260608T193000
DTSTAMP:20260422T225059
CREATED:20251222T175954Z
LAST-MODIFIED:20251222T175954Z
UID:10000437-1780945200-1780947000@parmaheightsoh.gov
SUMMARY:City Council
DESCRIPTION:Our regularly scheduled City Council meeting is scheduled for this day.  Please mark your calendar accordingly and check back closer to the date of the meeting to view the agenda. \nThank you for your continued interest in the City of Parma Heights.
URL:https://parmaheightsoh.gov/event/city-council-13/
LOCATION:City Hall
CATEGORIES:City
ORGANIZER;CN="Council Clerk Allen":MAILTO:ballen@parmaheights.us
END:VEVENT
BEGIN:VEVENT
DTSTART;TZID=UTC:20260613T090000
DTEND;TZID=UTC:20260613T120000
DTSTAMP:20260422T225059
CREATED:20251212T210816Z
LAST-MODIFIED:20251212T210816Z
UID:10000418-1781341200-1781352000@parmaheightsoh.gov
SUMMARY:Recycle Computer Collection
DESCRIPTION:All events will be held at the Parma Heights Service Garage in the Greenbrier Commons\nAll events will be held from 9:00 a.m. to noon\nProof of residency is required – for residential use only.\nPlease see below for further details for each event.\nPlease contact the Service Department at 440.884.9607 for additional information or questions on any event.\nThe Cuyahoga County Solid Waste District is the leading resource in Cuyahoga County for information\, expertise and programs that support sustainable materials management and reduce environmental impact waste. For more details visit; www.cuyahogarecyles.org \n\nResidents can recycle unwanted home computer equipment includes CPU’s\, monitors\, keyboards\, mice\, printers\, terminals\, modems\, cables\, software\, and ink printer cartridges. Cell phones and their accessories are also accepted. **Televisions are not accepted at this event. Retailers and local companies do offer recycling services for these items. There is no ban on placing televisions and electronics in the local trash.
URL:https://parmaheightsoh.gov/event/recycle-computer-collection-3/
LOCATION:Service Garage at Greenbrier Commons
CATEGORIES:City
ATTACH;FMTTYPE=image/png:https://parmaheightsoh.gov/wp-content/uploads/2025/12/Recycle-symbol.png
END:VEVENT
BEGIN:VEVENT
DTSTART;TZID=UTC:20260613T100000
DTEND;TZID=UTC:20260613T230000
DTSTAMP:20260422T225059
CREATED:20260422T223514Z
LAST-MODIFIED:20260422T223852Z
UID:10000486-1781344800-1781391600@parmaheightsoh.gov
SUMMARY:Summer Outdoor Yoga at Radlick Park
DESCRIPTION:Summer Outdoor Yoga at Radlick Park \nVisit MyRec.com for more information. \nClasses scheduled on the following Saturdays at 10am:\nMay 16\, May 30\, 6/13\, 6/27\, 7/11\, 7/25\, 8/8\, 8/22\, 9/12\, 9/26
URL:https://parmaheightsoh.gov/event/summer-outdoor-yoga-at-radlick-park-3/
LOCATION:Radlick Park\, Parma Heights
CATEGORIES:City,Recreation
END:VEVENT
BEGIN:VEVENT
DTSTART;TZID=UTC:20260613T110000
DTEND;TZID=UTC:20260613T190000
DTSTAMP:20260422T225059
CREATED:20260422T141927Z
LAST-MODIFIED:20260422T141927Z
UID:10000477-1781348400-1781377200@parmaheightsoh.gov
SUMMARY:Parma Heights Pool Opens
DESCRIPTION:Join us as the community pool officially opens for the season! Cool off\, relax\, and enjoy a summer full of swimming\, sunshine\, and family fun.
URL:https://parmaheightsoh.gov/event/parma-heights-pool-opens/
LOCATION:Parma Heights Pool\, 6200 Pearl Rd\, Parma Heights\, OH\, 44130\, United States
CATEGORIES:City,Recreation
END:VEVENT
BEGIN:VEVENT
DTSTART;TZID=UTC:20260620T180000
DTEND;TZID=UTC:20260620T200000
DTSTAMP:20260422T225059
CREATED:20260422T142259Z
LAST-MODIFIED:20260422T145117Z
UID:10000478-1781978400-1781985600@parmaheightsoh.gov
SUMMARY:Father- Daughter Dance
DESCRIPTION:Calling all Dads! Join us from 6pm – 8pm at St. John Bosco-Bell Tower Hall for this inaugural event. \nCalling all Dads!\nCome join us for a fun-filled evening with your little girl at our upcoming Father-Daughter Dance! \nMusic and dancing\, appetizers\, dessert\, and refreshments will be provided! \nPre-registration is Required. Visit MyRec.com for more information.  \nLocation: St. John Bosco – Bell Tower Hall\nAddress:  6480 Pearl Rd.\, Parma Heights\nWhen:  Saturday\, June 20th from 6-8pm\nCost:  $35 for the first Father-daughter pair (non-resident is $40)\, and $10 for each additional daughter (non-resident is $13).\nAges 2years and older 
URL:https://parmaheightsoh.gov/event/father-daughter-dance/
LOCATION:St. John Bosco\, 6480 Pearl Road\, city of parma heights\, OH\, 44130\, United States
CATEGORIES:City,Recreation
END:VEVENT
BEGIN:VEVENT
DTSTART;TZID=UTC:20260622T190000
DTEND;TZID=UTC:20260622T193000
DTSTAMP:20260422T225059
CREATED:20251222T180041Z
LAST-MODIFIED:20251222T180041Z
UID:10000438-1782154800-1782156600@parmaheightsoh.gov
SUMMARY:City Council
DESCRIPTION:Our regularly scheduled City Council meeting is scheduled for this day.  Please mark your calendar accordingly and check back closer to the date of the meeting to view the agenda. \nThank you for your continued interest in the City of Parma Heights.
URL:https://parmaheightsoh.gov/event/city-council-14/
LOCATION:City Hall
CATEGORIES:City
ORGANIZER;CN="Council Clerk Allen":MAILTO:ballen@parmaheights.us
END:VEVENT
BEGIN:VEVENT
DTSTART;TZID=UTC:20260627T090000
DTEND;TZID=UTC:20260627T100000
DTSTAMP:20260422T225059
CREATED:20260422T223628Z
LAST-MODIFIED:20260422T223628Z
UID:10000487-1782550800-1782554400@parmaheightsoh.gov
SUMMARY:Summer Outdoor Yoga at Radlick Park
DESCRIPTION:Summer Outdoor Yoga at Radlick Park \nVisit MyRec.com for more information. \nClasses scheduled on the following Saturdays at 10am:\nMay 16\, May 30\, 6/13\, 6/27\, 7/11\, 7/25\, 8/8\, 8/22\, 9/12\, 9/26
URL:https://parmaheightsoh.gov/event/summer-outdoor-yoga-at-radlick-park-4/
LOCATION:Radlick Park\, Parma Heights
CATEGORIES:City,Recreation
END:VEVENT
BEGIN:VEVENT
DTSTART;TZID=UTC:20260711T100000
DTEND;TZID=UTC:20260711T110000
DTSTAMP:20260422T225059
CREATED:20260422T223745Z
LAST-MODIFIED:20260422T223745Z
UID:10000488-1783764000-1783767600@parmaheightsoh.gov
SUMMARY:Summer Outdoor Yoga at Radlick Park
DESCRIPTION:Summer Outdoor Yoga at Radlick Park \nVisit MyRec.com for more information. \nClasses scheduled on the following Saturdays at 10am:\nMay 16\, May 30\, 6/13\, 6/27\, 7/11\, 7/25\, 8/8\, 8/22\, 9/12\, 9/26
URL:https://parmaheightsoh.gov/event/summer-outdoor-yoga-at-radlick-park-5/
LOCATION:Radlick Park\, Parma Heights
CATEGORIES:City,Recreation
END:VEVENT
BEGIN:VEVENT
DTSTART;TZID=UTC:20260712T183000
DTEND;TZID=UTC:20260712T183000
DTSTAMP:20260422T225059
CREATED:20260422T142621Z
LAST-MODIFIED:20260422T144200Z
UID:10000483-1783881000-1783881000@parmaheightsoh.gov
SUMMARY:Summer Concerts at Nathan Hale Park
DESCRIPTION:Summer Concerts at Nathan Hale Park starting at 6:30: Faction Cleveland – More than just a top 40 cover band…Faction is a musically inspired party movement. \nJuly 19 Summer Concert at Nathan Hale Park starting at 6:30: Akron Symphonic Winds \nJuly 26 Summer Concert at Nathan Hale Park starting at 6:30: Classic Mellow Rock \nAugust 2 Summer Concert at Nathan Hale Park starting at 6:30: Hayden Grove \nAugust 9 Summer Concert at Nathan Hale Park starting at 6:30: Masterpiece \n 
URL:https://parmaheightsoh.gov/event/summer-concert-at-nathan-hale-park/
LOCATION:Nathan Hale Park\, 7075 Parma Park Blvd\, Parma Heights\, OH\, United States
CATEGORIES:City,Recreation
END:VEVENT
BEGIN:VEVENT
DTSTART;VALUE=DATE:20260716
DTEND;VALUE=DATE:20260719
DTSTAMP:20260422T225059
CREATED:20260209T154417Z
LAST-MODIFIED:20260220T171851Z
UID:10000459-1784160000-1784419199@parmaheightsoh.gov
SUMMARY:City Wide Yard Sale
DESCRIPTION:Please check back for information on how to register.
URL:https://parmaheightsoh.gov/event/city-wide-yard-sale-2/
CATEGORIES:City
ORGANIZER;CN="Council Clerk Allen":MAILTO:ballen@parmaheights.us
END:VEVENT
END:VCALENDAR