BEGIN:VCALENDAR
VERSION:2.0
PRODID:-//City of Parma Heights - ECPv6.15.20//NONSGML v1.0//EN
CALSCALE:GREGORIAN
METHOD:PUBLISH
X-WR-CALNAME:City of Parma Heights
X-ORIGINAL-URL:https://parmaheightsoh.gov
X-WR-CALDESC:Events for City of Parma Heights
REFRESH-INTERVAL;VALUE=DURATION:PT1H
X-Robots-Tag:noindex
X-PUBLISHED-TTL:PT1H
BEGIN:VTIMEZONE
TZID:UTC
BEGIN:STANDARD
TZOFFSETFROM:+0000
TZOFFSETTO:+0000
TZNAME:UTC
DTSTART:20240101T000000
END:STANDARD
END:VTIMEZONE
BEGIN:VEVENT
DTSTART;TZID=UTC:20250527T173000
DTEND;TZID=UTC:20250527T180000
DTSTAMP:20260421T181715
CREATED:20250523T210513Z
LAST-MODIFIED:20250523T210513Z
UID:10000352-1748367000-1748368800@parmaheightsoh.gov
SUMMARY:Safety Committee
DESCRIPTION:Please click below to view the agenda for this meeting. \nSafety Committee Agenda 5.27.25
URL:https://parmaheightsoh.gov/event/safety-committee-6/
LOCATION:City Hall
CATEGORIES:City
ORGANIZER;CN="Council Clerk Allen":MAILTO:ballen@parmaheights.us
END:VEVENT
BEGIN:VEVENT
DTSTART;TZID=UTC:20250526T093000
DTEND;TZID=UTC:20250526T110000
DTSTAMP:20260421T181715
CREATED:20250507T153114Z
LAST-MODIFIED:20250507T153114Z
UID:10000335-1748251800-1748257200@parmaheightsoh.gov
SUMMARY:158th Annual Parma Heights Memorial Day Ceremony
DESCRIPTION:On Monday\, May 26\, 2025 the Parma Heights Memorial Day service will take place on the front lawn of the Parma-South Presbyterian Church at 6155 Pearl Road. 2025 marks the 158th consecutive year of the Parma Heights Memorial Day commemoration. The Parma Heights service is the oldest continuous in the state of Ohio.\n\nThe day’s events will begin with a service at the church will begin at 9:30 a.m.\, followed by the annual Memorial Day Parade and culminating in a brief wreath-laying ceremony at Parma Heights Cemetery\, also on Pearl Road\, scheduled to begin at about 10:45 a.m.
URL:https://parmaheightsoh.gov/event/158th-annual-parma-heights-memorial-day-ceremony/
LOCATION:Parma-South Presbyterian Church\, 6155 Pearl Rd.\, Parma Heights\, OH\, 44130\, United States
CATEGORIES:City,Recreation
END:VEVENT
BEGIN:VEVENT
DTSTART;VALUE=DATE:20250526
DTEND;VALUE=DATE:20250527
DTSTAMP:20260421T181715
CREATED:20250502T171833Z
LAST-MODIFIED:20250502T171854Z
UID:10000316-1748217600-1748303999@parmaheightsoh.gov
SUMMARY:CITY HALL CLOSED - MEMORIAL DAY
DESCRIPTION:In observance of Memorial Day.  City Hall is CLOSED.
URL:https://parmaheightsoh.gov/event/memorial-day-2/
CATEGORIES:City
END:VEVENT
BEGIN:VEVENT
DTSTART;TZID=UTC:20250525T120000
DTEND;TZID=UTC:20250525T130000
DTSTAMP:20260421T181715
CREATED:20250506T204620Z
LAST-MODIFIED:20250506T204620Z
UID:10000330-1748174400-1748178000@parmaheightsoh.gov
SUMMARY:Walk with Rec
DESCRIPTION:Walk with Rec\nSundays: May 25th\, July 27th\, August 31st\, September 28th\n12:00 PM – 1:00 PM at Nathan Hale Park \nProgram Info:https://parmaheightsoh.myrec.com/info/activities/program_details.aspx?ProgramID=29890
URL:https://parmaheightsoh.gov/event/walk-with-rec/
LOCATION:Nathan Hale Park\, 7075 Parma Park Blvd\, Parma Heights\, OH\, United States
CATEGORIES:City,Recreation
END:VEVENT
BEGIN:VEVENT
DTSTART;TZID=UTC:20250524T090000
DTEND;TZID=UTC:20250524T120000
DTSTAMP:20260421T181715
CREATED:20250506T202253Z
LAST-MODIFIED:20250523T194227Z
UID:10000320-1748077200-1748088000@parmaheightsoh.gov
SUMMARY:Parma Heights Sports Skills Event RESCHEDULED
DESCRIPTION:Due to the weather and conditions of the fields at Kurtz Park we have decided to cancel our Sports Skills Event and reschedule it for Saturday July 19th. \n  \nFree registration through MyRec: https://parmaheightsoh.myrec.com/info/activities/program_details.aspx?ProgramID=29888
URL:https://parmaheightsoh.gov/event/parma-heights-sports-skills-event/
LOCATION:Kurtz Park\, 6281 West 130th Street\, Parma Heights\, OH\, United States
CATEGORIES:Recreation
END:VEVENT
BEGIN:VEVENT
DTSTART;TZID=UTC:20250522T180000
DTEND;TZID=UTC:20250522T183000
DTSTAMP:20260421T181715
CREATED:20250515T170256Z
LAST-MODIFIED:20250520T164031Z
UID:10000349-1747936800-1747938600@parmaheightsoh.gov
SUMMARY:Civil Service Meeting
DESCRIPTION:Please find the agenda below for this meeting. \n5.22. 2025 Agenda \n 
URL:https://parmaheightsoh.gov/event/civil-service-meeting-4/
LOCATION:City Hall
CATEGORIES:City
ORGANIZER;CN="Council Clerk Allen":MAILTO:ballen@parmaheights.us
END:VEVENT
BEGIN:VEVENT
DTSTART;TZID=UTC:20250519T170000
DTEND;TZID=UTC:20250519T173000
DTSTAMP:20260421T181715
CREATED:20250516T133218Z
LAST-MODIFIED:20250516T202139Z
UID:10000350-1747674000-1747675800@parmaheightsoh.gov
SUMMARY:Council Meeting
DESCRIPTION:Thank you for your interest in the City of Parma Heights. \nCC Packet 5.19.2025
URL:https://parmaheightsoh.gov/event/council-meeting-11/
LOCATION:City Hall
CATEGORIES:City
ORGANIZER;CN="Council Clerk Allen":MAILTO:ballen@parmaheights.us
END:VEVENT
BEGIN:VEVENT
DTSTART;TZID=UTC:20250512T190000
DTEND;TZID=UTC:20250512T193000
DTSTAMP:20260421T181715
CREATED:20250430T185758Z
LAST-MODIFIED:20250509T204711Z
UID:10000314-1747076400-1747078200@parmaheightsoh.gov
SUMMARY:Council Meeting
DESCRIPTION:Thank you for your interest in the City of Parma Heights. \nCC Packet 5.12.25
URL:https://parmaheightsoh.gov/event/council-meeting-9/
LOCATION:City Hall
CATEGORIES:City
ORGANIZER;CN="Council Clerk Allen":MAILTO:ballen@parmaheights.us
END:VEVENT
BEGIN:VEVENT
DTSTART;TZID=UTC:20250512T181500
DTEND;TZID=UTC:20250512T190000
DTSTAMP:20260421T181715
CREATED:20250430T185650Z
LAST-MODIFIED:20250509T163240Z
UID:10000312-1747073700-1747076400@parmaheightsoh.gov
SUMMARY:Mayor's Caucus
DESCRIPTION:Please click on the link below to view the Mayor’s Caucus Agenda. \nCaucus Agenda 5.12.25 \n  \n 
URL:https://parmaheightsoh.gov/event/mayors-caucus-39/
LOCATION:City Hall
CATEGORIES:City
ORGANIZER;CN="Council Clerk Allen":MAILTO:ballen@parmaheights.us
END:VEVENT
BEGIN:VEVENT
DTSTART;TZID=UTC:20250512T174500
DTEND;TZID=UTC:20250512T181500
DTSTAMP:20260421T181715
CREATED:20250509T160823Z
LAST-MODIFIED:20250509T160823Z
UID:10000348-1747071900-1747073700@parmaheightsoh.gov
SUMMARY:Finance Committee Meeting
DESCRIPTION:Please click the link below to view the agenda for the Finance Committee. \nFinance Committee 5 12 25
URL:https://parmaheightsoh.gov/event/finance-committee-meeting-3/
LOCATION:City Hall
CATEGORIES:City
ORGANIZER;CN="Council Clerk Allen":MAILTO:ballen@parmaheights.us
END:VEVENT
BEGIN:VEVENT
DTSTART;TZID=UTC:20250510T100000
DTEND;TZID=UTC:20250510T110000
DTSTAMP:20260421T181715
CREATED:20250507T150733Z
LAST-MODIFIED:20250507T150733Z
UID:10000334-1746871200-1746874800@parmaheightsoh.gov
SUMMARY:Summer Yoga
DESCRIPTION:Every 2nd and 4th Saturday\, May – September 2025
URL:https://parmaheightsoh.gov/event/summer-yoga/
LOCATION:Greenbrier Commons
CATEGORIES:City,Recreation
END:VEVENT
BEGIN:VEVENT
DTSTART;TZID=UTC:20250510T090000
DTEND;TZID=UTC:20250510T120000
DTSTAMP:20260421T181715
CREATED:20241219T203055Z
LAST-MODIFIED:20241219T203206Z
UID:10000263-1746867600-1746878400@parmaheightsoh.gov
SUMMARY:Household Hazardous Waste Collection
DESCRIPTION:All events will be held at the Parma Heights Service Garage in the Greenbrier Commons\nAll events will be held from 9:00 a.m. to noon\nProof of residency is required – for residential use only.
URL:https://parmaheightsoh.gov/event/household-hazardous-waste-collection-5/
LOCATION:Greenbrier Commons
CATEGORIES:City
END:VEVENT
BEGIN:VEVENT
DTSTART;TZID=UTC:20250428T190000
DTEND;TZID=UTC:20250428T193000
DTSTAMP:20260421T181715
CREATED:20250327T141812Z
LAST-MODIFIED:20250425T194712Z
UID:10000306-1745866800-1745868600@parmaheightsoh.gov
SUMMARY:Council Meeting
DESCRIPTION:Thank you for your interest in the City of Parma Heights.  Please click on the link below to view the agenda for this meeting. \nCC Packet 4.28.25
URL:https://parmaheightsoh.gov/event/council-meeting-8/
LOCATION:City Hall
CATEGORIES:City
ORGANIZER;CN="Council Clerk Allen":MAILTO:ballen@parmaheights.us
END:VEVENT
BEGIN:VEVENT
DTSTART;TZID=UTC:20250428T181500
DTEND;TZID=UTC:20250428T190000
DTSTAMP:20260421T181715
CREATED:20250327T141942Z
LAST-MODIFIED:20250425T192546Z
UID:10000308-1745864100-1745866800@parmaheightsoh.gov
SUMMARY:Mayor's Caucus
DESCRIPTION:Please click on the link below to view the Mayor’s Caucus Agenda. \nCaucus Agenda Packet 4.28.25
URL:https://parmaheightsoh.gov/event/mayors-caucus-38/
LOCATION:City Hall
CATEGORIES:City
ORGANIZER;CN="Council Clerk Allen":MAILTO:ballen@parmaheights.us
END:VEVENT
BEGIN:VEVENT
DTSTART;TZID=UTC:20250426T090000
DTEND;TZID=UTC:20250426T120000
DTSTAMP:20260421T181715
CREATED:20241219T210024Z
LAST-MODIFIED:20241219T210024Z
UID:10000269-1745658000-1745668800@parmaheightsoh.gov
SUMMARY:Community Shred Event
DESCRIPTION:All events will be held at the Parma Heights Service Garage in the Greenbrier Commons\nAll events will be held from 9:00 a.m. to noon\nProof of residency is required – for residential use only.\nPlease limit to 2 boxes per household\n\n 
URL:https://parmaheightsoh.gov/event/community-shred-event-3/
LOCATION:Greenbrier Commons
CATEGORIES:City
END:VEVENT
BEGIN:VEVENT
DTSTART;TZID=UTC:20250414T190000
DTEND;TZID=UTC:20250414T193000
DTSTAMP:20260421T181715
CREATED:20250327T141738Z
LAST-MODIFIED:20250411T204359Z
UID:10000305-1744657200-1744659000@parmaheightsoh.gov
SUMMARY:Council Meeting
DESCRIPTION:Thank you for your interest in the City of Parma Heights.  Please click on the link below to view the agenda for this meeting. \nCC PACKET 4.14.25
URL:https://parmaheightsoh.gov/event/council-meeting-7/
LOCATION:City Hall
CATEGORIES:City
ORGANIZER;CN="Council Clerk Allen":MAILTO:ballen@parmaheights.us
END:VEVENT
BEGIN:VEVENT
DTSTART;TZID=UTC:20250414T183000
DTEND;TZID=UTC:20250414T190000
DTSTAMP:20260421T181715
CREATED:20250327T141914Z
LAST-MODIFIED:20250411T204310Z
UID:10000307-1744655400-1744657200@parmaheightsoh.gov
SUMMARY:Mayor's Caucus
DESCRIPTION:Please click on the link below to view the Mayor’s Caucus Agenda. \nCaucus Agenda 4.14.25
URL:https://parmaheightsoh.gov/event/mayors-caucus-37/
LOCATION:City Hall
CATEGORIES:City
ORGANIZER;CN="Council Clerk Allen":MAILTO:ballen@parmaheights.us
END:VEVENT
BEGIN:VEVENT
DTSTART;TZID=UTC:20250414T174500
DTEND;TZID=UTC:20250414T181500
DTSTAMP:20260421T181715
CREATED:20250327T143106Z
LAST-MODIFIED:20250411T194130Z
UID:10000310-1744652700-1744654500@parmaheightsoh.gov
SUMMARY:Recreation Commission Meeting
DESCRIPTION:Please click the link below to view the agenda for this meeting. \nThank you. \nRecreation April 14 2025 Agenda
URL:https://parmaheightsoh.gov/event/recreation-commission-meeting/
LOCATION:City Hall
CATEGORIES:City
ORGANIZER;CN="Council Clerk Allen":MAILTO:ballen@parmaheights.us
END:VEVENT
BEGIN:VEVENT
DTSTART;TZID=UTC:20250414T170000
DTEND;TZID=UTC:20250414T174500
DTSTAMP:20260421T181715
CREATED:20250327T142931Z
LAST-MODIFIED:20250411T193541Z
UID:10000309-1744650000-1744652700@parmaheightsoh.gov
SUMMARY:Safety Committee
DESCRIPTION:Please click the link below to view the agenda for this meeting. \nSafety Committee Agenda 4.14.25 \n 
URL:https://parmaheightsoh.gov/event/safety-committee-5/
LOCATION:City Hall
CATEGORIES:City
ORGANIZER;CN="Council Clerk Allen":MAILTO:ballen@parmaheights.us
END:VEVENT
BEGIN:VEVENT
DTSTART;TZID=UTC:20250324T190000
DTEND;TZID=UTC:20250324T193000
DTSTAMP:20260421T181715
CREATED:20250225T195529Z
LAST-MODIFIED:20250321T203150Z
UID:10000299-1742842800-1742844600@parmaheightsoh.gov
SUMMARY:Council Meeting
DESCRIPTION:Thank you for your interest in the City of Parma Heights.  Please click on the link below to view the agenda for this meeting. \nCC PACKET 3.24.25
URL:https://parmaheightsoh.gov/event/council-meeting-6/
LOCATION:City Hall
CATEGORIES:City
ORGANIZER;CN="Council Clerk Allen":MAILTO:ballen@parmaheights.us
END:VEVENT
BEGIN:VEVENT
DTSTART;TZID=UTC:20250324T183000
DTEND;TZID=UTC:20250324T190000
DTSTAMP:20260421T181715
CREATED:20250225T195300Z
LAST-MODIFIED:20250321T194857Z
UID:10000297-1742841000-1742842800@parmaheightsoh.gov
SUMMARY:Mayor's Caucus
DESCRIPTION:Please click on the link below to view the Mayor’s Caucus Agenda. \nCaucus Agenda 3.24.25
URL:https://parmaheightsoh.gov/event/mayors-caucus-36/
LOCATION:City Hall
CATEGORIES:City
ORGANIZER;CN="Council Clerk Allen":MAILTO:ballen@parmaheights.us
END:VEVENT
BEGIN:VEVENT
DTSTART;TZID=UTC:20250324T173000
DTEND;TZID=UTC:20250324T183000
DTSTAMP:20260421T181715
CREATED:20250315T132311Z
LAST-MODIFIED:20250321T133157Z
UID:10000304-1742837400-1742841000@parmaheightsoh.gov
SUMMARY:Utilities and Streets Committee
DESCRIPTION:Please click on the link below to view the agenda for this meeting. \n3 24 2025 Utilities and Streets
URL:https://parmaheightsoh.gov/event/utilities-and-streets-committee-4/
LOCATION:City Hall
CATEGORIES:City
ORGANIZER;CN="Council Clerk Allen":MAILTO:ballen@parmaheights.us
END:VEVENT
BEGIN:VEVENT
DTSTART;TZID=UTC:20250320T183000
DTEND;TZID=UTC:20250320T190000
DTSTAMP:20260421T181715
CREATED:20250315T125517Z
LAST-MODIFIED:20250318T193658Z
UID:10000303-1742495400-1742497200@parmaheightsoh.gov
SUMMARY:Civil Service Commission
DESCRIPTION:Please click below to view the agenda for this meeting. \n3 20 2025 Agenda \n 
URL:https://parmaheightsoh.gov/event/civil-service-commission-7/
LOCATION:City Hall
CATEGORIES:City
ORGANIZER;CN="Council Clerk Allen":MAILTO:ballen@parmaheights.us
END:VEVENT
BEGIN:VEVENT
DTSTART;TZID=UTC:20250318T170000
DTEND;TZID=UTC:20250318T173000
DTSTAMP:20260421T181715
CREATED:20250313T185022Z
LAST-MODIFIED:20250313T185022Z
UID:10000301-1742317200-1742319000@parmaheightsoh.gov
SUMMARY:Council Ad Hoc Committee
DESCRIPTION:Please click below to view the agenda for the upcoming meeting. \nAd Hoc Committee Agenda 3.18.25
URL:https://parmaheightsoh.gov/event/council-ad-hoc-committee/
LOCATION:City Hall
CATEGORIES:City
ORGANIZER;CN="Council Clerk Allen":MAILTO:ballen@parmaheights.us
END:VEVENT
BEGIN:VEVENT
DTSTART;TZID=UTC:20250317T180000
DTEND;TZID=UTC:20250317T183000
DTSTAMP:20260421T181715
CREATED:20250313T185222Z
LAST-MODIFIED:20250313T185222Z
UID:10000302-1742234400-1742236200@parmaheightsoh.gov
SUMMARY:Board of Zoning Appeals
DESCRIPTION:Please click below to view the agenda for the upcoming meeting. \nCase 2025-02
URL:https://parmaheightsoh.gov/event/board-of-zoning-appeals-8/
LOCATION:City Hall
CATEGORIES:City
ORGANIZER;CN="Council Clerk Allen":MAILTO:ballen@parmaheights.us
END:VEVENT
BEGIN:VEVENT
DTSTART;TZID=UTC:20250310T190000
DTEND;TZID=UTC:20250310T193000
DTSTAMP:20260421T181715
CREATED:20250225T195500Z
LAST-MODIFIED:20250307T205757Z
UID:10000298-1741633200-1741635000@parmaheightsoh.gov
SUMMARY:Council Meeting
DESCRIPTION:Thank you for your interest in the City of Parma Heights.  Please click on the link below to view the agenda for this meeting. \nCC Packet 3.10.25
URL:https://parmaheightsoh.gov/event/council-meeting-5/
LOCATION:City Hall
CATEGORIES:City
ORGANIZER;CN="Council Clerk Allen":MAILTO:ballen@parmaheights.us
END:VEVENT
BEGIN:VEVENT
DTSTART;TZID=UTC:20250310T181500
DTEND;TZID=UTC:20250310T190000
DTSTAMP:20260421T181715
CREATED:20250225T195027Z
LAST-MODIFIED:20250307T205654Z
UID:10000296-1741630500-1741633200@parmaheightsoh.gov
SUMMARY:Mayor's Caucus
DESCRIPTION:Please click on the link below to view the Mayor’s Caucus Agenda.  This agenda has not yet been published.  Please check back to view the upcoming agenda. \nCaucus Agenda 3.10.25
URL:https://parmaheightsoh.gov/event/mayors-caucus-35/
LOCATION:City Hall
CATEGORIES:City
ORGANIZER;CN="Council Clerk Allen":MAILTO:ballen@parmaheights.us
END:VEVENT
BEGIN:VEVENT
DTSTART;TZID=UTC:20250310T174500
DTEND;TZID=UTC:20250310T181500
DTSTAMP:20260421T181715
CREATED:20250307T205946Z
LAST-MODIFIED:20250307T210813Z
UID:10000300-1741628700-1741630500@parmaheightsoh.gov
SUMMARY:Safety Committee Meeting
DESCRIPTION:Please click below to view the agenda for the upcoming meeting. \nSafety Committee Agenda 3.10.25
URL:https://parmaheightsoh.gov/event/safety-committee-meeting-4/
LOCATION:City Hall
CATEGORIES:City
ORGANIZER;CN="Council Clerk Allen":MAILTO:ballen@parmaheights.us
END:VEVENT
BEGIN:VEVENT
DTSTART;TZID=UTC:20250224T190000
DTEND;TZID=UTC:20250224T193000
DTSTAMP:20260421T181715
CREATED:20250204T154403Z
LAST-MODIFIED:20250221T205922Z
UID:10000288-1740423600-1740425400@parmaheightsoh.gov
SUMMARY:Council Meeting
DESCRIPTION:Thank you for your interest in the City of Parma Heights. \nPlease click on the link below to view the agenda for this meeting. \nCC Packet 2.24.25
URL:https://parmaheightsoh.gov/event/council-meeting-4/
LOCATION:City Hall
CATEGORIES:City
ORGANIZER;CN="Council Clerk Allen":MAILTO:ballen@parmaheights.us
END:VEVENT
BEGIN:VEVENT
DTSTART;TZID=UTC:20250224T183000
DTEND;TZID=UTC:20250224T190000
DTSTAMP:20260421T181715
CREATED:20250221T190550Z
LAST-MODIFIED:20250221T201751Z
UID:10000295-1740421800-1740423600@parmaheightsoh.gov
SUMMARY:Mayor's Caucus
DESCRIPTION:Please click on the link below to view the Mayor’s Caucus Agenda \nCaucus Agenda 2.24.25
URL:https://parmaheightsoh.gov/event/mayors-caucus-34/
LOCATION:City Hall
CATEGORIES:City
ORGANIZER;CN="Council Clerk Allen":MAILTO:ballen@parmaheights.us
END:VEVENT
END:VCALENDAR