BEGIN:VCALENDAR
VERSION:2.0
PRODID:-//City of Parma Heights - ECPv6.15.20//NONSGML v1.0//EN
CALSCALE:GREGORIAN
METHOD:PUBLISH
X-WR-CALNAME:City of Parma Heights
X-ORIGINAL-URL:https://parmaheightsoh.gov
X-WR-CALDESC:Events for City of Parma Heights
REFRESH-INTERVAL;VALUE=DURATION:PT1H
X-Robots-Tag:noindex
X-PUBLISHED-TTL:PT1H
BEGIN:VTIMEZONE
TZID:UTC
BEGIN:STANDARD
TZOFFSETFROM:+0000
TZOFFSETTO:+0000
TZNAME:UTC
DTSTART:20210101T000000
END:STANDARD
END:VTIMEZONE
BEGIN:VEVENT
DTSTART;TZID=UTC:20230911T190000
DTEND;TZID=UTC:20230911T200000
DTSTAMP:20260420T191420
CREATED:20230829T145237Z
LAST-MODIFIED:20230908T162839Z
UID:10000032-1694458800-1694462400@parmaheightsoh.gov
SUMMARY:City Council Meeting
DESCRIPTION:9 11 2023 CC Packet \nCity Council meetings begin promptly at 7:00 p.m. in the City Council Chamber at Parma Heights City Hall.
URL:https://parmaheightsoh.gov/event/city-council-meeting/
CATEGORIES:City
END:VEVENT
BEGIN:VEVENT
DTSTART;TZID=UTC:20230911T183000
DTEND;TZID=UTC:20230911T190000
DTSTAMP:20260420T191420
CREATED:20230908T162659Z
LAST-MODIFIED:20230908T162659Z
UID:10000036-1694457000-1694458800@parmaheightsoh.gov
SUMMARY:Mayor's Caucus
DESCRIPTION:Caucus Agenda 9.11.23 \nMayor’s Caucus meeting will begin at 6:30 p.m.
URL:https://parmaheightsoh.gov/event/mayors-caucus-2/
CATEGORIES:City
ORGANIZER;CN="Council Clerk Allen":MAILTO:ballen@parmaheights.us
END:VEVENT
BEGIN:VEVENT
DTSTART;TZID=UTC:20230909T120000
DTEND;TZID=UTC:20230909T150000
DTSTAMP:20260420T191420
CREATED:20230830T144542Z
LAST-MODIFIED:20230831T211002Z
UID:10000034-1694260800-1694271600@parmaheightsoh.gov
SUMMARY:2023 Doggy Paddle Dog Swim
DESCRIPTION:Help us wrap up the season at the Parma Heights Pool with our 1st dog swim! \nRegister Here:https://cityofparmaheights.activityreg.com/selectactivity_t2.wcs?leaguesid=389 \n \nWelcome to the Parma Heights Dog Swim at the Parma Heights Municipal Pool. Today’s event is sponsored by the Parma Heights Recreation Department. All posted pool rules apply to today’s event. Please observe the following additional rules and regulations.\n• This event is open to dogs only.\n• Owners must be 18+ and are legally responsible for their dogs and any injuries they may cause.\n• Aggressive dogs are not permitted at any time. An aggressive dog is defined as a dog posing a threat to human beings or other dogs. See Parma Heights Codified Ordinance 618.24.\n• Any dog previously deemed to be vicious or dangerous\, as defined by Ohio law\, are prohibited.\n• Dogs must be licensed and vaccinated. If requested\, dog owners must be able to provide proof of vaccinations (Parvo\, Rabies\, and Distemper) as required by the State of Ohio.\n• Only dogs 4 months and older are permitted in the pool area.\n• Due to safety and sanitary concerns\, only dogs are allowed in the pool; pet owners are prohibited from entering the pool.\n• Lifeguards are present to maintain the safety of all human patrons. Lifeguards are not trained to assist dogs that may become tired or distressed. If you are not sure of your dog(s)’ swimming ability\, please keep them in the shallow pool.\n• Dog food and treats are not permitted inside the pool area.\n• Dogs must be leashed while entering and leaving the pool area.\n• Dogs off leash are limited to one dog per person inside the pool area.\n• Dogs must be under voice command at all times. If your dog can not be recalled you will ask to leave the facility.\n• The Manager-on-Duty is the final decision maker on any rules or policies in question. Any dog determined to be disruptive\, at the sole discretion of Parma Heights Recreation Department and personnel\, must be removed from the premises immediately. The Manager-on-Duty may implement additional rules for the safety of all involved.\n• The City reserves the right to refuse entry with or without cause\, for any reason\, including but not limited to the items cited in this notice.\nWe hope you enjoy today’s event. Please remember to clean up after your dog.
URL:https://parmaheightsoh.gov/event/doggy-paddle-dog-swim/
LOCATION:Parma Heights Pool\, 6200 Pearl Rd\, Parma Heights\, OH\, 44130\, United States
CATEGORIES:Recreation
END:VEVENT
BEGIN:VEVENT
DTSTART;TZID=UTC:20230909T090000
DTEND;TZID=UTC:20230909T120000
DTSTAMP:20260420T191420
CREATED:20220913T022252Z
LAST-MODIFIED:20230825T192114Z
UID:10000001-1694250000-1694260800@parmaheightsoh.gov
SUMMARY:Scrap Tire Recycle Event
DESCRIPTION:Parma Heights Service Garage at Greenbrier Commons. Proof of residency required. No rims or commercial/business tires.
URL:https://parmaheightsoh.gov/event/scrap-tire-recycle-day/
LOCATION:Service Garage at Greenbrier Commons
CATEGORIES:City
END:VEVENT
BEGIN:VEVENT
DTSTART;TZID=UTC:20230907T181500
DTEND;TZID=UTC:20230907T183000
DTSTAMP:20260420T191420
CREATED:20230819T021304Z
LAST-MODIFIED:20230901T194808Z
UID:10000020-1694110500-1694111400@parmaheightsoh.gov
SUMMARY:Civil Service Meeting
DESCRIPTION:September 7 2023 Agenda \nDate:  September 7\, 2023 \nTime:  6:15pm-6:30pm \nWhere:  Parma Heights City Hall
URL:https://parmaheightsoh.gov/event/civil-service-meeting/
LOCATION:City Hall
CATEGORIES:City
END:VEVENT
BEGIN:VEVENT
DTSTART;VALUE=DATE:20230904
DTEND;VALUE=DATE:20230905
DTSTAMP:20260420T191420
CREATED:20230502T032639Z
LAST-MODIFIED:20230825T183501Z
UID:10000016-1693785600-1693871999@parmaheightsoh.gov
SUMMARY:City Hall Closed  in observance of Labor Day
DESCRIPTION:
URL:https://parmaheightsoh.gov/event/city-hall-closed-4/
CATEGORIES:City
ATTACH;FMTTYPE=image/jpeg:https://parmaheightsoh.gov/wp-content/uploads/2023/05/patriotic-symbolism-american-flag-on-wooden-backg-2021-08-31-01-23-25-utc.jpg
END:VEVENT
BEGIN:VEVENT
DTSTART;TZID=UTC:20230821T190000
DTEND;TZID=UTC:20230821T200000
DTSTAMP:20260420T191420
CREATED:20230819T021157Z
LAST-MODIFIED:20230819T021323Z
UID:10000019-1692644400-1692648000@parmaheightsoh.gov
SUMMARY:Special Council Meeting
DESCRIPTION:Date: August 21\, 2023 \nTime: 7:00pm-8:00pm \nWhere:  Parma Heights City Hall \nView agenda here
URL:https://parmaheightsoh.gov/event/special-council-meeting/
LOCATION:City Hall
CATEGORIES:City
ATTACH;FMTTYPE=image/jpeg:https://parmaheightsoh.gov/wp-content/uploads/2023/01/meeting-hall-conference-classroom-business-me-2022-11-08-03-06-22-utc.jpg
END:VEVENT
BEGIN:VEVENT
DTSTART;TZID=UTC:20230821T183000
DTEND;TZID=UTC:20230821T193000
DTSTAMP:20260420T191420
CREATED:20230819T021006Z
LAST-MODIFIED:20230819T021037Z
UID:10000018-1692642600-1692646200@parmaheightsoh.gov
SUMMARY:Mayor’s Caucus
DESCRIPTION:Date:  August 21\, 2023 \nTime:  6:30pm-7:00pm \nWhere:  Council Chamber at City Hall \nView agenda here
URL:https://parmaheightsoh.gov/event/mayors-caucus/
LOCATION:City Hall
CATEGORIES:City
ATTACH;FMTTYPE=image/jpeg:https://parmaheightsoh.gov/wp-content/uploads/2023/01/IMG_9057-1.jpg
END:VEVENT
BEGIN:VEVENT
DTSTART;TZID=UTC:20230722T080000
DTEND;TZID=UTC:20230722T170000
DTSTAMP:20260420T191420
CREATED:20230502T031738Z
LAST-MODIFIED:20230502T031750Z
UID:10000012-1690012800-1690045200@parmaheightsoh.gov
SUMMARY:Christmas is July - TBD - Parma Heights Pool
DESCRIPTION:Christmas in July Dive-In to follow at 8:30
URL:https://parmaheightsoh.gov/event/christmas-is-july-tbd-parma-heights-pool/
LOCATION:Parma Heights Pool\, 6200 Pearl Rd\, Parma Heights\, OH\, 44130\, United States
CATEGORIES:Recreation
ATTACH;FMTTYPE=image/jpeg:https://parmaheightsoh.gov/wp-content/uploads/2023/05/gingerbread-cookies-iced-with-swimsuits-and-sungla-2022-11-07-07-44-43-utc.jpg
END:VEVENT
BEGIN:VEVENT
DTSTART;VALUE=DATE:20230704
DTEND;VALUE=DATE:20230705
DTSTAMP:20260420T191420
CREATED:20230502T032557Z
LAST-MODIFIED:20230503T042805Z
UID:10000015-1688428800-1688515199@parmaheightsoh.gov
SUMMARY:City Hall Closed In observance of Fourth of July
DESCRIPTION:
URL:https://parmaheightsoh.gov/event/city-hall-closed-3/
CATEGORIES:City
ATTACH;FMTTYPE=image/jpeg:https://parmaheightsoh.gov/wp-content/uploads/2023/05/patriotic-symbolism-american-flag-on-wooden-backg-2021-08-31-01-23-25-utc.jpg
END:VEVENT
BEGIN:VEVENT
DTSTART;TZID=UTC:20230624T170000
DTEND;TZID=UTC:20230624T170000
DTSTAMP:20260420T191420
CREATED:20230502T030640Z
LAST-MODIFIED:20230502T030655Z
UID:10000010-1687626000-1687626000@parmaheightsoh.gov
SUMMARY:Cardboard & Penny Boat Races - 5:00pm - Parma Heights Pool
DESCRIPTION:Cardboard & Penny Boat Races – 5:00pm – Parma Heights Pool
URL:https://parmaheightsoh.gov/event/cardboard-penny-boat-races-500pm-parma-heights-pool/
LOCATION:Parma Heights Pool\, 6200 Pearl Rd\, Parma Heights\, OH\, 44130\, United States
CATEGORIES:Recreation
ATTACH;FMTTYPE=image/jpeg:https://parmaheightsoh.gov/wp-content/uploads/2023/05/close-up-of-simple-small-white-origami-paper-boat-2022-02-23-02-21-54-utc.jpg
END:VEVENT
BEGIN:VEVENT
DTSTART;VALUE=DATE:20230619
DTEND;VALUE=DATE:20230620
DTSTAMP:20260420T191420
CREATED:20230502T032538Z
LAST-MODIFIED:20230517T043004Z
UID:10000014-1687132800-1687219199@parmaheightsoh.gov
SUMMARY:City Hall Closed In observance of Juneteenth
DESCRIPTION:In observance of Juneteenth
URL:https://parmaheightsoh.gov/event/city-hall-closed-2/
CATEGORIES:City
ATTACH;FMTTYPE=image/jpeg:https://parmaheightsoh.gov/wp-content/uploads/2023/05/patriotic-symbolism-american-flag-on-wooden-backg-2021-08-31-01-23-25-utc.jpg
END:VEVENT
BEGIN:VEVENT
DTSTART;TZID=UTC:20230617T203000
DTEND;TZID=UTC:20230617T203000
DTSTAMP:20260420T191420
CREATED:20230502T030242Z
LAST-MODIFIED:20230502T030242Z
UID:10000009-1687033800-1687033800@parmaheightsoh.gov
SUMMARY:Dive-in Movie - 8:30pm - Parma Heights Pool
DESCRIPTION:Dive-in Movie – 8:30pm – Parma Heights Pool
URL:https://parmaheightsoh.gov/event/dive-in-movie-830pm-parma-heights-pool/
LOCATION:Parma Heights Pool\, 6200 Pearl Rd\, Parma Heights\, OH\, 44130\, United States
CATEGORIES:Recreation
ATTACH;FMTTYPE=image/jpeg:https://parmaheightsoh.gov/wp-content/uploads/2023/05/modern-digital-cinema-camera-close-up-2022-12-16-11-46-23-utc.jpeg
END:VEVENT
BEGIN:VEVENT
DTSTART;TZID=UTC:20230603T170000
DTEND;TZID=UTC:20230603T170000
DTSTAMP:20260420T191420
CREATED:20230502T030006Z
LAST-MODIFIED:20230502T032720Z
UID:10000008-1685811600-1685811600@parmaheightsoh.gov
SUMMARY:Summer Kick-Off Party - 5:00pm - Parma Heights Pool
DESCRIPTION:Summer Kick-Off Party – 5:00pm – Parma Heights Pool
URL:https://parmaheightsoh.gov/event/summer-kick-off-party-500pm-parma-heights-pool/
LOCATION:Parma Heights Pool\, 6200 Pearl Rd\, Parma Heights\, OH\, 44130\, United States
CATEGORIES:Recreation
ATTACH;FMTTYPE=image/jpeg:https://parmaheightsoh.gov/wp-content/uploads/2023/03/happy-boy-and-a-yellow-duck-tube-in-the-pool-2022-12-16-00-24-41-utc.jpg
END:VEVENT
BEGIN:VEVENT
DTSTART;TZID=UTC:20230531T183000
DTEND;TZID=UTC:20230531T193000
DTSTAMP:20260420T191420
CREATED:20230502T025811Z
LAST-MODIFIED:20230502T025829Z
UID:10000007-1685557800-1685561400@parmaheightsoh.gov
SUMMARY:Solid Waste District Presentation - Recycling - 6:30pm - Community Rooms
DESCRIPTION:Solid Waste District Presentation – Recycling – 6:30pm – Community Rooms
URL:https://parmaheightsoh.gov/event/solid-waste-district-presentation-recycling-630pm-community-rooms/
LOCATION:Community Rooms
CATEGORIES:Recreation
ATTACH;FMTTYPE=image/jpeg:https://parmaheightsoh.gov/wp-content/uploads/2023/05/recycling-eco-concept-with-cardboard-recycle-sign-2021-09-03-18-55-13-utc.jpg
END:VEVENT
BEGIN:VEVENT
DTSTART;VALUE=DATE:20230529
DTEND;VALUE=DATE:20230530
DTSTAMP:20260420T191420
CREATED:20230502T032346Z
LAST-MODIFIED:20230503T042729Z
UID:10000013-1685318400-1685404799@parmaheightsoh.gov
SUMMARY:City Hall Closed In observance of Memorial Day
DESCRIPTION:In observance of Memorial Day
URL:https://parmaheightsoh.gov/event/city-hall-closed/
LOCATION:City Hall
ATTACH;FMTTYPE=image/jpeg:https://parmaheightsoh.gov/wp-content/uploads/2023/05/patriotic-symbolism-american-flag-on-wooden-backg-2021-08-31-01-23-25-utc.jpg
END:VEVENT
BEGIN:VEVENT
DTSTART;TZID=UTC:20230522T170000
DTEND;TZID=UTC:20230522T200000
DTSTAMP:20260420T191420
CREATED:20230502T025258Z
LAST-MODIFIED:20230502T025321Z
UID:10000006-1684774800-1684785600@parmaheightsoh.gov
SUMMARY:CPR Class - 5:00pm - Community Rooms
DESCRIPTION:Adult/Pediatric First Aid/CPR/AED\nThe 2021 Adult and Pediatric First Aid/CPR/AED blended learning course equips students to recognize and care for a variety of first aid\, breathing\, and cardiac emergencies involving adults\, children and infants. It is designed for students who need a certification that satisfies OSHA\, workplace or other regulatory requirements. This class is taught in a blended learning format and the online portion (accessed via mobile\, desktop or tablet) must be completed prior to attending the Instructor-led skills session. Upon successful completion\, a valid 2 year digital certificate for Adult and Pediatric First Aid/CPR/AED is issued.
URL:https://parmaheightsoh.gov/event/cpr-class-500pm-community-rooms/
CATEGORIES:Recreation
ATTACH;FMTTYPE=image/jpeg:https://parmaheightsoh.gov/wp-content/uploads/2023/05/cpr-training-outdoors-reanimation-procedure-on-cp-2021-08-26-16-53-36-utc.jpg
END:VEVENT
BEGIN:VEVENT
DTSTART;TZID=UTC:20230520T090000
DTEND;TZID=UTC:20230520T100000
DTSTAMP:20260420T191420
CREATED:20230502T024841Z
LAST-MODIFIED:20230502T024930Z
UID:10000005-1684573200-1684576800@parmaheightsoh.gov
SUMMARY:iNaturalist Hike - 12:00 pm - Greenbrier Commons (Meet at Cassidy Theatre)
DESCRIPTION:Learn to ID wildlife through the iNaturalist & Seek Apps on your phone!\nJoin Madi Bacci on a hike through Greenbrier Commons to learn about the benefits of being a citizen scientist! City iPad will be available to share if needed.
URL:https://parmaheightsoh.gov/event/inaturalist-hike-1200-pm-greenbrier-commons-meet-at-cassidy-theatre/
LOCATION:Greenbrier Commons
CATEGORIES:Recreation
ATTACH;FMTTYPE=image/jpeg:https://parmaheightsoh.gov/wp-content/uploads/2023/05/group-of-young-people-are-hiking-in-mountain-2022-04-06-18-45-54-utc.jpg
END:VEVENT
BEGIN:VEVENT
DTSTART;TZID=UTC:20230502T110000
DTEND;TZID=UTC:20230502T170000
DTSTAMP:20260420T191420
CREATED:20230502T031057Z
LAST-MODIFIED:20230502T031142Z
UID:10000011-1683025200-1683046800@parmaheightsoh.gov
SUMMARY:Chalk The Deck - 11:00 am
DESCRIPTION:
URL:https://parmaheightsoh.gov/event/chalk-the-deck-1100-am/
LOCATION:Parma Heights Pool\, 6200 Pearl Rd\, Parma Heights\, OH\, 44130\, United States
CATEGORIES:Recreation
ATTACH;FMTTYPE=image/jpeg:https://parmaheightsoh.gov/wp-content/uploads/2023/05/multicolor-chalk-on-chalkboard-2022-12-16-12-28-47-utc.jpg
END:VEVENT
BEGIN:VEVENT
DTSTART;TZID=UTC:20230401T080000
DTEND;TZID=UTC:20230401T170000
DTSTAMP:20260420T191420
CREATED:20230308T045139Z
LAST-MODIFIED:20230308T045144Z
UID:10000004-1680336000-1680368400@parmaheightsoh.gov
SUMMARY:Pool Day
DESCRIPTION:Parma Heights is a lovely suburb of Cleveland\, Ohio\, that offers a range of recreational activities for both residents and visitors. One of the most popular summertime activities in Parma Heights is spending a relaxing day at the community pool. \nLocated on West 130th Street\, the Parma Heights Community Pool is a perfect destination for individuals and families looking to cool off and have some fun in the sun. The pool features two large water slides\, a diving board\, and a kiddie area with shallow water and interactive play equipment.
URL:https://parmaheightsoh.gov/event/pool-day/
LOCATION:Parma Heights Pool\, 6200 Pearl Rd\, Parma Heights\, OH\, 44130\, United States
CATEGORIES:Recreation
ATTACH;FMTTYPE=image/jpeg:https://parmaheightsoh.gov/wp-content/uploads/2023/03/happy-boy-and-a-yellow-duck-tube-in-the-pool-2022-12-16-00-24-41-utc.jpg
END:VEVENT
BEGIN:VEVENT
DTSTART;TZID=UTC:20221022T163000
DTEND;TZID=UTC:20221022T183000
DTSTAMP:20260420T191420
CREATED:20220913T023001Z
LAST-MODIFIED:20230308T045159Z
UID:10000003-1666456200-1666463400@parmaheightsoh.gov
SUMMARY:Creatures on the Commons
DESCRIPTION:Greenbrier Commons \nFor more details contact Stacey Allen at 440-884-9606
URL:https://parmaheightsoh.gov/event/creatures-on-the-commons/
LOCATION:Greenbrier Commons
CATEGORIES:City
ATTACH;FMTTYPE=image/jpeg:https://parmaheightsoh.gov/wp-content/uploads/2022/09/halloween-animals-dog-ghost-among-scary-rye-pumpk-2021-10-27-20-08-09-utc.jpg
END:VEVENT
BEGIN:VEVENT
DTSTART;TZID=UTC:20220917T140000
DTEND;TZID=UTC:20220917T160000
DTSTAMP:20260420T191420
CREATED:20220913T022624Z
LAST-MODIFIED:20230308T045207Z
UID:10000002-1663423200-1663430400@parmaheightsoh.gov
SUMMARY:Tie-Dye In the Park
DESCRIPTION:Pre-registration is required for this event.  $2 per item\, bring a separate bag for each piece to be taken home.
URL:https://parmaheightsoh.gov/event/tie-dye-in-the-park/
LOCATION:Greenbrier Commons Lawn
CATEGORIES:City
ATTACH;FMTTYPE=image/jpeg:https://parmaheightsoh.gov/wp-content/uploads/2022/09/girl-making-silly-face-with-tie-dye-shirt-on-2021-10-12-17-00-38-utc.jpg
END:VEVENT
END:VCALENDAR