BEGIN:VCALENDAR
VERSION:2.0
PRODID:-//City of Parma Heights - ECPv6.15.20//NONSGML v1.0//EN
CALSCALE:GREGORIAN
METHOD:PUBLISH
X-WR-CALNAME:City of Parma Heights
X-ORIGINAL-URL:https://parmaheightsoh.gov
X-WR-CALDESC:Events for City of Parma Heights
REFRESH-INTERVAL;VALUE=DURATION:PT1H
X-Robots-Tag:noindex
X-PUBLISHED-TTL:PT1H
BEGIN:VTIMEZONE
TZID:UTC
BEGIN:STANDARD
TZOFFSETFROM:+0000
TZOFFSETTO:+0000
TZNAME:UTC
DTSTART:20250101T000000
END:STANDARD
END:VTIMEZONE
BEGIN:VEVENT
DTSTART;TZID=UTC:20260627T100000
DTEND;TZID=UTC:20260627T110000
DTSTAMP:20260424T180107
CREATED:20260422T223628Z
LAST-MODIFIED:20260422T225534Z
UID:10000487-1782554400-1782558000@parmaheightsoh.gov
SUMMARY:Summer Outdoor Yoga at Radlick Park
DESCRIPTION:Summer Outdoor Yoga at Radlick Park \nVisit MyRec.com for more information. \nClasses scheduled on the following Saturdays at 10am:\nMay 16\, May 30\, 6/13\, 6/27\, 7/11\, 7/25\, 8/8\, 8/22\, 9/12\, 9/26
URL:https://parmaheightsoh.gov/event/summer-outdoor-yoga-at-radlick-park-4/
LOCATION:Radlick Park\, Parma Heights
CATEGORIES:City,Recreation
END:VEVENT
BEGIN:VEVENT
DTSTART;TZID=UTC:20260711T100000
DTEND;TZID=UTC:20260711T110000
DTSTAMP:20260424T180107
CREATED:20260422T223745Z
LAST-MODIFIED:20260422T223745Z
UID:10000488-1783764000-1783767600@parmaheightsoh.gov
SUMMARY:Summer Outdoor Yoga at Radlick Park
DESCRIPTION:Summer Outdoor Yoga at Radlick Park \nVisit MyRec.com for more information. \nClasses scheduled on the following Saturdays at 10am:\nMay 16\, May 30\, 6/13\, 6/27\, 7/11\, 7/25\, 8/8\, 8/22\, 9/12\, 9/26
URL:https://parmaheightsoh.gov/event/summer-outdoor-yoga-at-radlick-park-5/
LOCATION:Radlick Park\, Parma Heights
CATEGORIES:City,Recreation
END:VEVENT
BEGIN:VEVENT
DTSTART;TZID=UTC:20260712T183000
DTEND;TZID=UTC:20260712T183000
DTSTAMP:20260424T180107
CREATED:20260422T142621Z
LAST-MODIFIED:20260422T144200Z
UID:10000483-1783881000-1783881000@parmaheightsoh.gov
SUMMARY:Summer Concerts at Nathan Hale Park
DESCRIPTION:Summer Concerts at Nathan Hale Park starting at 6:30: Faction Cleveland – More than just a top 40 cover band…Faction is a musically inspired party movement. \nJuly 19 Summer Concert at Nathan Hale Park starting at 6:30: Akron Symphonic Winds \nJuly 26 Summer Concert at Nathan Hale Park starting at 6:30: Classic Mellow Rock \nAugust 2 Summer Concert at Nathan Hale Park starting at 6:30: Hayden Grove \nAugust 9 Summer Concert at Nathan Hale Park starting at 6:30: Masterpiece \n 
URL:https://parmaheightsoh.gov/event/summer-concert-at-nathan-hale-park/
LOCATION:Nathan Hale Park\, 7075 Parma Park Blvd\, Parma Heights\, OH\, United States
CATEGORIES:City,Recreation
END:VEVENT
BEGIN:VEVENT
DTSTART;TZID=UTC:20260719T183000
DTEND;TZID=UTC:20260719T210000
DTSTAMP:20260424T180107
CREATED:20260422T142744Z
LAST-MODIFIED:20260422T144320Z
UID:10000479-1784485800-1784494800@parmaheightsoh.gov
SUMMARY:Summer Concerts at Nathan Hale Park
DESCRIPTION:July 19 Summer Concert at Nathan Hale Park starting at 6:30: Akron Symphonic Winds \nJuly 26 Summer Concert at Nathan Hale Park starting at 6:30: Classic Mellow Rock \nAugust 2 Summer Concert at Nathan Hale Park starting at 6:30: Hayden Grove \nAugust 9 Summer Concert at Nathan Hale Park starting at 6:30: Masterpiece
URL:https://parmaheightsoh.gov/event/summer-concerts-at-nathan-hale/
LOCATION:Nathan Hale Park\, 7075 Parma Park Blvd\, Parma Heights\, OH\, United States
CATEGORIES:City,Recreation
END:VEVENT
BEGIN:VEVENT
DTSTART;TZID=UTC:20260725T100000
DTEND;TZID=UTC:20260725T110000
DTSTAMP:20260424T180107
CREATED:20260422T224032Z
LAST-MODIFIED:20260422T224032Z
UID:10000489-1784973600-1784977200@parmaheightsoh.gov
SUMMARY:Summer Outdoor Yoga at Radlick Park
DESCRIPTION:Summer Outdoor Yoga at Radlick Park \nVisit MyRec.com for more information. \nClasses scheduled on the following Saturdays at 10am:\nMay 16\, May 30\, 6/13\, 6/27\, 7/11\, 7/25\, 8/8\, 8/22\, 9/12\, 9/26
URL:https://parmaheightsoh.gov/event/summer-outdoor-yoga-at-radlick-park-6/
LOCATION:Radlick Park\, Parma Heights
CATEGORIES:City,Recreation
END:VEVENT
BEGIN:VEVENT
DTSTART;TZID=UTC:20260726T183000
DTEND;TZID=UTC:20260726T210000
DTSTAMP:20260424T180107
CREATED:20260422T142934Z
LAST-MODIFIED:20260422T144412Z
UID:10000480-1785090600-1785099600@parmaheightsoh.gov
SUMMARY:Summer Concerts at Nathan Hale Park
DESCRIPTION:July 26 Summer Concert at Nathan Hale Park starting at 6:30: Classic Mellow Rock \nAugust 2 Summer Concert at Nathan Hale Park starting at 6:30: Hayden Grove \nAugust 9 Summer Concert at Nathan Hale Park starting at 6:30: Masterpiece
URL:https://parmaheightsoh.gov/event/summer-concerts-at-nathan-hale-2/
LOCATION:Nathan Hale Park\, 7075 Parma Park Blvd\, Parma Heights\, OH\, United States
CATEGORIES:City,Recreation
END:VEVENT
BEGIN:VEVENT
DTSTART;TZID=UTC:20260802T183000
DTEND;TZID=UTC:20260802T210000
DTSTAMP:20260424T180107
CREATED:20260422T143058Z
LAST-MODIFIED:20260422T144446Z
UID:10000481-1785695400-1785704400@parmaheightsoh.gov
SUMMARY:Summer Concerts at Nathan Hale Park
DESCRIPTION:August 2 Summer Concerts at Nathan Hale Park starting at 6:30: Hayden Grove \nAugust 9 Summer Concerts at Nathan Hale Park starting at 6:30: Masterpiece
URL:https://parmaheightsoh.gov/event/summer-concerts-at-nathan-hale-3/
LOCATION:Nathan Hale Park\, 7075 Parma Park Blvd\, Parma Heights\, OH\, United States
CATEGORIES:City,Recreation
END:VEVENT
BEGIN:VEVENT
DTSTART;TZID=UTC:20260808T100000
DTEND;TZID=UTC:20260808T110000
DTSTAMP:20260424T180107
CREATED:20260422T224127Z
LAST-MODIFIED:20260422T224127Z
UID:10000490-1786183200-1786186800@parmaheightsoh.gov
SUMMARY:Summer Outdoor Yoga at Radlick Park
DESCRIPTION:Summer Outdoor Yoga at Radlick Park \nVisit MyRec.com for more information. \nClasses scheduled on the following Saturdays at 10am:\nMay 16\, May 30\, 6/13\, 6/27\, 7/11\, 7/25\, 8/8\, 8/22\, 9/12\, 9/26
URL:https://parmaheightsoh.gov/event/summer-outdoor-yoga-at-radlick-park-7/
LOCATION:Radlick Park\, Parma Heights
CATEGORIES:City,Recreation
END:VEVENT
BEGIN:VEVENT
DTSTART;TZID=UTC:20260809T183000
DTEND;TZID=UTC:20260809T210000
DTSTAMP:20260424T180107
CREATED:20260422T143816Z
LAST-MODIFIED:20260422T144536Z
UID:10000482-1786300200-1786309200@parmaheightsoh.gov
SUMMARY:Summer Concerts at Nathan Hale Park
DESCRIPTION:Last Concert of the season! August 9 Summer Concert at Nathan Hale Park starting at 6:30: Masterpiece
URL:https://parmaheightsoh.gov/event/summer-concerts-at-nathan-hale-4/
LOCATION:Nathan Hale Park\, 7075 Parma Park Blvd\, Parma Heights\, OH\, United States
CATEGORIES:City,Recreation
END:VEVENT
BEGIN:VEVENT
DTSTART;TZID=UTC:20260822T100000
DTEND;TZID=UTC:20260822T110000
DTSTAMP:20260424T180107
CREATED:20260422T224221Z
LAST-MODIFIED:20260422T224221Z
UID:10000491-1787392800-1787396400@parmaheightsoh.gov
SUMMARY:Summer Outdoor Yoga at Radlick Park
DESCRIPTION:Summer Outdoor Yoga at Radlick Park \nVisit MyRec.com for more information. \nClasses scheduled on the following Saturdays at 10am:\nMay 16\, May 30\, 6/13\, 6/27\, 7/11\, 7/25\, 8/8\, 8/22\, 9/12\, 9/26
URL:https://parmaheightsoh.gov/event/summer-outdoor-yoga-at-radlick-park-8/
LOCATION:Radlick Park\, Parma Heights
CATEGORIES:City,Recreation
END:VEVENT
BEGIN:VEVENT
DTSTART;TZID=UTC:20260912T090000
DTEND;TZID=UTC:20260912T100000
DTSTAMP:20260424T180107
CREATED:20260422T224311Z
LAST-MODIFIED:20260422T225345Z
UID:10000493-1789203600-1789207200@parmaheightsoh.gov
SUMMARY:Summer Outdoor Yoga at Radlick Park
DESCRIPTION:Summer Outdoor Yoga at Radlick Park \nVisit MyRec.com for more information. \nClasses scheduled on the following Saturdays at 10am:\nMay 16\, May 30\, 6/13\, 6/27\, 7/11\, 7/25\, 8/8\, 8/22\, 9/12\, 9/26
URL:https://parmaheightsoh.gov/event/summer-outdoor-yoga-at-radlick-park-9/
LOCATION:Radlick Park\, Parma Heights
CATEGORIES:City,Recreation
END:VEVENT
BEGIN:VEVENT
DTSTART;TZID=UTC:20260926T100000
DTEND;TZID=UTC:20260926T110000
DTSTAMP:20260424T180107
CREATED:20260422T224422Z
LAST-MODIFIED:20260422T224422Z
UID:10000494-1790416800-1790420400@parmaheightsoh.gov
SUMMARY:Summer Outdoor Yoga at Radlick Park
DESCRIPTION:Summer Outdoor Yoga at Radlick Park \nVisit MyRec.com for more information. \nClasses scheduled on the following Saturdays at 10am:\nMay 16\, May 30\, 6/13\, 6/27\, 7/11\, 7/25\, 8/8\, 8/22\, 9/12\, 9/26
URL:https://parmaheightsoh.gov/event/summer-outdoor-yoga-at-radlick-park-10/
LOCATION:Radlick Park\, Parma Heights
CATEGORIES:City,Recreation
END:VEVENT
BEGIN:VEVENT
DTSTART;TZID=UTC:20260926T100000
DTEND;TZID=UTC:20260926T110000
DTSTAMP:20260424T180107
CREATED:20260422T225434Z
LAST-MODIFIED:20260422T225445Z
UID:10000496-1790416800-1790420400@parmaheightsoh.gov
SUMMARY:Summer Outdoor Yoga at Radlick Park
DESCRIPTION:Summer Outdoor Yoga at Radlick Park \nVisit MyRec.com for more information. \nClasses scheduled on the following Saturdays at 10am:\nMay 16\, May 30\, 6/13\, 6/27\, 7/11\, 7/25\, 8/8\, 8/22\, 9/12\, 9/26
URL:https://parmaheightsoh.gov/event/summer-outdoor-yoga-at-radlick-park-11/
LOCATION:Radlick Park\, Parma Heights
CATEGORIES:City,Recreation
END:VEVENT
END:VCALENDAR