BEGIN:VCALENDAR
VERSION:2.0
PRODID:-//City of Parma Heights - ECPv6.15.20//NONSGML v1.0//EN
CALSCALE:GREGORIAN
METHOD:PUBLISH
X-ORIGINAL-URL:https://parmaheightsoh.gov
X-WR-CALDESC:Events for City of Parma Heights
REFRESH-INTERVAL;VALUE=DURATION:PT1H
X-Robots-Tag:noindex
X-PUBLISHED-TTL:PT1H
BEGIN:VTIMEZONE
TZID:UTC
BEGIN:STANDARD
TZOFFSETFROM:+0000
TZOFFSETTO:+0000
TZNAME:UTC
DTSTART:20240101T000000
END:STANDARD
END:VTIMEZONE
BEGIN:VEVENT
DTSTART;TZID=UTC:20250527T190000
DTEND;TZID=UTC:20250527T193000
DTSTAMP:20260422T220959
CREATED:20250430T185820Z
LAST-MODIFIED:20250523T210909Z
UID:10000315-1748372400-1748374200@parmaheightsoh.gov
SUMMARY:Council Meeting
DESCRIPTION:Thank you for your interest in the City of Parma Heights. \nPlease click on the lick to view the agenda for this meeting. \nCC Packet 5.27.25
URL:https://parmaheightsoh.gov/event/council-meeting-10/
LOCATION:City Hall
CATEGORIES:City
ORGANIZER;CN="Council Clerk Allen":MAILTO:ballen@parmaheights.us
END:VEVENT
BEGIN:VEVENT
DTSTART;VALUE=DATE:20250528
DTEND;VALUE=DATE:20250529
DTSTAMP:20260422T220959
CREATED:20241219T212119Z
LAST-MODIFIED:20241219T212119Z
UID:10000274-1748390400-1748476799@parmaheightsoh.gov
SUMMARY:Delay in garbage collection
DESCRIPTION:This is a friendly reminder that Republic Services’ curbside garbage\, recycling\, yard waste\, and bulk collection will be delayed one day due to the holiday. Pick up will be Thursday May 29th. 
URL:https://parmaheightsoh.gov/event/delay-in-garbage-collection-3/
CATEGORIES:City
END:VEVENT
BEGIN:VEVENT
DTSTART;TZID=UTC:20250607T090000
DTEND;TZID=UTC:20250607T120000
DTSTAMP:20260422T220959
CREATED:20250527T144843Z
LAST-MODIFIED:20250527T144843Z
UID:10000353-1749286800-1749297600@parmaheightsoh.gov
SUMMARY:2025 Big Creek Watershed Cleanup
DESCRIPTION:It’s that time of year again for our 26th Annual Big Creek Cleanup! 🌍🗑️💖 \nJoin us on June 7th\, 2025\, from 9a-12p at any of the following locations: \n📍Brookfield Park (between Bellaire & W 130th St) \n📍Brooklyn City Fire Station (8400 Memphis Ave) \n📍Snow Road Picnic Area (Along Big Creek Parkway) \nPlay BINGO and find all the ✨special✨ trash items to win a prize! Remember to dress appropriately and enjoy a well-earned lunch afterwards! \nFind more information here: https://shorturl.at/XmczO \n 
URL:https://parmaheightsoh.gov/event/2025-big-creek-watershed-cleanup/
CATEGORIES:City,Recreation
END:VEVENT
BEGIN:VEVENT
DTSTART;TZID=UTC:20250609T170000
DTEND;TZID=UTC:20250609T174500
DTSTAMP:20260422T220959
CREATED:20250606T203120Z
LAST-MODIFIED:20250606T204644Z
UID:10000363-1749488400-1749491100@parmaheightsoh.gov
SUMMARY:Utilities and Streets Committee
DESCRIPTION:6 09 2025 Utilities and Streets
URL:https://parmaheightsoh.gov/event/finance-committee-3/
LOCATION:City Hall
CATEGORIES:City
ORGANIZER;CN="Council Clerk Allen":MAILTO:ballen@parmaheights.us
END:VEVENT
BEGIN:VEVENT
DTSTART;TZID=UTC:20250609T174500
DTEND;TZID=UTC:20250609T181500
DTSTAMP:20260422T220959
CREATED:20250606T202809Z
LAST-MODIFIED:20250606T204544Z
UID:10000362-1749491100-1749492900@parmaheightsoh.gov
SUMMARY:Finance Committee
DESCRIPTION:Finance Committee 6 09 25
URL:https://parmaheightsoh.gov/event/finance-committee-2/
LOCATION:City Hall
CATEGORIES:City
END:VEVENT
BEGIN:VEVENT
DTSTART;TZID=UTC:20250609T181500
DTEND;TZID=UTC:20250609T190000
DTSTAMP:20260422T220959
CREATED:20250606T201417Z
LAST-MODIFIED:20250606T201417Z
UID:10000358-1749492900-1749495600@parmaheightsoh.gov
SUMMARY:Mayor's Caucus
DESCRIPTION:Please click on the link below to view the Mayor’s Caucus Agenda. \nCaucus Agenda 6.9.25 \n 
URL:https://parmaheightsoh.gov/event/mayors-caucus-41/
LOCATION:City Hall
CATEGORIES:City
ORGANIZER;CN="Council Clerk Allen":MAILTO:ballen@parmaheights.us
END:VEVENT
BEGIN:VEVENT
DTSTART;TZID=UTC:20250609T190000
DTEND;TZID=UTC:20250609T193000
DTSTAMP:20260422T220959
CREATED:20250606T201624Z
LAST-MODIFIED:20250606T201624Z
UID:10000360-1749495600-1749497400@parmaheightsoh.gov
SUMMARY:Council Meeting
DESCRIPTION:Thank you for your interest in the City of Parma Heights. \nPlease click on the lick to view the agenda for this meeting. \nCC Packet 6.09.2025
URL:https://parmaheightsoh.gov/event/council-meeting-12/
LOCATION:City Hall
CATEGORIES:City
ORGANIZER;CN="Council Clerk Allen":MAILTO:ballen@parmaheights.us
END:VEVENT
BEGIN:VEVENT
DTSTART;TZID=UTC:20250614T090000
DTEND;TZID=UTC:20250614T120000
DTSTAMP:20260422T220959
CREATED:20241219T205727Z
LAST-MODIFIED:20241219T205727Z
UID:10000267-1749891600-1749902400@parmaheightsoh.gov
SUMMARY:Computer Recycle Collection Event
DESCRIPTION:All events will be held at the Parma Heights Service Garage in the Greenbrier Commons\nAll events will be held from 9:00 a.m. to noon\nProof of residency is required – for residential use only.\n\nResidents can recycle unwanted home computer equipment\, which includes CPUs\, monitors\, keyboards\, mice\, printers\, terminals\, modems\, cables\, software\, and ink cartridges. Cell phones and their accessories are also accepted. **Please note that televisions are not accepted at this event. However\, retailers and local companies do offer recycling services for televisions. It is important to mention that there is no ban on placing televisions and electronics in the local trash.
URL:https://parmaheightsoh.gov/event/computer-recycle-collection-event/
LOCATION:Greenbrier Commons
CATEGORIES:City
END:VEVENT
BEGIN:VEVENT
DTSTART;TZID=UTC:20250617T170000
DTEND;TZID=UTC:20250617T180000
DTSTAMP:20260422T220959
CREATED:20250611T142945Z
LAST-MODIFIED:20250616T145522Z
UID:10000364-1750179600-1750183200@parmaheightsoh.gov
SUMMARY:Ad Hoc
DESCRIPTION:Please click the link below to view the agenda for this meeting. \nAd Hoc Committee Agenda 6.17.25
URL:https://parmaheightsoh.gov/event/ad-hoc/
LOCATION:City Hall
CATEGORIES:City
ORGANIZER;CN="Council Clerk Allen":MAILTO:ballen@parmaheights.us
END:VEVENT
BEGIN:VEVENT
DTSTART;VALUE=DATE:20250619
DTEND;VALUE=DATE:20250620
DTSTAMP:20260422T220959
CREATED:20250618T192306Z
LAST-MODIFIED:20250618T192306Z
UID:10000365-1750291200-1750377599@parmaheightsoh.gov
SUMMARY:City Hall is Closed
DESCRIPTION:In observation of Juneteenth\, City Hall will be closed.
URL:https://parmaheightsoh.gov/event/city-hall-is-closed/
CATEGORIES:City
END:VEVENT
BEGIN:VEVENT
DTSTART;TZID=UTC:20250621T093000
DTEND;TZID=UTC:20250621T123000
DTSTAMP:20260422T220959
CREATED:20250528T173527Z
LAST-MODIFIED:20250528T173527Z
UID:10000355-1750498200-1750509000@parmaheightsoh.gov
SUMMARY:Youth Basketball Clinic
DESCRIPTION:We’re excited to be partnering with St. John Bosco this summer to host a Youth Basketball Clinic! This is a great opportunity for kids to learn the fundamentals of the game — including dribbling\, shooting\, and passing — in a fun and supportive environment.\nWhat to Bring: \n\nIndoor shoes (basketball shoes preferred)\nA basketball (If you can have one)\nWater bottle\nA great attitude and excitement!\n\nClinic Dates: \n\nSaturday\, June 21\nSaturday\, June 28\nSaturday\, July 5\n\nAge Groups & Times: \n\nAges 7–8: 9:30 AM – 10:30 AM\nAges 9–10: 10:30 AM – 11:30 AM\nAges 11–13: 11:30 AM – 12:30 PM\n\nWe can’t wait to see everyone on the court! \nRegistration Details: https://parmaheightsoh.myrec.com/info/activities/program_details.aspx?ProgramID=29892
URL:https://parmaheightsoh.gov/event/youth-basketball-clinic/
LOCATION:St. John Bosco\, 6480 Pearl Road\, city of parma heights\, OH\, 44130\, United States
CATEGORIES:City,Recreation
END:VEVENT
BEGIN:VEVENT
DTSTART;TZID=UTC:20250623T140000
DTEND;TZID=UTC:20250623T143000
DTSTAMP:20260422T220959
CREATED:20250620T171216Z
LAST-MODIFIED:20250620T171256Z
UID:10000366-1750687200-1750689000@parmaheightsoh.gov
SUMMARY:Records Commission
DESCRIPTION:Please click the link below to view the agenda for the upcoming Records Commission meeting. \nJune 23 2025 Agenda
URL:https://parmaheightsoh.gov/event/records-commission-3/
LOCATION:City Hall
CATEGORIES:City
ORGANIZER;CN="Council Clerk Allen":MAILTO:ballen@parmaheights.us
END:VEVENT
BEGIN:VEVENT
DTSTART;TZID=UTC:20250623T183000
DTEND;TZID=UTC:20250623T190000
DTSTAMP:20260422T220959
CREATED:20250606T201501Z
LAST-MODIFIED:20250620T201526Z
UID:10000359-1750703400-1750705200@parmaheightsoh.gov
SUMMARY:Mayor's Caucus
DESCRIPTION:Please click on the link below to view the Mayor’s Caucus Agenda. \nCaucus Agenda 6.23.25 \n  \n 
URL:https://parmaheightsoh.gov/event/mayors-caucus-42/
LOCATION:City Hall
CATEGORIES:City
ORGANIZER;CN="Council Clerk Allen":MAILTO:ballen@parmaheights.us
END:VEVENT
BEGIN:VEVENT
DTSTART;TZID=UTC:20250623T190000
DTEND;TZID=UTC:20250623T193000
DTSTAMP:20260422T220959
CREATED:20250606T201655Z
LAST-MODIFIED:20250620T201700Z
UID:10000361-1750705200-1750707000@parmaheightsoh.gov
SUMMARY:Council Meeting
DESCRIPTION:Thank you for your interest in the City of Parma Heights. \nPlease click on the lick to view the agenda for this meeting. \nCC Packet 6.23.2025 \n 
URL:https://parmaheightsoh.gov/event/council-meeting-13/
LOCATION:City Hall
CATEGORIES:City
ORGANIZER;CN="Council Clerk Allen":MAILTO:ballen@parmaheights.us
END:VEVENT
BEGIN:VEVENT
DTSTART;TZID=UTC:20250628T093000
DTEND;TZID=UTC:20250628T123000
DTSTAMP:20260422T220959
CREATED:20250528T173644Z
LAST-MODIFIED:20250528T173644Z
UID:10000356-1751103000-1751113800@parmaheightsoh.gov
SUMMARY:Youth Basketball Clinic
DESCRIPTION:We’re excited to be partnering with St. John Bosco this summer to host a Youth Basketball Clinic! This is a great opportunity for kids to learn the fundamentals of the game — including dribbling\, shooting\, and passing — in a fun and supportive environment.\nWhat to Bring: \n\nIndoor shoes (basketball shoes preferred)\nA basketball (If you can have one)\nWater bottle\nA great attitude and excitement!\n\nClinic Dates: \n\nSaturday\, June 21\nSaturday\, June 28\nSaturday\, July 5\n\nAge Groups & Times: \n\nAges 7–8: 9:30 AM – 10:30 AM\nAges 9–10: 10:30 AM – 11:30 AM\nAges 11–13: 11:30 AM – 12:30 PM\n\nWe can’t wait to see everyone on the court! \nRegistration Details: https://parmaheightsoh.myrec.com/info/activities/program_details.aspx?ProgramID=29892
URL:https://parmaheightsoh.gov/event/youth-basketball-clinic-2/
LOCATION:St. John Bosco\, 6480 Pearl Road\, city of parma heights\, OH\, 44130\, United States
CATEGORIES:City,Recreation
END:VEVENT
BEGIN:VEVENT
DTSTART;TZID=UTC:20250628T160000
DTEND;TZID=UTC:20250628T210000
DTSTAMP:20260422T220959
CREATED:20250506T201858Z
LAST-MODIFIED:20250506T203055Z
UID:10000319-1751126400-1751144400@parmaheightsoh.gov
SUMMARY:Guardians Youth Sports Night
DESCRIPTION:Tickets available through MyRec: https://parmaheightsoh.myrec.com/info/activities/program_details.aspx?ProgramID=29866
URL:https://parmaheightsoh.gov/event/guardians-youth-sports-night/
LOCATION:Progressive Field\, 2401 Ontario\, Cleveland\, OH\, United States
CATEGORIES:City,Recreation
END:VEVENT
BEGIN:VEVENT
DTSTART;TZID=UTC:20250705T093000
DTEND;TZID=UTC:20250705T123000
DTSTAMP:20260422T220959
CREATED:20250528T173745Z
LAST-MODIFIED:20250528T174104Z
UID:10000357-1751707800-1751718600@parmaheightsoh.gov
SUMMARY:Youth Basketball Clinic
DESCRIPTION:We’re excited to be partnering with St. John Bosco this summer to host a Youth Basketball Clinic! This is a great opportunity for kids to learn the fundamentals of the game — including dribbling\, shooting\, and passing — in a fun and supportive environment.\nWhat to Bring: \n\nIndoor shoes (basketball shoes preferred)\nA basketball (If you can have one)\nWater bottle\nA great attitude and excitement!\n\nClinic Dates: \n\nSaturday\, June 21\nSaturday\, June 28\nSaturday\, July 5\n\nAge Groups & Times: \n\nAges 7–8: 9:30 AM – 10:30 AM\nAges 9–10: 10:30 AM – 11:30 AM\nAges 11–13: 11:30 AM – 12:30 PM\n\nWe can’t wait to see everyone on the court! \nRegistration Details: https://parmaheightsoh.myrec.com/info/activities/program_details.aspx?ProgramID=29892
URL:https://parmaheightsoh.gov/event/youth-basketball-clinic-3/
LOCATION:St. John Bosco\, 6480 Pearl Road\, city of parma heights\, OH\, 44130\, United States
CATEGORIES:City,Recreation
END:VEVENT
BEGIN:VEVENT
DTSTART;TZID=UTC:20250708T170000
DTEND;TZID=UTC:20250708T171500
DTSTAMP:20260422T220959
CREATED:20250703T203039Z
LAST-MODIFIED:20250703T203039Z
UID:10000367-1751994000-1751994900@parmaheightsoh.gov
SUMMARY:Mayor's Caucus
DESCRIPTION:Please click on the link below to view the Mayor’s Caucus Agenda. \nCaucus Agenda 7.8.25 \n  \n 
URL:https://parmaheightsoh.gov/event/mayors-caucus-43/
LOCATION:City Hall
CATEGORIES:City
ORGANIZER;CN="Council Clerk Allen":MAILTO:ballen@parmaheights.us
END:VEVENT
BEGIN:VEVENT
DTSTART;TZID=UTC:20250708T171500
DTEND;TZID=UTC:20250708T173000
DTSTAMP:20260422T220959
CREATED:20250703T203200Z
LAST-MODIFIED:20250703T203200Z
UID:10000368-1751994900-1751995800@parmaheightsoh.gov
SUMMARY:Special Council Meeting
DESCRIPTION:Thank you for your interest in the City of Parma Heights. \nPlease click on the lick to view the agenda for this meeting. \nCC Packet 7.08.25 \n 
URL:https://parmaheightsoh.gov/event/special-council-meeting-3/
LOCATION:City Hall
CATEGORIES:City
ORGANIZER;CN="Council Clerk Allen":MAILTO:ballen@parmaheights.us
END:VEVENT
BEGIN:VEVENT
DTSTART;TZID=UTC:20250708T173000
DTEND;TZID=UTC:20250708T180000
DTSTAMP:20260422T220959
CREATED:20250705T172739Z
LAST-MODIFIED:20250705T172739Z
UID:10000369-1751995800-1751997600@parmaheightsoh.gov
SUMMARY:City Council Work Session
DESCRIPTION:The City Council will hold a Work Session on this day.  Please click below to view the agenda. \n7 08 2025 Council Work Session Agenda
URL:https://parmaheightsoh.gov/event/city-council-work-session-3/
LOCATION:City Hall
CATEGORIES:City
ORGANIZER;CN="Council Clerk Allen":MAILTO:ballen@parmaheights.us
END:VEVENT
BEGIN:VEVENT
DTSTART;TZID=UTC:20250712T203000
DTEND;TZID=UTC:20250712T230000
DTSTAMP:20260422T220959
CREATED:20250506T204026Z
LAST-MODIFIED:20250506T204026Z
UID:10000326-1752352200-1752361200@parmaheightsoh.gov
SUMMARY:Swim Cinema
DESCRIPTION:Swim Cinema \n\nJuly 12th\, 8:30 PM – 11:00 PM at Parma Heights Pool\nAugust 23rd\, 8:30 PM – 11:00 PM at Parma Heights Pool\nRegister on MyRec
URL:https://parmaheightsoh.gov/event/swim-cinema/
LOCATION:Parma Heights Pool\, 6200 Pearl Rd\, Parma Heights\, OH\, 44130\, United States
CATEGORIES:City,Recreation
END:VEVENT
BEGIN:VEVENT
DTSTART;TZID=UTC:20250713T183000
DTEND;TZID=UTC:20250713T203000
DTSTAMP:20260422T220959
CREATED:20250506T202516Z
LAST-MODIFIED:20250506T203022Z
UID:10000321-1752431400-1752438600@parmaheightsoh.gov
SUMMARY:Summer Concert Series
DESCRIPTION:Sundays: July 13th\, 20th\, 27th; August 3rd & 10th\n6:30 PM – 8:30 PM at Nathan Hale Pavilion \nProgram Info: https://parmaheightsoh.myrec.com/info/activities/program_details.aspx?ProgramID=29859
URL:https://parmaheightsoh.gov/event/summer-concert-series/
LOCATION:Nathan Hale Park\, 7075 Parma Park Blvd\, Parma Heights\, OH\, United States
CATEGORIES:City,Recreation
END:VEVENT
BEGIN:VEVENT
DTSTART;VALUE=DATE:20250718
DTEND;VALUE=DATE:20250720
DTSTAMP:20260422T220959
CREATED:20250414T160603Z
LAST-MODIFIED:20250716T163032Z
UID:10000311-1752796800-1752969599@parmaheightsoh.gov
SUMMARY:Third Annual City Wide Yard Sale
DESCRIPTION:FRIDAY & SATURDAY \nJULY 18 – 19\, 2025 \nPlease click the link below to view the list of participating addresses. \n2025 Third Annual Yard Sale
URL:https://parmaheightsoh.gov/event/third-annual-city-wide-yard-sale/
CATEGORIES:City
ORGANIZER;CN="Council Clerk Allen":MAILTO:ballen@parmaheights.us
END:VEVENT
BEGIN:VEVENT
DTSTART;TZID=UTC:20250719T090000
DTEND;TZID=UTC:20250719T120000
DTSTAMP:20260422T220959
CREATED:20250523T194347Z
LAST-MODIFIED:20250523T195110Z
UID:10000351-1752915600-1752926400@parmaheightsoh.gov
SUMMARY:Sports Skills Event
DESCRIPTION:Free registration through MyRec: https://parmaheightsoh.myrec.com/info/activities/program_details.aspx?ProgramID=29888
URL:https://parmaheightsoh.gov/event/sports-skills-event/
LOCATION:Kurtz Park\, 6281 West 130th Street\, Parma Heights\, OH\, United States
CATEGORIES:City,Recreation
END:VEVENT
BEGIN:VEVENT
DTSTART;TZID=UTC:20250720T183000
DTEND;TZID=UTC:20250720T203000
DTSTAMP:20260422T220959
CREATED:20250506T202833Z
LAST-MODIFIED:20250506T202833Z
UID:10000322-1753036200-1753043400@parmaheightsoh.gov
SUMMARY:Summer Concert Series
DESCRIPTION:Summer Concert Series\nSundays: July 13th\, 20th\, 27th; August 3rd & 10th\n6:30 PM – 8:30 PM at Nathan Hale Pavilion \nProgram Info: https://parmaheightsoh.myrec.com/info/activities/program_details.aspx?ProgramID=29859
URL:https://parmaheightsoh.gov/event/summer-concert-series-2/
LOCATION:Nathan Hale Park\, 7075 Parma Park Blvd\, Parma Heights\, OH\, United States
CATEGORIES:City,Recreation
END:VEVENT
BEGIN:VEVENT
DTSTART;TZID=UTC:20250721T180000
DTEND;TZID=UTC:20250721T183000
DTSTAMP:20260422T220959
CREATED:20250710T174228Z
LAST-MODIFIED:20250710T175221Z
UID:10000370-1753120800-1753122600@parmaheightsoh.gov
SUMMARY:Board of Zoning Appeals
DESCRIPTION:The Board of Zoning Appeals will hold a meeting on this day.  Please click the link below to view the agenda for this meeting. \nCase 2025-03 and 2025 – 04
URL:https://parmaheightsoh.gov/event/board-of-zoning-appeals-9/
LOCATION:City Hall
CATEGORIES:City
ORGANIZER;CN="Council Clerk Allen":MAILTO:ballen@parmaheights.us
END:VEVENT
BEGIN:VEVENT
DTSTART;TZID=UTC:20250726T090000
DTEND;TZID=UTC:20250726T120000
DTSTAMP:20260422T220959
CREATED:20241219T204328Z
LAST-MODIFIED:20241219T204355Z
UID:10000265-1753520400-1753531200@parmaheightsoh.gov
SUMMARY:Household Hazardous Waste Collection
DESCRIPTION:All events will be held at the Parma Heights Service Garage in the Greenbrier Commons\nAll events will be held from 9:00 a.m. to noon\nProof of residency is required – for residential use only.
URL:https://parmaheightsoh.gov/event/household-hazardous-waste-collection-6/
LOCATION:Greenbrier Commons
CATEGORIES:City
END:VEVENT
BEGIN:VEVENT
DTSTART;TZID=UTC:20250727T120000
DTEND;TZID=UTC:20250727T130000
DTSTAMP:20260422T220959
CREATED:20250506T204754Z
LAST-MODIFIED:20250506T204754Z
UID:10000331-1753617600-1753621200@parmaheightsoh.gov
SUMMARY:Walk with Rec
DESCRIPTION:Walk with Rec\nSundays: May 25th\, July 27th\, August 31st\, September 28th\n12:00 PM – 1:00 PM at Nathan Hale Park \nProgram Info:https://parmaheightsoh.myrec.com/info/activities/program_details.aspx?ProgramID=29890
URL:https://parmaheightsoh.gov/event/walk-with-rec-2/
LOCATION:Nathan Hale Park\, 7075 Parma Park Blvd\, Parma Heights\, OH\, United States
CATEGORIES:City,Recreation
END:VEVENT
BEGIN:VEVENT
DTSTART;TZID=UTC:20250727T183000
DTEND;TZID=UTC:20250727T203000
DTSTAMP:20260422T220959
CREATED:20250506T203310Z
LAST-MODIFIED:20250506T203437Z
UID:10000323-1753641000-1753648200@parmaheightsoh.gov
SUMMARY:Summer Concert Series
DESCRIPTION:Summer Concert Series\nSundays: July 13th\, 20th\, 27th; August 3rd & 10th\n6:30 PM – 8:30 PM at Nathan Hale Pavilion \nProgram Info: https://parmaheightsoh.myrec.com/info/activities/program_details.aspx?ProgramID=29859
URL:https://parmaheightsoh.gov/event/summer-concert-series-3/
LOCATION:Nathan Hale Park\, 7075 Parma Park Blvd\, Parma Heights\, OH\, United States
CATEGORIES:City,Recreation
END:VEVENT
BEGIN:VEVENT
DTSTART;TZID=UTC:20250803T183000
DTEND;TZID=UTC:20250803T203000
DTSTAMP:20260422T220959
CREATED:20250506T203625Z
LAST-MODIFIED:20250506T203654Z
UID:10000324-1754245800-1754253000@parmaheightsoh.gov
SUMMARY:Summer Concert Series
DESCRIPTION:Summer Concert Series\nSundays: July 13th\, 20th\, 27th; August 3rd & 10th\n6:30 PM – 8:30 PM at Nathan Hale Pavilion \nProgram Info: https://parmaheightsoh.myrec.com/info/activities/program_details.aspx?ProgramID=29859
URL:https://parmaheightsoh.gov/event/summer-concert-series-4/
LOCATION:Nathan Hale Park\, 7075 Parma Park Blvd\, Parma Heights\, OH\, United States
CATEGORIES:City,Recreation
END:VEVENT
END:VCALENDAR