BEGIN:VCALENDAR
VERSION:2.0
PRODID:-//City of Parma Heights - ECPv6.15.20//NONSGML v1.0//EN
CALSCALE:GREGORIAN
METHOD:PUBLISH
X-ORIGINAL-URL:https://parmaheightsoh.gov
X-WR-CALDESC:Events for City of Parma Heights
REFRESH-INTERVAL;VALUE=DURATION:PT1H
X-Robots-Tag:noindex
X-PUBLISHED-TTL:PT1H
BEGIN:VTIMEZONE
TZID:UTC
BEGIN:STANDARD
TZOFFSETFROM:+0000
TZOFFSETTO:+0000
TZNAME:UTC
DTSTART:20240101T000000
END:STANDARD
END:VTIMEZONE
BEGIN:VEVENT
DTSTART;TZID=UTC:20251011T090000
DTEND;TZID=UTC:20251011T120000
DTSTAMP:20260422T215406
CREATED:20241219T205828Z
LAST-MODIFIED:20241219T205846Z
UID:10000268-1760173200-1760184000@parmaheightsoh.gov
SUMMARY:Computer Recycle Collection Event
DESCRIPTION:All events will be held at the Parma Heights Service Garage in the Greenbrier Commons\nAll events will be held from 9:00 a.m. to noon\nProof of residency is required – for residential use only.\n\nResidents can recycle unwanted home computer equipment\, which includes CPUs\, monitors\, keyboards\, mice\, printers\, terminals\, modems\, cables\, software\, and ink cartridges. Cell phones and their accessories are also accepted. **Please note that televisions are not accepted at this event. However\, retailers and local companies do offer recycling services for televisions. It is important to mention that there is no ban on placing televisions and electronics in the local trash.
URL:https://parmaheightsoh.gov/event/computer-recycle-collection-event-2/
LOCATION:Greenbrier Commons
CATEGORIES:City
END:VEVENT
BEGIN:VEVENT
DTSTART;TZID=UTC:20251011T140000
DTEND;TZID=UTC:20251011T160000
DTSTAMP:20260422T215406
CREATED:20251008T173057Z
LAST-MODIFIED:20251008T173057Z
UID:10000401-1760191200-1760198400@parmaheightsoh.gov
SUMMARY:Halloween Crafts with Parma Heights
DESCRIPTION:Join us for a fun children’s craft event with Lisa Zaremba! Come dressed in your Halloween costume for some extra spooky fun. Register online in advance or on the day of the event!
URL:https://parmaheightsoh.gov/event/halloween-crafts-with-parma-heights/
LOCATION:Cassidy Theatre\, 6200 Pearl Road\, Parma Heights\, OH\, United States
CATEGORIES:City,Recreation
ORGANIZER;CN="Recreation Department":MAILTO:recreation@parmaheights.us
END:VEVENT
BEGIN:VEVENT
DTSTART;VALUE=DATE:20251013
DTEND;VALUE=DATE:20251014
DTSTAMP:20260422T215406
CREATED:20250905T143227Z
LAST-MODIFIED:20250905T144212Z
UID:10000392-1760313600-1760399999@parmaheightsoh.gov
SUMMARY:Columbus Day - City Hall Closed
DESCRIPTION:In observation of Columbus Day\, the City of Parma Heights City Hall will be closed. \n 
URL:https://parmaheightsoh.gov/event/columbus-day-city-hall-closed/
CATEGORIES:City
ORGANIZER;CN="Council Clerk Allen":MAILTO:ballen@parmaheights.us
END:VEVENT
BEGIN:VEVENT
DTSTART;TZID=UTC:20251014T184500
DTEND;TZID=UTC:20251014T190000
DTSTAMP:20260422T215406
CREATED:20250905T141702Z
LAST-MODIFIED:20251010T184952Z
UID:10000378-1760467500-1760468400@parmaheightsoh.gov
SUMMARY:Mayor's Caucus
DESCRIPTION:Please click below to view the agenda for this meeting. \nCaucus Agenda 10.14.25 \n  \n 
URL:https://parmaheightsoh.gov/event/mayors-caucus-46/
LOCATION:City Hall
CATEGORIES:City
ORGANIZER;CN="Council Clerk Allen":MAILTO:ballen@parmaheights.us
END:VEVENT
BEGIN:VEVENT
DTSTART;TZID=UTC:20251014T190000
DTEND;TZID=UTC:20251014T193000
DTSTAMP:20260422T215406
CREATED:20250905T142423Z
LAST-MODIFIED:20251010T191541Z
UID:10000385-1760468400-1760470200@parmaheightsoh.gov
SUMMARY:City Council Meeting
DESCRIPTION:Please click the link below to view the agenda and proposed legislation for this meeting. \nCC Packet 10 14 25
URL:https://parmaheightsoh.gov/event/city-council-meeting-28/
LOCATION:City Hall
CATEGORIES:City
ORGANIZER;CN="Council Clerk Allen":MAILTO:ballen@parmaheights.us
END:VEVENT
BEGIN:VEVENT
DTSTART;TZID=UTC:20251018T130000
DTEND;TZID=UTC:20251018T160000
DTSTAMP:20260422T215406
CREATED:20251008T173332Z
LAST-MODIFIED:20251008T173416Z
UID:10000402-1760792400-1760803200@parmaheightsoh.gov
SUMMARY:Intermediate Line Dance
DESCRIPTION:Let loose and join our instructor Jamie Wylie for fun and engaging line dance lessons! Walk-throughs will be provided\, and we’re happy to take song requests.
URL:https://parmaheightsoh.gov/event/intermediate-line-dance/
LOCATION:Cassidy Theatre\, 6200 Pearl Road\, Parma Heights\, OH\, United States
CATEGORIES:City,Recreation
ORGANIZER;CN="Recreation Department":MAILTO:recreation@parmaheights.us
END:VEVENT
BEGIN:VEVENT
DTSTART;TZID=UTC:20251020T174500
DTEND;TZID=UTC:20251020T183000
DTSTAMP:20260422T215406
CREATED:20251016T162446Z
LAST-MODIFIED:20251016T162446Z
UID:10000405-1760982300-1760985000@parmaheightsoh.gov
SUMMARY:Recreation Commission
DESCRIPTION:Please click the link below to view the agenda for this meeting. \nRecreation October 20 2025 Agenda
URL:https://parmaheightsoh.gov/event/recreation-commission-4/
LOCATION:City Hall
CATEGORIES:City
ORGANIZER;CN="Council Clerk Allen":MAILTO:ballen@parmaheights.us
END:VEVENT
BEGIN:VEVENT
DTSTART;TZID=UTC:20251025T080000
DTEND;TZID=UTC:20251025T120000
DTSTAMP:20260422T215406
CREATED:20241219T204514Z
LAST-MODIFIED:20241219T204514Z
UID:10000266-1761379200-1761393600@parmaheightsoh.gov
SUMMARY:Household Hazardous Waste Collection
DESCRIPTION:All events will be held at the Parma Heights Service Garage in the Greenbrier Commons\nAll events will be held from 9:00 a.m. to noon\nProof of residency is required – for residential use only.
URL:https://parmaheightsoh.gov/event/household-hazardous-waste-collection-7/
LOCATION:Greenbrier Commons
CATEGORIES:City
END:VEVENT
BEGIN:VEVENT
DTSTART;TZID=UTC:20251025T100000
DTEND;TZID=UTC:20251025T110000
DTSTAMP:20260422T215406
CREATED:20250506T190204Z
LAST-MODIFIED:20250506T202928Z
UID:10000317-1761386400-1761390000@parmaheightsoh.gov
SUMMARY:Yoga at Cassidy
DESCRIPTION:Cassidy Theatre Room B \nRegister through MyRec: https://parmaheightsoh.myrec.com/info/activities/program_details.aspx?ProgramID=29849
URL:https://parmaheightsoh.gov/event/yoga-at-cassidy/
LOCATION:Cassidy Theatre\, 6200 Pearl Road\, Parma Heights\, OH\, United States
CATEGORIES:City,Recreation
END:VEVENT
BEGIN:VEVENT
DTSTART;TZID=UTC:20251025T110000
DTEND;TZID=UTC:20251025T130000
DTSTAMP:20260422T215406
CREATED:20251007T153404Z
LAST-MODIFIED:20251007T193943Z
UID:10000400-1761390000-1761397200@parmaheightsoh.gov
SUMMARY:Pumpkin Painting
DESCRIPTION:Free event sponsored by the Parma Heights Historical Society Greenbrier Commons at the Gazebo
URL:https://parmaheightsoh.gov/event/pumpkin-painting/
LOCATION:Greenbrier Commons
CATEGORIES:City,Recreation
ATTACH;FMTTYPE=application/pdf:https://parmaheightsoh.gov/wp-content/uploads/2025/10/Pumpkin-Painting-1.pdf
END:VEVENT
BEGIN:VEVENT
DTSTART;TZID=UTC:20251027T170000
DTEND;TZID=UTC:20251027T173000
DTSTAMP:20260422T215406
CREATED:20251010T152715Z
LAST-MODIFIED:20251024T194920Z
UID:10000403-1761584400-1761586200@parmaheightsoh.gov
SUMMARY:Utilities and Streets Committee
DESCRIPTION:Please click below to view the agenda for this meeting. \n10 27 2025 Utilities and Streets
URL:https://parmaheightsoh.gov/event/utilities-and-streets-committee-5/
LOCATION:City Hall
CATEGORIES:City
ORGANIZER;CN="Council Clerk Allen":MAILTO:ballen@parmaheights.us
END:VEVENT
BEGIN:VEVENT
DTSTART;TZID=UTC:20251027T173000
DTEND;TZID=UTC:20251027T190000
DTSTAMP:20260422T215406
CREATED:20250905T141834Z
LAST-MODIFIED:20251024T195114Z
UID:10000380-1761586200-1761591600@parmaheightsoh.gov
SUMMARY:Mayor's Caucus
DESCRIPTION:Please click the link below to view the agenda for this meeting. \nCaucus Agenda 10.27.25 \n  \n 
URL:https://parmaheightsoh.gov/event/mayors-caucus-48/
LOCATION:City Hall
CATEGORIES:City
ORGANIZER;CN="Council Clerk Allen":MAILTO:ballen@parmaheights.us
END:VEVENT
BEGIN:VEVENT
DTSTART;TZID=UTC:20251027T190000
DTEND;TZID=UTC:20251027T193000
DTSTAMP:20260422T215406
CREATED:20250905T142456Z
LAST-MODIFIED:20251024T203732Z
UID:10000386-1761591600-1761593400@parmaheightsoh.gov
SUMMARY:City Council Meeting
DESCRIPTION:CC Packet 10 27 2025
URL:https://parmaheightsoh.gov/event/city-council-meeting-29/
LOCATION:City Hall
CATEGORIES:City
ORGANIZER;CN="Council Clerk Allen":MAILTO:ballen@parmaheights.us
END:VEVENT
BEGIN:VEVENT
DTSTART;TZID=UTC:20251101T160000
DTEND;TZID=UTC:20251101T190000
DTSTAMP:20260422T215406
CREATED:20251006T133209Z
LAST-MODIFIED:20251016T142508Z
UID:10000399-1762012800-1762023600@parmaheightsoh.gov
SUMMARY:Parma Heights Frights
DESCRIPTION:
URL:https://parmaheightsoh.gov/event/parma-heights-fright-night/
LOCATION:Greenbrier Commons
CATEGORIES:City,Recreation
END:VEVENT
BEGIN:VEVENT
DTSTART;TZID=UTC:20251106T183000
DTEND;TZID=UTC:20251106T190000
DTSTAMP:20260422T215406
CREATED:20251021T141202Z
LAST-MODIFIED:20251030T192741Z
UID:10000406-1762453800-1762455600@parmaheightsoh.gov
SUMMARY:Civil Service Commission
DESCRIPTION:11.06.2025 Agenda
URL:https://parmaheightsoh.gov/event/civil-service-commission-8/
LOCATION:City Hall
CATEGORIES:City
ORGANIZER;CN="Council Clerk Allen":MAILTO:ballen@parmaheights.us
END:VEVENT
BEGIN:VEVENT
DTSTART;TZID=UTC:20251108T090000
DTEND;TZID=UTC:20251108T120000
DTSTAMP:20260422T215406
CREATED:20241219T210944Z
LAST-MODIFIED:20241219T210944Z
UID:10000272-1762592400-1762603200@parmaheightsoh.gov
SUMMARY:Campaign Sign Collection
DESCRIPTION:All events will be held at the Parma Heights Service Garage in the Greenbrier Commons\nAll events will be held from 9:00 a.m. to noon\nProof of residency is required – for residential use only.\nPlease see below for further details for each event.\nBoth the sign and the holder can be recycled.
URL:https://parmaheightsoh.gov/event/campaign-sign-collection/
LOCATION:Greenbrier Commons
CATEGORIES:City
END:VEVENT
BEGIN:VEVENT
DTSTART;TZID=UTC:20251110T180000
DTEND;TZID=UTC:20251110T183000
DTSTAMP:20260422T215406
CREATED:20251010T152845Z
LAST-MODIFIED:20251107T190623Z
UID:10000404-1762797600-1762799400@parmaheightsoh.gov
SUMMARY:Safety Committee Meeting
DESCRIPTION:Safety Committee Agenda 11.10.25
URL:https://parmaheightsoh.gov/event/safety-committee-meeting-5/
LOCATION:City Hall
CATEGORIES:City
ORGANIZER;CN="Council Clerk Allen":MAILTO:ballen@parmaheights.us
END:VEVENT
BEGIN:VEVENT
DTSTART;TZID=UTC:20251110T183000
DTEND;TZID=UTC:20251110T190000
DTSTAMP:20260422T215406
CREATED:20250905T141941Z
LAST-MODIFIED:20251107T215529Z
UID:10000381-1762799400-1762801200@parmaheightsoh.gov
SUMMARY:Mayor's Caucus
DESCRIPTION:Caucus Agenda 11.10.25 \n  \n 
URL:https://parmaheightsoh.gov/event/mayors-caucus-49/
LOCATION:City Hall
CATEGORIES:City
ORGANIZER;CN="Council Clerk Allen":MAILTO:ballen@parmaheights.us
END:VEVENT
BEGIN:VEVENT
DTSTART;TZID=UTC:20251110T190000
DTEND;TZID=UTC:20251110T193000
DTSTAMP:20260422T215406
CREATED:20250905T142607Z
LAST-MODIFIED:20251107T220510Z
UID:10000388-1762801200-1762803000@parmaheightsoh.gov
SUMMARY:City Council Meeting
DESCRIPTION:CC Packet 11 10 2025
URL:https://parmaheightsoh.gov/event/city-council-meeting-30/
LOCATION:City Hall
CATEGORIES:City
ORGANIZER;CN="Council Clerk Allen":MAILTO:ballen@parmaheights.us
END:VEVENT
BEGIN:VEVENT
DTSTART;VALUE=DATE:20251111
DTEND;VALUE=DATE:20251112
DTSTAMP:20260422T215406
CREATED:20250905T145227Z
LAST-MODIFIED:20250905T145227Z
UID:10000394-1762819200-1762905599@parmaheightsoh.gov
SUMMARY:Veterans Day - City Hall Closed
DESCRIPTION:In observation of Veterans Day\, the City of Parma Heights City Hall will be closed. \n 
URL:https://parmaheightsoh.gov/event/veterans-day-city-hall-closed/
CATEGORIES:City
ORGANIZER;CN="Council Clerk Allen":MAILTO:ballen@parmaheights.us
END:VEVENT
BEGIN:VEVENT
DTSTART;TZID=UTC:20251117T170000
DTEND;TZID=UTC:20251117T190000
DTSTAMP:20260422T215406
CREATED:20251112T174531Z
LAST-MODIFIED:20251114T184150Z
UID:10000407-1763398800-1763406000@parmaheightsoh.gov
SUMMARY:Finance Committee meeting
DESCRIPTION:Finance Committee 11.17.25 \n 
URL:https://parmaheightsoh.gov/event/finance-committee-meeting-5/
LOCATION:City Hall
CATEGORIES:City
ORGANIZER;CN="Council Clerk Allen":MAILTO:ballen@parmaheights.us
END:VEVENT
BEGIN:VEVENT
DTSTART;TZID=UTC:20251117T190000
DTEND;TZID=UTC:20251117T191500
DTSTAMP:20260422T215406
CREATED:20251112T190650Z
LAST-MODIFIED:20251114T185510Z
UID:10000408-1763406000-1763406900@parmaheightsoh.gov
SUMMARY:City Council Work Session
DESCRIPTION:11 17 2025 Council Work Session Agenda
URL:https://parmaheightsoh.gov/event/committee-of-the-whole-2/
LOCATION:City Hall
CATEGORIES:City
ORGANIZER;CN="Council Clerk Allen":MAILTO:ballen@parmaheights.us
END:VEVENT
BEGIN:VEVENT
DTSTART;TZID=UTC:20251117T191500
DTEND;TZID=UTC:20251117T193000
DTSTAMP:20260422T215406
CREATED:20251114T184451Z
LAST-MODIFIED:20251114T184649Z
UID:10000410-1763406900-1763407800@parmaheightsoh.gov
SUMMARY:Mayor's Caucus
DESCRIPTION:Caucus Agenda 11.17.25 SS
URL:https://parmaheightsoh.gov/event/mayors-caucus-52/
LOCATION:City Hall
CATEGORIES:City
ORGANIZER;CN="Council Clerk Allen":MAILTO:ballen@parmaheights.us
END:VEVENT
BEGIN:VEVENT
DTSTART;TZID=UTC:20251117T193000
DTEND;TZID=UTC:20251117T200000
DTSTAMP:20260422T215406
CREATED:20251112T190846Z
LAST-MODIFIED:20251114T210608Z
UID:10000409-1763407800-1763409600@parmaheightsoh.gov
SUMMARY:Special City Council Meeting
DESCRIPTION:CC Packet 11.17.25 \n 
URL:https://parmaheightsoh.gov/event/special-city-council-meeting-4/
LOCATION:City Hall
CATEGORIES:City
ORGANIZER;CN="Council Clerk Allen":MAILTO:ballen@parmaheights.us
END:VEVENT
BEGIN:VEVENT
DTSTART;TZID=UTC:20251122T100000
DTEND;TZID=UTC:20251122T230000
DTSTAMP:20260422T215406
CREATED:20250506T201453Z
LAST-MODIFIED:20251008T173849Z
UID:10000318-1763805600-1763852400@parmaheightsoh.gov
SUMMARY:Yoga at Cassidy
DESCRIPTION:Come together with your community for a peaceful\, refreshing yoga session provided by Jessica Reddick. All levels are welcome!
URL:https://parmaheightsoh.gov/event/yoga-at-cassidy-2/
LOCATION:Cassidy Theatre\, 6200 Pearl Road\, Parma Heights\, OH\, United States
CATEGORIES:City,Recreation
END:VEVENT
BEGIN:VEVENT
DTSTART;TZID=UTC:20251124T140000
DTEND;TZID=UTC:20251124T143000
DTSTAMP:20260422T215406
CREATED:20251121T153800Z
LAST-MODIFIED:20251121T160216Z
UID:10000411-1763992800-1763994600@parmaheightsoh.gov
SUMMARY:Records Commission
DESCRIPTION:November 24 2025 Agenda
URL:https://parmaheightsoh.gov/event/records-commission-4/
LOCATION:City Hall
CATEGORIES:City
ORGANIZER;CN="Council Clerk Allen":MAILTO:ballen@parmaheights.us
END:VEVENT
BEGIN:VEVENT
DTSTART;TZID=UTC:20251124T181500
DTEND;TZID=UTC:20251124T190000
DTSTAMP:20260422T215406
CREATED:20250905T142757Z
LAST-MODIFIED:20251121T192451Z
UID:10000390-1764008100-1764010800@parmaheightsoh.gov
SUMMARY:Mayor's Caucus
DESCRIPTION:Caucus Agenda 11.24.25 \n  \n 
URL:https://parmaheightsoh.gov/event/mayors-caucus-51/
LOCATION:City Hall
CATEGORIES:City
ORGANIZER;CN="Council Clerk Allen":MAILTO:ballen@parmaheights.us
END:VEVENT
BEGIN:VEVENT
DTSTART;TZID=UTC:20251124T190000
DTEND;TZID=UTC:20251124T193000
DTSTAMP:20260422T215406
CREATED:20250905T143008Z
LAST-MODIFIED:20251121T215431Z
UID:10000391-1764010800-1764012600@parmaheightsoh.gov
SUMMARY:City Council Meeting
DESCRIPTION:CC Packet 11 24 25
URL:https://parmaheightsoh.gov/event/city-council-meeting-32/
LOCATION:City Hall
CATEGORIES:City
ORGANIZER;CN="Council Clerk Allen":MAILTO:ballen@parmaheights.us
END:VEVENT
BEGIN:VEVENT
DTSTART;VALUE=DATE:20251127
DTEND;VALUE=DATE:20251129
DTSTAMP:20260422T215406
CREATED:20250905T144834Z
LAST-MODIFIED:20250905T144834Z
UID:10000393-1764201600-1764374399@parmaheightsoh.gov
SUMMARY:Thanksgiving - City Hall Closed
DESCRIPTION:In observance of the Thanksgiving Holiday\, the Parma Heights City Hall will be closed.
URL:https://parmaheightsoh.gov/event/thanksgiving-city-hall-closed/
CATEGORIES:City
ORGANIZER;CN="Council Clerk Allen":MAILTO:ballen@parmaheights.us
END:VEVENT
BEGIN:VEVENT
DTSTART;TZID=UTC:20251130T170000
DTEND;TZID=UTC:20251130T180000
DTSTAMP:20260422T215406
CREATED:20250506T204451Z
LAST-MODIFIED:20251008T174605Z
UID:10000329-1764522000-1764525600@parmaheightsoh.gov
SUMMARY:Tree Lighting Ceremony
DESCRIPTION:Happy Holidays from Mayor Gallo and the City of Parma Heights! Join us for a festive kickoff to the season! \n\nEnjoy cookies and cocoa\nSpecial visitors from the North Pole\nCountdown to the holidays
URL:https://parmaheightsoh.gov/event/tree-lighting-ceremony/
LOCATION:Greenbrier Commons
CATEGORIES:City,Recreation
ORGANIZER;CN="Recreation Department":MAILTO:recreation@parmaheights.us
END:VEVENT
END:VCALENDAR