BEGIN:VCALENDAR
VERSION:2.0
PRODID:-//City of Parma Heights - ECPv6.15.20//NONSGML v1.0//EN
CALSCALE:GREGORIAN
METHOD:PUBLISH
X-WR-CALNAME:City of Parma Heights
X-ORIGINAL-URL:https://parmaheightsoh.gov
X-WR-CALDESC:Events for City of Parma Heights
REFRESH-INTERVAL;VALUE=DURATION:PT1H
X-Robots-Tag:noindex
X-PUBLISHED-TTL:PT1H
BEGIN:VTIMEZONE
TZID:UTC
BEGIN:STANDARD
TZOFFSETFROM:+0000
TZOFFSETTO:+0000
TZNAME:UTC
DTSTART:20240101T000000
END:STANDARD
END:VTIMEZONE
BEGIN:VEVENT
DTSTART;TZID=UTC:20250922T173000
DTEND;TZID=UTC:20250922T183000
DTSTAMP:20260422T162945
CREATED:20250919T142816Z
LAST-MODIFIED:20250919T163108Z
UID:10000396-1758562200-1758565800@parmaheightsoh.gov
SUMMARY:Finance Committee Meeting
DESCRIPTION:Please click on the below link to view the agenda for this meeting. \nFinance Committee 9.22.25
URL:https://parmaheightsoh.gov/event/finance-committee-meeting-4/
LOCATION:City Hall
CATEGORIES:City
ORGANIZER;CN="Council Clerk Allen":MAILTO:ballen@parmaheights.us
END:VEVENT
BEGIN:VEVENT
DTSTART;TZID=UTC:20250922T183000
DTEND;TZID=UTC:20250922T190000
DTSTAMP:20260422T162945
CREATED:20250905T141811Z
LAST-MODIFIED:20250919T142624Z
UID:10000379-1758565800-1758567600@parmaheightsoh.gov
SUMMARY:Mayor's Caucus
DESCRIPTION:Please click on the link below to view the agenda for this meeting. \nCaucus Agenda 9.22.25 \n  \n  \n 
URL:https://parmaheightsoh.gov/event/mayors-caucus-47/
LOCATION:City Hall
CATEGORIES:City
ORGANIZER;CN="Council Clerk Allen":MAILTO:ballen@parmaheights.us
END:VEVENT
BEGIN:VEVENT
DTSTART;TZID=UTC:20250922T190000
DTEND;TZID=UTC:20250922T193000
DTSTAMP:20260422T162945
CREATED:20250905T142351Z
LAST-MODIFIED:20250919T163527Z
UID:10000384-1758567600-1758569400@parmaheightsoh.gov
SUMMARY:City Council Meeting
DESCRIPTION:Please click on the link below to view the agenda for this meeting. \nCC Packet 9.22.25
URL:https://parmaheightsoh.gov/event/city-council-meeting-27/
LOCATION:City Hall
CATEGORIES:City
ORGANIZER;CN="Council Clerk Allen":MAILTO:ballen@parmaheights.us
END:VEVENT
END:VCALENDAR