BEGIN:VCALENDAR
VERSION:2.0
PRODID:-//City of Parma Heights - ECPv6.15.20//NONSGML v1.0//EN
CALSCALE:GREGORIAN
METHOD:PUBLISH
X-ORIGINAL-URL:https://parmaheightsoh.gov
X-WR-CALDESC:Events for City of Parma Heights
REFRESH-INTERVAL;VALUE=DURATION:PT1H
X-Robots-Tag:noindex
X-PUBLISHED-TTL:PT1H
BEGIN:VTIMEZONE
TZID:UTC
BEGIN:STANDARD
TZOFFSETFROM:+0000
TZOFFSETTO:+0000
TZNAME:UTC
DTSTART:20240101T000000
END:STANDARD
END:VTIMEZONE
BEGIN:VEVENT
DTSTART;VALUE=DATE:20250903
DTEND;VALUE=DATE:20250904
DTSTAMP:20260422T163102
CREATED:20241219T212211Z
LAST-MODIFIED:20241219T212240Z
UID:10000275-1756857600-1756943999@parmaheightsoh.gov
SUMMARY:Delay in garbage collection
DESCRIPTION:This is a friendly reminder that Republic Services’ curbside garbage\, recycling\, yard waste\, and bulk collection will be delayed one day due to the holiday. Pick up will be Thursday September 4th.  
URL:https://parmaheightsoh.gov/event/6007/
LOCATION:OH
CATEGORIES:City
END:VEVENT
END:VCALENDAR