BEGIN:VCALENDAR
VERSION:2.0
PRODID:-//City of Parma Heights - ECPv6.15.20//NONSGML v1.0//EN
CALSCALE:GREGORIAN
METHOD:PUBLISH
X-ORIGINAL-URL:https://parmaheightsoh.gov
X-WR-CALDESC:Events for City of Parma Heights
REFRESH-INTERVAL;VALUE=DURATION:PT1H
X-Robots-Tag:noindex
X-PUBLISHED-TTL:PT1H
BEGIN:VTIMEZONE
TZID:UTC
BEGIN:STANDARD
TZOFFSETFROM:+0000
TZOFFSETTO:+0000
TZNAME:UTC
DTSTART:20240101T000000
END:STANDARD
END:VTIMEZONE
BEGIN:VEVENT
DTSTART;TZID=UTC:20250628T093000
DTEND;TZID=UTC:20250628T123000
DTSTAMP:20260424T000926
CREATED:20250528T173644Z
LAST-MODIFIED:20250528T173644Z
UID:10000356-1751103000-1751113800@parmaheightsoh.gov
SUMMARY:Youth Basketball Clinic
DESCRIPTION:We’re excited to be partnering with St. John Bosco this summer to host a Youth Basketball Clinic! This is a great opportunity for kids to learn the fundamentals of the game — including dribbling\, shooting\, and passing — in a fun and supportive environment.\nWhat to Bring: \n\nIndoor shoes (basketball shoes preferred)\nA basketball (If you can have one)\nWater bottle\nA great attitude and excitement!\n\nClinic Dates: \n\nSaturday\, June 21\nSaturday\, June 28\nSaturday\, July 5\n\nAge Groups & Times: \n\nAges 7–8: 9:30 AM – 10:30 AM\nAges 9–10: 10:30 AM – 11:30 AM\nAges 11–13: 11:30 AM – 12:30 PM\n\nWe can’t wait to see everyone on the court! \nRegistration Details: https://parmaheightsoh.myrec.com/info/activities/program_details.aspx?ProgramID=29892
URL:https://parmaheightsoh.gov/event/youth-basketball-clinic-2/
LOCATION:St. John Bosco\, 6480 Pearl Road\, city of parma heights\, OH\, 44130\, United States
CATEGORIES:City,Recreation
END:VEVENT
BEGIN:VEVENT
DTSTART;TZID=UTC:20250628T160000
DTEND;TZID=UTC:20250628T210000
DTSTAMP:20260424T000926
CREATED:20250506T201858Z
LAST-MODIFIED:20250506T203055Z
UID:10000319-1751126400-1751144400@parmaheightsoh.gov
SUMMARY:Guardians Youth Sports Night
DESCRIPTION:Tickets available through MyRec: https://parmaheightsoh.myrec.com/info/activities/program_details.aspx?ProgramID=29866
URL:https://parmaheightsoh.gov/event/guardians-youth-sports-night/
LOCATION:Progressive Field\, 2401 Ontario\, Cleveland\, OH\, United States
CATEGORIES:City,Recreation
END:VEVENT
END:VCALENDAR