BEGIN:VCALENDAR
VERSION:2.0
PRODID:-//City of Parma Heights - ECPv6.15.20//NONSGML v1.0//EN
CALSCALE:GREGORIAN
METHOD:PUBLISH
X-WR-CALNAME:City of Parma Heights
X-ORIGINAL-URL:https://parmaheightsoh.gov
X-WR-CALDESC:Events for City of Parma Heights
REFRESH-INTERVAL;VALUE=DURATION:PT1H
X-Robots-Tag:noindex
X-PUBLISHED-TTL:PT1H
BEGIN:VTIMEZONE
TZID:UTC
BEGIN:STANDARD
TZOFFSETFROM:+0000
TZOFFSETTO:+0000
TZNAME:UTC
DTSTART:20240101T000000
END:STANDARD
END:VTIMEZONE
BEGIN:VEVENT
DTSTART;TZID=UTC:20250310T174500
DTEND;TZID=UTC:20250310T181500
DTSTAMP:20260422T115457
CREATED:20250307T205946Z
LAST-MODIFIED:20250307T210813Z
UID:10000300-1741628700-1741630500@parmaheightsoh.gov
SUMMARY:Safety Committee Meeting
DESCRIPTION:Please click below to view the agenda for the upcoming meeting. \nSafety Committee Agenda 3.10.25
URL:https://parmaheightsoh.gov/event/safety-committee-meeting-4/
LOCATION:City Hall
CATEGORIES:City
ORGANIZER;CN="Council Clerk Allen":MAILTO:ballen@parmaheights.us
END:VEVENT
BEGIN:VEVENT
DTSTART;TZID=UTC:20250310T181500
DTEND;TZID=UTC:20250310T190000
DTSTAMP:20260422T115457
CREATED:20250225T195027Z
LAST-MODIFIED:20250307T205654Z
UID:10000296-1741630500-1741633200@parmaheightsoh.gov
SUMMARY:Mayor's Caucus
DESCRIPTION:Please click on the link below to view the Mayor’s Caucus Agenda.  This agenda has not yet been published.  Please check back to view the upcoming agenda. \nCaucus Agenda 3.10.25
URL:https://parmaheightsoh.gov/event/mayors-caucus-35/
LOCATION:City Hall
CATEGORIES:City
ORGANIZER;CN="Council Clerk Allen":MAILTO:ballen@parmaheights.us
END:VEVENT
BEGIN:VEVENT
DTSTART;TZID=UTC:20250310T190000
DTEND;TZID=UTC:20250310T193000
DTSTAMP:20260422T115457
CREATED:20250225T195500Z
LAST-MODIFIED:20250307T205757Z
UID:10000298-1741633200-1741635000@parmaheightsoh.gov
SUMMARY:Council Meeting
DESCRIPTION:Thank you for your interest in the City of Parma Heights.  Please click on the link below to view the agenda for this meeting. \nCC Packet 3.10.25
URL:https://parmaheightsoh.gov/event/council-meeting-5/
LOCATION:City Hall
CATEGORIES:City
ORGANIZER;CN="Council Clerk Allen":MAILTO:ballen@parmaheights.us
END:VEVENT
END:VCALENDAR