BEGIN:VCALENDAR
VERSION:2.0
PRODID:-//City of Parma Heights - ECPv6.15.20//NONSGML v1.0//EN
CALSCALE:GREGORIAN
METHOD:PUBLISH
X-WR-CALNAME:City of Parma Heights
X-ORIGINAL-URL:https://parmaheightsoh.gov
X-WR-CALDESC:Events for City of Parma Heights
REFRESH-INTERVAL;VALUE=DURATION:PT1H
X-Robots-Tag:noindex
X-PUBLISHED-TTL:PT1H
BEGIN:VTIMEZONE
TZID:UTC
BEGIN:STANDARD
TZOFFSETFROM:+0000
TZOFFSETTO:+0000
TZNAME:UTC
DTSTART:20240101T000000
END:STANDARD
END:VTIMEZONE
BEGIN:VEVENT
DTSTART;TZID=UTC:20250210T174500
DTEND;TZID=UTC:20250210T180000
DTSTAMP:20260423T105013
CREATED:20250207T152835Z
LAST-MODIFIED:20250207T155112Z
UID:10000292-1739209500-1739210400@parmaheightsoh.gov
SUMMARY:Finance Committee
DESCRIPTION:Please click on the link below to view the agenda for this meeting. \nFinance Committee 2 10 25
URL:https://parmaheightsoh.gov/event/finance-committee/
LOCATION:City Hall
CATEGORIES:City
ORGANIZER;CN="Council Clerk Allen":MAILTO:ballen@parmaheights.us
END:VEVENT
BEGIN:VEVENT
DTSTART;TZID=UTC:20250210T180000
DTEND;TZID=UTC:20250210T183000
DTSTAMP:20260423T105013
CREATED:20250207T152717Z
LAST-MODIFIED:20250207T172520Z
UID:10000291-1739210400-1739212200@parmaheightsoh.gov
SUMMARY:Council Work Session
DESCRIPTION:Please click the link below to view the agenda for this meeting. \n2.10.25 Council Work Session
URL:https://parmaheightsoh.gov/event/committee-of-the-whole/
LOCATION:City Hall
CATEGORIES:City
ORGANIZER;CN="Council Clerk Allen":MAILTO:ballen@parmaheights.us
END:VEVENT
BEGIN:VEVENT
DTSTART;TZID=UTC:20250210T183000
DTEND;TZID=UTC:20250210T190000
DTSTAMP:20260423T105013
CREATED:20250207T152601Z
LAST-MODIFIED:20250207T164731Z
UID:10000290-1739212200-1739214000@parmaheightsoh.gov
SUMMARY:Mayor's Caucus
DESCRIPTION:Please click on the link below to view the Mayor’s Caucus Agenda \nCaucus Agenda 2.10.25
URL:https://parmaheightsoh.gov/event/mayors-caucus-33/
LOCATION:City Hall
CATEGORIES:City
ORGANIZER;CN="Council Clerk Allen":MAILTO:ballen@parmaheights.us
END:VEVENT
BEGIN:VEVENT
DTSTART;TZID=UTC:20250210T190000
DTEND;TZID=UTC:20250210T193000
DTSTAMP:20260423T105013
CREATED:20250204T154330Z
LAST-MODIFIED:20250207T182406Z
UID:10000287-1739214000-1739215800@parmaheightsoh.gov
SUMMARY:Council Meeting
DESCRIPTION:Thank you for your interest in the City of Parma Heights. \nCC Packet 2.10.25
URL:https://parmaheightsoh.gov/event/council-meeting-3/
LOCATION:City Hall
CATEGORIES:City
ORGANIZER;CN="Council Clerk Allen":MAILTO:ballen@parmaheights.us
END:VEVENT
END:VCALENDAR