BEGIN:VCALENDAR
VERSION:2.0
PRODID:-//City of Parma Heights - ECPv6.15.20//NONSGML v1.0//EN
CALSCALE:GREGORIAN
METHOD:PUBLISH
X-ORIGINAL-URL:https://parmaheightsoh.gov
X-WR-CALDESC:Events for City of Parma Heights
REFRESH-INTERVAL;VALUE=DURATION:PT1H
X-Robots-Tag:noindex
X-PUBLISHED-TTL:PT1H
BEGIN:VTIMEZONE
TZID:UTC
BEGIN:STANDARD
TZOFFSETFROM:+0000
TZOFFSETTO:+0000
TZNAME:UTC
DTSTART:20240101T000000
END:STANDARD
END:VTIMEZONE
BEGIN:VEVENT
DTSTART;TZID=UTC:20250113T183000
DTEND;TZID=UTC:20250113T190000
DTSTAMP:20260424T070538
CREATED:20250110T233231Z
LAST-MODIFIED:20250114T164400Z
UID:10000279-1736793000-1736794800@parmaheightsoh.gov
SUMMARY:Mayor's Caucus
DESCRIPTION:Please click the link below to access the agenda for the Mayor’s Caucus. \nCaucus Agenda 1.13.25
URL:https://parmaheightsoh.gov/event/mayors-caucus-31/
LOCATION:City Hall
CATEGORIES:City
ORGANIZER;CN="Council Clerk Allen":MAILTO:ballen@parmaheights.us
END:VEVENT
BEGIN:VEVENT
DTSTART;TZID=UTC:20250113T190000
DTEND;TZID=UTC:20250113T193000
DTSTAMP:20260424T070538
CREATED:20250110T233403Z
LAST-MODIFIED:20250110T233403Z
UID:10000280-1736794800-1736796600@parmaheightsoh.gov
SUMMARY:Council Meeting
DESCRIPTION:Please click on the link below to view the agenda for this meeting. \nCC Packet 1 13 25
URL:https://parmaheightsoh.gov/event/council-meeting/
LOCATION:City Hall
CATEGORIES:City
ORGANIZER;CN="Council Clerk Allen":MAILTO:ballen@parmaheights.us
END:VEVENT
END:VCALENDAR