BEGIN:VCALENDAR
VERSION:2.0
PRODID:-//City of Parma Heights - ECPv6.15.20//NONSGML v1.0//EN
CALSCALE:GREGORIAN
METHOD:PUBLISH
X-ORIGINAL-URL:https://parmaheightsoh.gov
X-WR-CALDESC:Events for City of Parma Heights
REFRESH-INTERVAL;VALUE=DURATION:PT1H
X-Robots-Tag:noindex
X-PUBLISHED-TTL:PT1H
BEGIN:VTIMEZONE
TZID:UTC
BEGIN:STANDARD
TZOFFSETFROM:+0000
TZOFFSETTO:+0000
TZNAME:UTC
DTSTART:20230101T000000
END:STANDARD
END:VTIMEZONE
BEGIN:VEVENT
DTSTART;TZID=UTC:20241026T090000
DTEND;TZID=UTC:20241026T120000
DTSTAMP:20260424T115835
CREATED:20240216T165003Z
LAST-MODIFIED:20240216T165003Z
UID:10000085-1729933200-1729944000@parmaheightsoh.gov
SUMMARY:Household Hazardous Waste Collection
DESCRIPTION:
URL:https://parmaheightsoh.gov/event/household-hazardous-waste-collection-4/
LOCATION:Service Garage at Greenbrier Commons
CATEGORIES:City
END:VEVENT
END:VCALENDAR