BEGIN:VCALENDAR
VERSION:2.0
PRODID:-//City of Parma Heights - ECPv6.15.20//NONSGML v1.0//EN
CALSCALE:GREGORIAN
METHOD:PUBLISH
X-ORIGINAL-URL:https://parmaheightsoh.gov
X-WR-CALDESC:Events for City of Parma Heights
REFRESH-INTERVAL;VALUE=DURATION:PT1H
X-Robots-Tag:noindex
X-PUBLISHED-TTL:PT1H
BEGIN:VTIMEZONE
TZID:UTC
BEGIN:STANDARD
TZOFFSETFROM:+0000
TZOFFSETTO:+0000
TZNAME:UTC
DTSTART:20230101T000000
END:STANDARD
END:VTIMEZONE
BEGIN:VEVENT
DTSTART;TZID=UTC:20241021T173000
DTEND;TZID=UTC:20241021T180000
DTSTAMP:20260423T200837
CREATED:20241018T155310Z
LAST-MODIFIED:20241018T155310Z
UID:10000240-1729531800-1729533600@parmaheightsoh.gov
SUMMARY:Recreation Commission
DESCRIPTION:Please click the link below to view the agenda for this meeting. \nOctober 21\, 2024 Agenda
URL:https://parmaheightsoh.gov/event/recreation-commission-3/
CATEGORIES:City
ORGANIZER;CN="Council Clerk Allen":MAILTO:ballen@parmaheights.us
END:VEVENT
END:VCALENDAR