BEGIN:VCALENDAR
VERSION:2.0
PRODID:-//City of Parma Heights - ECPv6.15.20//NONSGML v1.0//EN
CALSCALE:GREGORIAN
METHOD:PUBLISH
X-ORIGINAL-URL:https://parmaheightsoh.gov
X-WR-CALDESC:Events for City of Parma Heights
REFRESH-INTERVAL;VALUE=DURATION:PT1H
X-Robots-Tag:noindex
X-PUBLISHED-TTL:PT1H
BEGIN:VTIMEZONE
TZID:UTC
BEGIN:STANDARD
TZOFFSETFROM:+0000
TZOFFSETTO:+0000
TZNAME:UTC
DTSTART:20230101T000000
END:STANDARD
END:VTIMEZONE
BEGIN:VEVENT
DTSTART;TZID=UTC:20240909T174500
DTEND;TZID=UTC:20240909T181500
DTSTAMP:20260424T132256
CREATED:20240905T194449Z
LAST-MODIFIED:20240906T213839Z
UID:10000229-1725903900-1725905700@parmaheightsoh.gov
SUMMARY:Council Work Session
DESCRIPTION:Please be advised that the City Council Work Session will be meeting at 5:45 p.m. for Council Work Session.  Please click the link below to view the agenda for this meeting. \n09 09 2024 Council Work Session Agenda \n 
URL:https://parmaheightsoh.gov/event/council-work-session-2/
CATEGORIES:City
END:VEVENT
BEGIN:VEVENT
DTSTART;TZID=UTC:20240909T181500
DTEND;TZID=UTC:20240909T190000
DTSTAMP:20260424T132256
CREATED:20240905T193939Z
LAST-MODIFIED:20240906T213929Z
UID:10000226-1725905700-1725908400@parmaheightsoh.gov
SUMMARY:Mayor's Caucus
DESCRIPTION:  \nPlease click the link below to view the Mayor’s Caucus agenda. \nCaucus Agenda 9.9.24 \n  \n  \n 
URL:https://parmaheightsoh.gov/event/mayors-caucus-23/
CATEGORIES:City
END:VEVENT
BEGIN:VEVENT
DTSTART;TZID=UTC:20240909T190000
DTEND;TZID=UTC:20240909T200000
DTSTAMP:20260424T132256
CREATED:20240905T194026Z
LAST-MODIFIED:20240906T214014Z
UID:10000227-1725908400-1725912000@parmaheightsoh.gov
SUMMARY:City Council Meeting
DESCRIPTION:Thank you for your interest in the City of Parma Heights. \nCC PACKET 9 9 2024 \n  \n 
URL:https://parmaheightsoh.gov/event/city-council-meeting-19/
LOCATION:City Hall
CATEGORIES:City
ORGANIZER;CN="Council Clerk Allen":MAILTO:ballen@parmaheights.us
END:VEVENT
END:VCALENDAR