BEGIN:VCALENDAR
VERSION:2.0
PRODID:-//City of Parma Heights - ECPv6.15.20//NONSGML v1.0//EN
CALSCALE:GREGORIAN
METHOD:PUBLISH
X-WR-CALNAME:City of Parma Heights
X-ORIGINAL-URL:https://parmaheightsoh.gov
X-WR-CALDESC:Events for City of Parma Heights
REFRESH-INTERVAL;VALUE=DURATION:PT1H
X-Robots-Tag:noindex
X-PUBLISHED-TTL:PT1H
BEGIN:VTIMEZONE
TZID:UTC
BEGIN:STANDARD
TZOFFSETFROM:+0000
TZOFFSETTO:+0000
TZNAME:UTC
DTSTART:20230101T000000
END:STANDARD
END:VTIMEZONE
BEGIN:VEVENT
DTSTART;TZID=UTC:20240727T090000
DTEND;TZID=UTC:20240727T120000
DTSTAMP:20260424T160119
CREATED:20240216T164845Z
LAST-MODIFIED:20240216T164845Z
UID:10000084-1722070800-1722081600@parmaheightsoh.gov
SUMMARY:Household Hazardous Waste Collection
DESCRIPTION:
URL:https://parmaheightsoh.gov/event/household-hazardous-waste-collection-3/
LOCATION:Service Garage at Greenbrier Commons
CATEGORIES:City
END:VEVENT
BEGIN:VEVENT
DTSTART;TZID=UTC:20240727T130000
DTEND;TZID=UTC:20240727T160000
DTSTAMP:20260424T160119
CREATED:20240708T181257Z
LAST-MODIFIED:20240708T181542Z
UID:10000212-1722085200-1722096000@parmaheightsoh.gov
SUMMARY:Christmas in July
DESCRIPTION:Celebrate Christmas in July with Mayor Gallo and Parma Heights from 1-4 at Greenbriar Commons! \n\n\n\nJoin us for a Foam Party from 1 PM to 2:30 PM at the Gazebo! This activity is for children aged 12 and under.\n\n\n\n Parma Heights Police and Fire Department will be stopping by! \n\n\n\n Parma Heights City Council will be making snow cones for everyone to enjoy. \n\n\nAs always\, the Parma Heights Recreation Staff will have crafts\, games\, and more fun activities!\n\n\nThe celebration continues at the pool! Regular entrance fees apply\, but there’s no additional cost for the event.
URL:https://parmaheightsoh.gov/event/christmas-in-july/
CATEGORIES:City,Recreation
END:VEVENT
END:VCALENDAR