BEGIN:VCALENDAR
VERSION:2.0
PRODID:-//City of Parma Heights - ECPv6.15.20//NONSGML v1.0//EN
CALSCALE:GREGORIAN
METHOD:PUBLISH
X-WR-CALNAME:City of Parma Heights
X-ORIGINAL-URL:https://parmaheightsoh.gov
X-WR-CALDESC:Events for City of Parma Heights
REFRESH-INTERVAL;VALUE=DURATION:PT1H
X-Robots-Tag:noindex
X-PUBLISHED-TTL:PT1H
BEGIN:VTIMEZONE
TZID:UTC
BEGIN:STANDARD
TZOFFSETFROM:+0000
TZOFFSETTO:+0000
TZNAME:UTC
DTSTART:20230101T000000
END:STANDARD
END:VTIMEZONE
BEGIN:VEVENT
DTSTART;VALUE=DATE:20240716
DTEND;VALUE=DATE:20240719
DTSTAMP:20260424T160124
CREATED:20240626T195639Z
LAST-MODIFIED:20240626T200950Z
UID:10000153-1721088000-1721347199@parmaheightsoh.gov
SUMMARY:Cuyahoga Soil & Water District Teachers on the Estuary at Old Woman Creek
DESCRIPTION:Join Cuyahoga SWCD and teachers from across the county for this one-of-a-kind training! Spend three days and two nights at Old Woman Creek National Estuarine Research Reserve on the shores of Lake Erie.
URL:https://parmaheightsoh.gov/event/cuyahoga-soil-water-district-teachers-on-the-estuary-at-old-woman-creek/
CATEGORIES:City
ATTACH;FMTTYPE=image/jpeg:https://parmaheightsoh.gov/wp-content/uploads/2024/06/Teachers-on-the-Estuary-teachers-workshop.jpg
END:VEVENT
END:VCALENDAR