BEGIN:VCALENDAR
VERSION:2.0
PRODID:-//City of Parma Heights - ECPv6.15.20//NONSGML v1.0//EN
CALSCALE:GREGORIAN
METHOD:PUBLISH
X-ORIGINAL-URL:https://parmaheightsoh.gov
X-WR-CALDESC:Events for City of Parma Heights
REFRESH-INTERVAL;VALUE=DURATION:PT1H
X-Robots-Tag:noindex
X-PUBLISHED-TTL:PT1H
BEGIN:VTIMEZONE
TZID:UTC
BEGIN:STANDARD
TZOFFSETFROM:+0000
TZOFFSETTO:+0000
TZNAME:UTC
DTSTART:20230101T000000
END:STANDARD
END:VTIMEZONE
BEGIN:VEVENT
DTSTART;TZID=UTC:20240701T180000
DTEND;TZID=UTC:20240701T190000
DTSTAMP:20260424T160127
CREATED:20240627T195553Z
LAST-MODIFIED:20240627T195553Z
UID:10000154-1719856800-1719860400@parmaheightsoh.gov
SUMMARY:Planning Commission
DESCRIPTION:Please see the agenda below…. \n07 01 2024 Planning agenda
URL:https://parmaheightsoh.gov/event/planning-commission-4/
LOCATION:City Hall
CATEGORIES:City
END:VEVENT
END:VCALENDAR