BEGIN:VCALENDAR
VERSION:2.0
PRODID:-//City of Parma Heights - ECPv6.15.20//NONSGML v1.0//EN
CALSCALE:GREGORIAN
METHOD:PUBLISH
X-WR-CALNAME:City of Parma Heights
X-ORIGINAL-URL:https://parmaheightsoh.gov
X-WR-CALDESC:Events for City of Parma Heights
REFRESH-INTERVAL;VALUE=DURATION:PT1H
X-Robots-Tag:noindex
X-PUBLISHED-TTL:PT1H
BEGIN:VTIMEZONE
TZID:UTC
BEGIN:STANDARD
TZOFFSETFROM:+0000
TZOFFSETTO:+0000
TZNAME:UTC
DTSTART:20230101T000000
END:STANDARD
END:VTIMEZONE
BEGIN:VEVENT
DTSTART;TZID=UTC:20240530T080000
DTEND;TZID=UTC:20240530T170000
DTSTAMP:20260424T184528
CREATED:20240516T142720Z
LAST-MODIFIED:20240516T142814Z
UID:10000132-1717056000-1717088400@parmaheightsoh.gov
SUMMARY:Garbage Collection Delay Due to Holiday
DESCRIPTION:Garbage\, recycle\, yard waste\, and bulk collection will be delayed one day due to Memorial Day. Collection will be Thursday May 30th.
URL:https://parmaheightsoh.gov/event/garbage-collection-delay-due-to-holiday/
CATEGORIES:City
END:VEVENT
END:VCALENDAR