BEGIN:VCALENDAR
VERSION:2.0
PRODID:-//City of Parma Heights - ECPv6.15.20//NONSGML v1.0//EN
CALSCALE:GREGORIAN
METHOD:PUBLISH
X-WR-CALNAME:City of Parma Heights
X-ORIGINAL-URL:https://parmaheightsoh.gov
X-WR-CALDESC:Events for City of Parma Heights
REFRESH-INTERVAL;VALUE=DURATION:PT1H
X-Robots-Tag:noindex
X-PUBLISHED-TTL:PT1H
BEGIN:VTIMEZONE
TZID:UTC
BEGIN:STANDARD
TZOFFSETFROM:+0000
TZOFFSETTO:+0000
TZNAME:UTC
DTSTART:20230101T000000
END:STANDARD
END:VTIMEZONE
BEGIN:VEVENT
DTSTART;TZID=UTC:20240420T130000
DTEND;TZID=UTC:20240420T150000
DTSTAMP:20260424T212903
CREATED:20240403T161206Z
LAST-MODIFIED:20240403T161206Z
UID:10000110-1713618000-1713625200@parmaheightsoh.gov
SUMMARY:Line Dancing - Beginner
DESCRIPTION:Join Mary Harwood at Cassidy Theatre on April 20th from 1-3 PM for beginner line dance classes!\n\n\nA MyRec account will need to be created before or at the door to participate in the program.\n$6 for preregistration\n$6 at the door\n\n\nCreate your MyRec account and preregister here: https://parmaheightsoh.myrec.com/…/program_details.aspx…
URL:https://parmaheightsoh.gov/event/line-dancing-beginner/
CATEGORIES:City,Recreation
END:VEVENT
END:VCALENDAR