BEGIN:VCALENDAR
VERSION:2.0
PRODID:-//City of Parma Heights - ECPv6.15.20//NONSGML v1.0//EN
CALSCALE:GREGORIAN
METHOD:PUBLISH
X-ORIGINAL-URL:https://parmaheightsoh.gov
X-WR-CALDESC:Events for City of Parma Heights
REFRESH-INTERVAL;VALUE=DURATION:PT1H
X-Robots-Tag:noindex
X-PUBLISHED-TTL:PT1H
BEGIN:VTIMEZONE
TZID:UTC
BEGIN:STANDARD
TZOFFSETFROM:+0000
TZOFFSETTO:+0000
TZNAME:UTC
DTSTART:20230101T000000
END:STANDARD
END:VTIMEZONE
BEGIN:VEVENT
DTSTART;TZID=UTC:20240304T173000
DTEND;TZID=UTC:20240304T180000
DTSTAMP:20260424T212912
CREATED:20240227T175700Z
LAST-MODIFIED:20240227T175713Z
UID:10000098-1709573400-1709575200@parmaheightsoh.gov
SUMMARY:Planning Commission
DESCRIPTION:Please be advised that the Planning Commission will meet on March 4th at 5:30 p.m. in Council Chamber.  Please click below on the agenda to view the discussion items. \n03 04 2024 Planning agenda
URL:https://parmaheightsoh.gov/event/planning-commission-2/
CATEGORIES:City
END:VEVENT
END:VCALENDAR