BEGIN:VCALENDAR
VERSION:2.0
PRODID:-//City of Parma Heights - ECPv6.15.20//NONSGML v1.0//EN
CALSCALE:GREGORIAN
METHOD:PUBLISH
X-WR-CALNAME:City of Parma Heights
X-ORIGINAL-URL:https://parmaheightsoh.gov
X-WR-CALDESC:Events for City of Parma Heights
REFRESH-INTERVAL;VALUE=DURATION:PT1H
X-Robots-Tag:noindex
X-PUBLISHED-TTL:PT1H
BEGIN:VTIMEZONE
TZID:UTC
BEGIN:STANDARD
TZOFFSETFROM:+0000
TZOFFSETTO:+0000
TZNAME:UTC
DTSTART:20230101T000000
END:STANDARD
END:VTIMEZONE
BEGIN:VEVENT
DTSTART;TZID=UTC:20240226T180000
DTEND;TZID=UTC:20240226T183000
DTSTAMP:20260424T212857
CREATED:20240222T195704Z
LAST-MODIFIED:20240222T195704Z
UID:10000094-1708970400-1708972200@parmaheightsoh.gov
SUMMARY:Finance Committee Meeting
DESCRIPTION:Please be advised that the City Council Finance Committee will be meeting at 6:00 p.m.  Please click the link below to view the agenda for this meeting. \nCity Council Finance Committee Meeting 2 26 2024
URL:https://parmaheightsoh.gov/event/finance-committee-meeting-2/
CATEGORIES:City
END:VEVENT
BEGIN:VEVENT
DTSTART;TZID=UTC:20240226T183000
DTEND;TZID=UTC:20240226T190000
DTSTAMP:20260424T212857
CREATED:20240222T200028Z
LAST-MODIFIED:20240222T200038Z
UID:10000095-1708972200-1708974000@parmaheightsoh.gov
SUMMARY:Mayor's Caucus
DESCRIPTION:  \nPlease click the link below to view the Mayor’s Caucus agenda for 2/26/2024. \nCaucus Agenda 2.26.24
URL:https://parmaheightsoh.gov/event/mayors-caucus-12/
CATEGORIES:City
END:VEVENT
BEGIN:VEVENT
DTSTART;TZID=UTC:20240226T190000
DTEND;TZID=UTC:20240226T200000
DTSTAMP:20260424T212857
CREATED:20240222T200146Z
LAST-MODIFIED:20240223T205826Z
UID:10000096-1708974000-1708977600@parmaheightsoh.gov
SUMMARY:City Council Meeting
DESCRIPTION:Thank you for your interest in the City of Parma Heights. \nCC PACKET 2 26 2024
URL:https://parmaheightsoh.gov/event/city-council-meeting-10/
CATEGORIES:City
END:VEVENT
END:VCALENDAR