BEGIN:VCALENDAR
VERSION:2.0
PRODID:-//City of Parma Heights - ECPv6.15.20//NONSGML v1.0//EN
CALSCALE:GREGORIAN
METHOD:PUBLISH
X-WR-CALNAME:City of Parma Heights
X-ORIGINAL-URL:https://parmaheightsoh.gov
X-WR-CALDESC:Events for City of Parma Heights
REFRESH-INTERVAL;VALUE=DURATION:PT1H
X-Robots-Tag:noindex
X-PUBLISHED-TTL:PT1H
BEGIN:VTIMEZONE
TZID:UTC
BEGIN:STANDARD
TZOFFSETFROM:+0000
TZOFFSETTO:+0000
TZNAME:UTC
DTSTART:20230101T000000
END:STANDARD
END:VTIMEZONE
BEGIN:VEVENT
DTSTART;VALUE=DATE:20240221
DTEND;VALUE=DATE:20240222
DTSTAMP:20260425T001303
CREATED:20240216T165145Z
LAST-MODIFIED:20240216T165225Z
UID:10000086-1708473600-1708559999@parmaheightsoh.gov
SUMMARY:Weekly Bulk & Yard Waste Starts
DESCRIPTION:Weekly Bulk and Yard Waste Starts February 21\, 2024\n\n\n\n\n\nRepublic Services is now collecting bulk and yard waste weekly\, year-round starting February 21\, 2024\, on your regular curbside collection day.\nBulk waste is considered items that cannot fit into your trash cart. Residents may place up to 6 items per household per week.\nYard waste may now be placed in clear plastic bags or loose in a trash container marked “yard waste” not to exceed 32 gallons and no heavier than 35 pounds.\nSmall branches must be cut and bundled not to exceed 4 feet in length and no heavier than 35 pounds.
URL:https://parmaheightsoh.gov/event/weekly-bulk-yard-waste-starts/
CATEGORIES:City
END:VEVENT
END:VCALENDAR