BEGIN:VCALENDAR
VERSION:2.0
PRODID:-//City of Parma Heights - ECPv6.15.20//NONSGML v1.0//EN
CALSCALE:GREGORIAN
METHOD:PUBLISH
X-ORIGINAL-URL:https://parmaheightsoh.gov
X-WR-CALDESC:Events for City of Parma Heights
REFRESH-INTERVAL;VALUE=DURATION:PT1H
X-Robots-Tag:noindex
X-PUBLISHED-TTL:PT1H
BEGIN:VTIMEZONE
TZID:UTC
BEGIN:STANDARD
TZOFFSETFROM:+0000
TZOFFSETTO:+0000
TZNAME:UTC
DTSTART:20230101T000000
END:STANDARD
END:VTIMEZONE
BEGIN:VEVENT
DTSTART;TZID=UTC:20240203T120000
DTEND;TZID=UTC:20240203T120000
DTSTAMP:20260424T225015
CREATED:20240202T211113Z
LAST-MODIFIED:20240202T211727Z
UID:10000076-1706961600-1706961600@parmaheightsoh.gov
SUMMARY:Crafts with Parma Heights
DESCRIPTION:We invite you all to join us to take part in our fun holiday crafts activity for the whole family! Decorate to your heart’s content! We will provide snacks and drinks! Dress for mess – We will be using paint and glue \nThe photo posted is a preview of this season’s craft!
URL:https://parmaheightsoh.gov/event/4002/
LOCATION:Community Rooms
CATEGORIES:City,Recreation
END:VEVENT
END:VCALENDAR