BEGIN:VCALENDAR
VERSION:2.0
PRODID:-//City of Parma Heights - ECPv6.15.20//NONSGML v1.0//EN
CALSCALE:GREGORIAN
METHOD:PUBLISH
X-ORIGINAL-URL:https://parmaheightsoh.gov
X-WR-CALDESC:Events for City of Parma Heights
REFRESH-INTERVAL;VALUE=DURATION:PT1H
X-Robots-Tag:noindex
X-PUBLISHED-TTL:PT1H
BEGIN:VTIMEZONE
TZID:UTC
BEGIN:STANDARD
TZOFFSETFROM:+0000
TZOFFSETTO:+0000
TZNAME:UTC
DTSTART:20230101T000000
END:STANDARD
END:VTIMEZONE
BEGIN:VEVENT
DTSTART;TZID=UTC:20240122T181500
DTEND;TZID=UTC:20240122T190000
DTSTAMP:20260425T030310
CREATED:20240119T180101Z
LAST-MODIFIED:20240119T180101Z
UID:10000075-1705947300-1705950000@parmaheightsoh.gov
SUMMARY:Mayor's Caucus
DESCRIPTION:Please click the link below to view the agenda for this meeting. \nCaucus Agenda 1.22.24
URL:https://parmaheightsoh.gov/event/mayors-caucus-10/
CATEGORIES:City
ORGANIZER;CN="Council Clerk Allen":MAILTO:ballen@parmaheights.us
END:VEVENT
BEGIN:VEVENT
DTSTART;TZID=UTC:20240122T190000
DTEND;TZID=UTC:20240122T200000
DTSTAMP:20260425T030310
CREATED:20240104T144912Z
LAST-MODIFIED:20240119T180228Z
UID:10000060-1705950000-1705953600@parmaheightsoh.gov
SUMMARY:City Council Meeting
DESCRIPTION:Please click the link below to view the agenda for this meeting. \nCC PACKET 1 22 24
URL:https://parmaheightsoh.gov/event/city-council-meeting-8/
CATEGORIES:City
ORGANIZER;CN="Council Clerk Allen":MAILTO:ballen@parmaheights.us
END:VEVENT
END:VCALENDAR