BEGIN:VCALENDAR
VERSION:2.0
PRODID:-//City of Parma Heights - ECPv6.15.20//NONSGML v1.0//EN
CALSCALE:GREGORIAN
METHOD:PUBLISH
X-WR-CALNAME:City of Parma Heights
X-ORIGINAL-URL:https://parmaheightsoh.gov
X-WR-CALDESC:Events for City of Parma Heights
REFRESH-INTERVAL;VALUE=DURATION:PT1H
X-Robots-Tag:noindex
X-PUBLISHED-TTL:PT1H
BEGIN:VTIMEZONE
TZID:UTC
BEGIN:STANDARD
TZOFFSETFROM:+0000
TZOFFSETTO:+0000
TZNAME:UTC
DTSTART:20230101T000000
END:STANDARD
END:VTIMEZONE
BEGIN:VEVENT
DTSTART;VALUE=DATE:20240117
DTEND;VALUE=DATE:20240118
DTSTAMP:20260425T013826
CREATED:20240110T212216Z
LAST-MODIFIED:20240110T213323Z
UID:10000063-1705449600-1705535999@parmaheightsoh.gov
SUMMARY:Bulk Collection
DESCRIPTION:
URL:https://parmaheightsoh.gov/event/republic-services-bulk-collection-2/
CATEGORIES:City
END:VEVENT
END:VCALENDAR