BEGIN:VCALENDAR
VERSION:2.0
PRODID:-//City of Parma Heights - ECPv6.15.20//NONSGML v1.0//EN
CALSCALE:GREGORIAN
METHOD:PUBLISH
X-WR-CALNAME:City of Parma Heights
X-ORIGINAL-URL:https://parmaheightsoh.gov
X-WR-CALDESC:Events for City of Parma Heights
REFRESH-INTERVAL;VALUE=DURATION:PT1H
X-Robots-Tag:noindex
X-PUBLISHED-TTL:PT1H
BEGIN:VTIMEZONE
TZID:UTC
BEGIN:STANDARD
TZOFFSETFROM:+0000
TZOFFSETTO:+0000
TZNAME:UTC
DTSTART:20220101T000000
END:STANDARD
END:VTIMEZONE
BEGIN:VEVENT
DTSTART;TZID=UTC:20231204T173000
DTEND;TZID=UTC:20231204T180000
DTSTAMP:20260425T031202
CREATED:20231129T201307Z
LAST-MODIFIED:20231130T153517Z
UID:10000054-1701711000-1701712800@parmaheightsoh.gov
SUMMARY:Planning Commission
DESCRIPTION:Please be advised that the Planning Commission and Public Hearing will be held on December 4th at 5:30 p.m. in Council Chamber.  Please click below on the agenda to view the discussion items. \n12 4 23 Planning agenda
URL:https://parmaheightsoh.gov/event/planning-commission/
CATEGORIES:City
END:VEVENT
END:VCALENDAR