BEGIN:VCALENDAR
VERSION:2.0
PRODID:-//City of Parma Heights - ECPv6.15.20//NONSGML v1.0//EN
CALSCALE:GREGORIAN
METHOD:PUBLISH
X-ORIGINAL-URL:https://parmaheightsoh.gov
X-WR-CALDESC:Events for City of Parma Heights
REFRESH-INTERVAL;VALUE=DURATION:PT1H
X-Robots-Tag:noindex
X-PUBLISHED-TTL:PT1H
BEGIN:VTIMEZONE
TZID:UTC
BEGIN:STANDARD
TZOFFSETFROM:+0000
TZOFFSETTO:+0000
TZNAME:UTC
DTSTART:20220101T000000
END:STANDARD
END:VTIMEZONE
BEGIN:VEVENT
DTSTART;TZID=UTC:20231127T170000
DTEND;TZID=UTC:20231127T180000
DTSTAMP:20260425T031153
CREATED:20231023T153734Z
LAST-MODIFIED:20231023T153839Z
UID:10000044-1701104400-1701108000@parmaheightsoh.gov
SUMMARY:Parma Heights Tree Lighting
DESCRIPTION:Happy Holidays from Mayor Gallo and The City of Parma Heights!\nKick off the season with special visitors from the North Pole\, Valley Forge High School Choir\, and enjoy cocoa and sweet treats with Parma Heights Recreation and Vineyard Church! \n(Greenbrier Commons Gazebo)
URL:https://parmaheightsoh.gov/event/parma-heights-tree-lighting/
LOCATION:Greenbrier Commons
CATEGORIES:City,Recreation
END:VEVENT
BEGIN:VEVENT
DTSTART;TZID=UTC:20231127T183000
DTEND;TZID=UTC:20231127T190000
DTSTAMP:20260425T031153
CREATED:20231122T143329Z
LAST-MODIFIED:20231122T143329Z
UID:10000052-1701109800-1701111600@parmaheightsoh.gov
SUMMARY:Mayor's Caucus
DESCRIPTION:Mayor’s Caucus will begin at 6:30 p.m.  Please click on the link to view the agenda. \nCaucus Agenda 11.27.23
URL:https://parmaheightsoh.gov/event/mayors-caucus-7/
LOCATION:City Hall
CATEGORIES:City
ORGANIZER;CN="Council Clerk Allen":MAILTO:ballen@parmaheights.us
END:VEVENT
BEGIN:VEVENT
DTSTART;TZID=UTC:20231127T190000
DTEND;TZID=UTC:20231127T200000
DTSTAMP:20260425T031153
CREATED:20231122T143434Z
LAST-MODIFIED:20231122T143434Z
UID:10000053-1701111600-1701115200@parmaheightsoh.gov
SUMMARY:City Council Meeting
DESCRIPTION:Parma Heights City Council meeting will begin at 7:00 p.m.  Please click below to view the agenda for this meeting. \n11 27 2023 Agenda Packet \n  \n 
URL:https://parmaheightsoh.gov/event/city-council-meeting-6/
LOCATION:City Hall
CATEGORIES:City
ORGANIZER;CN="Council Clerk Allen":MAILTO:ballen@parmaheights.us
END:VEVENT
END:VCALENDAR