BEGIN:VCALENDAR
VERSION:2.0
PRODID:-//City of Parma Heights - ECPv6.15.20//NONSGML v1.0//EN
CALSCALE:GREGORIAN
METHOD:PUBLISH
X-WR-CALNAME:City of Parma Heights
X-ORIGINAL-URL:https://parmaheightsoh.gov
X-WR-CALDESC:Events for City of Parma Heights
REFRESH-INTERVAL;VALUE=DURATION:PT1H
X-Robots-Tag:noindex
X-PUBLISHED-TTL:PT1H
BEGIN:VTIMEZONE
TZID:UTC
BEGIN:STANDARD
TZOFFSETFROM:+0000
TZOFFSETTO:+0000
TZNAME:UTC
DTSTART:20230101T000000
END:STANDARD
END:VTIMEZONE
BEGIN:VEVENT
DTSTART;TZID=UTC:20241209T173000
DTEND;TZID=UTC:20241209T181500
DTSTAMP:20260424T070242
CREATED:20241204T143503Z
LAST-MODIFIED:20241206T182929Z
UID:10000256-1733765400-1733768100@parmaheightsoh.gov
SUMMARY:Safety Committee
DESCRIPTION:Please click the link below to view the agenda for this Safety Committee meeting. \nSafety Committee Agenda 12 09 2024 \n  \n 
URL:https://parmaheightsoh.gov/event/safety-committee-4/
CATEGORIES:City
ORGANIZER;CN="Council Clerk Allen":MAILTO:ballen@parmaheights.us
END:VEVENT
BEGIN:VEVENT
DTSTART;TZID=UTC:20241209T181500
DTEND;TZID=UTC:20241209T190000
DTSTAMP:20260424T070242
CREATED:20241204T143543Z
LAST-MODIFIED:20241206T203804Z
UID:10000257-1733768100-1733770800@parmaheightsoh.gov
SUMMARY:Mayor's Caucus
DESCRIPTION:Please click the link below to view the agenda. \nCaucus Agenda 12.9.24
URL:https://parmaheightsoh.gov/event/mayors-caucus-30/
LOCATION:City Hall
CATEGORIES:City
ORGANIZER;CN="Council Clerk Allen":MAILTO:ballen@parmaheights.us
END:VEVENT
BEGIN:VEVENT
DTSTART;TZID=UTC:20241209T190000
DTEND;TZID=UTC:20241209T193000
DTSTAMP:20260424T070242
CREATED:20241204T143616Z
LAST-MODIFIED:20241206T221339Z
UID:10000258-1733770800-1733772600@parmaheightsoh.gov
SUMMARY:City Council Meeting
DESCRIPTION:Thank you for your interest in the City of Parma Heights. \nCC PACKET 12 09 2024 \n  \n  \n  \n 
URL:https://parmaheightsoh.gov/event/city-council-meeting-25/
LOCATION:City Hall
CATEGORIES:City
ORGANIZER;CN="Council Clerk Allen":MAILTO:ballen@parmaheights.us
END:VEVENT
BEGIN:VEVENT
DTSTART;TZID=UTC:20241216T173000
DTEND;TZID=UTC:20241216T180000
DTSTAMP:20260424T070242
CREATED:20241213T155719Z
LAST-MODIFIED:20241213T155719Z
UID:10000259-1734370200-1734372000@parmaheightsoh.gov
SUMMARY:Utilities and Streets Committee
DESCRIPTION:Please click the link below to view the agenda for this Utilities and Streets Committee meeting. \nDecember 16 2024 Agenda \n  \n 
URL:https://parmaheightsoh.gov/event/utilities-and-streets-committee-2/
CATEGORIES:City
ORGANIZER;CN="Council Clerk Allen":MAILTO:ballen@parmaheights.us
END:VEVENT
BEGIN:VEVENT
DTSTART;TZID=UTC:20241219T183000
DTEND;TZID=UTC:20241219T190000
DTSTAMP:20260424T070242
CREATED:20241216T213731Z
LAST-MODIFIED:20241217T181709Z
UID:10000260-1734633000-1734634800@parmaheightsoh.gov
SUMMARY:CANCELLED - Civil Service Commission
DESCRIPTION:The meeting scheduled for the Civil Service Commission has been cancelled. \n 
URL:https://parmaheightsoh.gov/event/civil-service-commission-4/
LOCATION:City Hall
CATEGORIES:City
ORGANIZER;CN="Council Clerk Allen":MAILTO:ballen@parmaheights.us
END:VEVENT
BEGIN:VEVENT
DTSTART;VALUE=DATE:20241225
DTEND;VALUE=DATE:20241226
DTSTAMP:20260424T070242
CREATED:20241219T202540Z
LAST-MODIFIED:20241219T202540Z
UID:10000261-1735084800-1735171199@parmaheightsoh.gov
SUMMARY:Delay in garbage collection
DESCRIPTION:This is a friendly reminder that Republic Services’ curbside garbage\, recycling\, yard waste\, and bulk collection will be delayed one day due to the holidays. Collection will be on Thursday\, December 26th\, and January 2nd. Happy Holidays.
URL:https://parmaheightsoh.gov/event/delay-in-garbage-collection/
CATEGORIES:City
END:VEVENT
BEGIN:VEVENT
DTSTART;TZID=UTC:20241227T170000
DTEND;TZID=UTC:20241227T171500
DTSTAMP:20260424T070242
CREATED:20241223T222243Z
LAST-MODIFIED:20241223T222243Z
UID:10000276-1735318800-1735319700@parmaheightsoh.gov
SUMMARY:Special Council Meeting
DESCRIPTION:Please click on the link below to view the agenda for this meeting. \n12 27 2024 Agenda
URL:https://parmaheightsoh.gov/event/special-council-meeting-2/
LOCATION:City Hall
CATEGORIES:City
ORGANIZER;CN="Council Clerk Allen":MAILTO:ballen@parmaheights.us
END:VEVENT
BEGIN:VEVENT
DTSTART;TZID=UTC:20241230T183000
DTEND;TZID=UTC:20241230T190000
DTSTAMP:20260424T070242
CREATED:20241227T184848Z
LAST-MODIFIED:20241227T184848Z
UID:10000277-1735583400-1735585200@parmaheightsoh.gov
SUMMARY:Civil Service Commission
DESCRIPTION:The Civil Service Commission will meet on Monday\, December 30th\, 2024.  Please click the link below to view the agenda. \n12 30 2024 Agenda
URL:https://parmaheightsoh.gov/event/civil-service-commission-5/
LOCATION:City Hall
CATEGORIES:City
ORGANIZER;CN="Council Clerk Allen":MAILTO:ballen@parmaheights.us
END:VEVENT
END:VCALENDAR