BEGIN:VCALENDAR
VERSION:2.0
PRODID:-//City of Parma Heights - ECPv6.15.20//NONSGML v1.0//EN
CALSCALE:GREGORIAN
METHOD:PUBLISH
X-ORIGINAL-URL:https://parmaheightsoh.gov
X-WR-CALDESC:Events for City of Parma Heights
REFRESH-INTERVAL;VALUE=DURATION:PT1H
X-Robots-Tag:noindex
X-PUBLISHED-TTL:PT1H
BEGIN:VTIMEZONE
TZID:UTC
BEGIN:STANDARD
TZOFFSETFROM:+0000
TZOFFSETTO:+0000
TZNAME:UTC
DTSTART:20230101T000000
END:STANDARD
END:VTIMEZONE
BEGIN:VEVENT
DTSTART;TZID=UTC:20241104T120000
DTEND;TZID=UTC:20241104T130000
DTSTAMP:20260424T085620
CREATED:20241008T142420Z
LAST-MODIFIED:20241008T142420Z
UID:10000235-1730721600-1730725200@parmaheightsoh.gov
SUMMARY:NOPEC Natural Gas Opt In Public Hearing
DESCRIPTION:NOPEC Natural Gas Opt-In Synopsis for Residents
URL:https://parmaheightsoh.gov/event/nopec-natural-gas-opt-in-public-hearing/
LOCATION:City Hall
CATEGORIES:City
END:VEVENT
BEGIN:VEVENT
DTSTART;TZID=UTC:20241104T170000
DTEND;TZID=UTC:20241104T180000
DTSTAMP:20260424T085620
CREATED:20241008T142629Z
LAST-MODIFIED:20241008T142629Z
UID:10000236-1730739600-1730743200@parmaheightsoh.gov
SUMMARY:NOPEC Natural Gas Opt In Public Hearing
DESCRIPTION:NOPEC Natural Gas Opt-In Synopsis for Residents
URL:https://parmaheightsoh.gov/event/nopec-natural-gas-opt-in-public-hearing-2/
LOCATION:City Hall
CATEGORIES:City
END:VEVENT
BEGIN:VEVENT
DTSTART;TZID=UTC:20241104T173000
DTEND;TZID=UTC:20241104T180000
DTSTAMP:20260424T085620
CREATED:20241031T151621Z
LAST-MODIFIED:20241101T160718Z
UID:10000247-1730741400-1730743200@parmaheightsoh.gov
SUMMARY:Planning Commission
DESCRIPTION:Please click the link below to view the agenda for the Planning Commission meeting and Public Hearing. \n11 04 2024 Planning agenda
URL:https://parmaheightsoh.gov/event/planning-commission-6/
LOCATION:City Hall
CATEGORIES:City
ORGANIZER;CN="Council Clerk Allen":MAILTO:ballen@parmaheights.us
END:VEVENT
BEGIN:VEVENT
DTSTART;TZID=UTC:20241109T090000
DTEND;TZID=UTC:20241109T120000
DTSTAMP:20260424T085620
CREATED:20240216T170836Z
LAST-MODIFIED:20240216T170836Z
UID:10000092-1731142800-1731153600@parmaheightsoh.gov
SUMMARY:Campaign Sign Recycling Collection
DESCRIPTION:Both the sign and the holder can be recycled.
URL:https://parmaheightsoh.gov/event/campaign-sign-recycling-collection/
LOCATION:Service Garage at Greenbrier Commons
CATEGORIES:City
END:VEVENT
BEGIN:VEVENT
DTSTART;TZID=UTC:20241112T170000
DTEND;TZID=UTC:20241112T173000
DTSTAMP:20260424T085620
CREATED:20241108T152432Z
LAST-MODIFIED:20241108T152432Z
UID:10000249-1731430800-1731432600@parmaheightsoh.gov
SUMMARY:Safety Committee
DESCRIPTION:Please click the link below to view the agenda for this Safety Committee meeting. \nSafety Committee Agenda 11 12 2024 \n  \n 
URL:https://parmaheightsoh.gov/event/safety-committee-3/
CATEGORIES:City
ORGANIZER;CN="Council Clerk Allen":MAILTO:ballen@parmaheights.us
END:VEVENT
BEGIN:VEVENT
DTSTART;TZID=UTC:20241112T173000
DTEND;TZID=UTC:20241112T190000
DTSTAMP:20260424T085620
CREATED:20241108T160521Z
LAST-MODIFIED:20241108T205253Z
UID:10000250-1731432600-1731438000@parmaheightsoh.gov
SUMMARY:Mayor's Caucus
DESCRIPTION:  \nPlease click the link below to view the Mayor’s Caucus agenda. \nCaucus Agenda 11.12.24 \n  \n  \n  \n  \n 
URL:https://parmaheightsoh.gov/event/mayors-caucus-28/
LOCATION:City Hall
CATEGORIES:City
ORGANIZER;CN="Council Clerk Allen":MAILTO:ballen@parmaheights.us
END:VEVENT
BEGIN:VEVENT
DTSTART;TZID=UTC:20241112T190000
DTEND;TZID=UTC:20241112T193000
DTSTAMP:20260424T085620
CREATED:20241108T160607Z
LAST-MODIFIED:20241108T230727Z
UID:10000251-1731438000-1731439800@parmaheightsoh.gov
SUMMARY:City Council Meeting
DESCRIPTION:Thank you for your interest in the City of Parma Heights. \nCC PACKET 11 12 2024 \n  \n  \n 
URL:https://parmaheightsoh.gov/event/city-council-meeting-23/
LOCATION:City Hall
CATEGORIES:City
ORGANIZER;CN="Council Clerk Allen":MAILTO:ballen@parmaheights.us
END:VEVENT
BEGIN:VEVENT
DTSTART;TZID=UTC:20241118T180000
DTEND;TZID=UTC:20241118T193000
DTSTAMP:20260424T085620
CREATED:20241031T151847Z
LAST-MODIFIED:20241115T193521Z
UID:10000248-1731952800-1731958200@parmaheightsoh.gov
SUMMARY:Mayor's Caucus
DESCRIPTION:Please click the link below to view the agenda. \nCaucus Agenda 11.18.24
URL:https://parmaheightsoh.gov/event/mayors-caucus-27/
LOCATION:City Hall
CATEGORIES:City
ORGANIZER;CN="Council Clerk Allen":MAILTO:ballen@parmaheights.us
END:VEVENT
BEGIN:VEVENT
DTSTART;TZID=UTC:20241125T140000
DTEND;TZID=UTC:20241125T141500
DTSTAMP:20260424T085620
CREATED:20241122T143734Z
LAST-MODIFIED:20241122T143734Z
UID:10000252-1732543200-1732544100@parmaheightsoh.gov
SUMMARY:Records Commission
DESCRIPTION:The Records Commission will meet November 25\, 2024 at 2:00 p.m. \nPlease click the link below to view the agenda. \nRC – 11 25 2024 Agenda
URL:https://parmaheightsoh.gov/event/records-commission-2/
LOCATION:City Hall
CATEGORIES:City
ORGANIZER;CN="Council Clerk Allen":MAILTO:ballen@parmaheights.us
END:VEVENT
BEGIN:VEVENT
DTSTART;TZID=UTC:20241125T180000
DTEND;TZID=UTC:20241125T190000
DTSTAMP:20260424T085620
CREATED:20241122T164451Z
LAST-MODIFIED:20241122T210658Z
UID:10000253-1732557600-1732561200@parmaheightsoh.gov
SUMMARY:Mayor's Caucus
DESCRIPTION:Please click the link below to view the agenda. \nCaucus Agenda 11.25.24
URL:https://parmaheightsoh.gov/event/mayors-caucus-29/
LOCATION:City Hall
CATEGORIES:City
ORGANIZER;CN="Council Clerk Allen":MAILTO:ballen@parmaheights.us
END:VEVENT
BEGIN:VEVENT
DTSTART;TZID=UTC:20241125T190000
DTEND;TZID=UTC:20241125T193000
DTSTAMP:20260424T085620
CREATED:20241122T164526Z
LAST-MODIFIED:20241122T215112Z
UID:10000254-1732561200-1732563000@parmaheightsoh.gov
SUMMARY:City Council Meeting
DESCRIPTION:Thank you for your interest in the City of Parma Heights. \nCC PACKET 11 25 2024 \n  \n  \n 
URL:https://parmaheightsoh.gov/event/city-council-meeting-24/
LOCATION:City Hall
CATEGORIES:City
ORGANIZER;CN="Council Clerk Allen":MAILTO:ballen@parmaheights.us
END:VEVENT
BEGIN:VEVENT
DTSTART;TZID=UTC:20241126T091500
DTEND;TZID=UTC:20241126T093000
DTSTAMP:20260424T085620
CREATED:20241122T164848Z
LAST-MODIFIED:20241122T180302Z
UID:10000255-1732612500-1732613400@parmaheightsoh.gov
SUMMARY:Civil Service Commission
DESCRIPTION:Please click the link below to view the agenda for this meeting. \nNovember 26 2024 Agenda
URL:https://parmaheightsoh.gov/event/civil-service-commission-3/
CATEGORIES:City
ORGANIZER;CN="Council Clerk Allen":MAILTO:ballen@parmaheights.us
END:VEVENT
END:VCALENDAR