BEGIN:VCALENDAR
VERSION:2.0
PRODID:-//City of Parma Heights - ECPv6.15.20//NONSGML v1.0//EN
CALSCALE:GREGORIAN
METHOD:PUBLISH
X-ORIGINAL-URL:https://parmaheightsoh.gov
X-WR-CALDESC:Events for City of Parma Heights
REFRESH-INTERVAL;VALUE=DURATION:PT1H
X-Robots-Tag:noindex
X-PUBLISHED-TTL:PT1H
BEGIN:VTIMEZONE
TZID:UTC
BEGIN:STANDARD
TZOFFSETFROM:+0000
TZOFFSETTO:+0000
TZNAME:UTC
DTSTART:20230101T000000
END:STANDARD
END:VTIMEZONE
BEGIN:VEVENT
DTSTART;TZID=UTC:20240808T140000
DTEND;TZID=UTC:20240808T160000
DTSTAMP:20260424T132121
CREATED:20240626T195054Z
LAST-MODIFIED:20240626T200916Z
UID:10000149-1723125600-1723132800@parmaheightsoh.gov
SUMMARY:Cuyahoga Soil & Water Master Rain Gardeners Class
DESCRIPTION:Train to be a Master Rain Gardener! Learn to design and install your own rain garden and become the rain garden expert in your neighborhood.
URL:https://parmaheightsoh.gov/event/cuyahoga-soil-water-master-rain-gardeners-class/2024-08-08/
CATEGORIES:City
ATTACH;FMTTYPE=image/jpeg:https://parmaheightsoh.gov/wp-content/uploads/2024/06/MRG-August-2024.jpg
END:VEVENT
BEGIN:VEVENT
DTSTART;TZID=UTC:20240810T090000
DTEND;TZID=UTC:20240810T120000
DTSTAMP:20260424T132121
CREATED:20240726T201552Z
LAST-MODIFIED:20240726T202009Z
UID:10000213-1723280400-1723291200@parmaheightsoh.gov
SUMMARY:Utility Assistance Resource Fair
DESCRIPTION:COM_CCR_UARF_Handout_08102024 \nNEORSD will be hosting a Utility Resource Fair on August 10th at Tri-C West.  This is an opportunity for any resident facing difficulties with their utilities to meet their utility representatives in person\, address all concerns\, and apply for any cost saving opportunities with someone to assist you.  Space is limited! \nCall now to schedule your appointment!  Space is limited.  NEORSD Customer Service 216-881-6600 
URL:https://parmaheightsoh.gov/event/utility-assistance-resource-fair/
CATEGORIES:City
ATTACH;FMTTYPE=application/pdf:https://parmaheightsoh.gov/wp-content/uploads/2024/07/COM_CCR_UARF_Handout_08102024-1.pdf
END:VEVENT
BEGIN:VEVENT
DTSTART;TZID=UTC:20240812T190000
DTEND;TZID=UTC:20240812T191500
DTSTAMP:20260424T132121
CREATED:20240809T180413Z
LAST-MODIFIED:20240809T180413Z
UID:10000218-1723489200-1723490100@parmaheightsoh.gov
SUMMARY:Mayor's Caucus
DESCRIPTION:  \nPlease click the link below to view the Mayor’s Caucus agenda. \nCaucus Agenda 8.12.24 SS \n  \n 
URL:https://parmaheightsoh.gov/event/mayors-caucus-22/
CATEGORIES:City
END:VEVENT
BEGIN:VEVENT
DTSTART;TZID=UTC:20240812T191500
DTEND;TZID=UTC:20240812T200000
DTSTAMP:20260424T132121
CREATED:20240809T180515Z
LAST-MODIFIED:20240809T193042Z
UID:10000219-1723490100-1723492800@parmaheightsoh.gov
SUMMARY:Special City Council Meeting
DESCRIPTION:Thank you for your interest in the City of Parma Heights. \nCC PACKET 8 12 2024 \n 
URL:https://parmaheightsoh.gov/event/special-city-council-meeting-2/
LOCATION:City Hall
CATEGORIES:City
ORGANIZER;CN="Council Clerk Allen":MAILTO:ballen@parmaheights.us
END:VEVENT
BEGIN:VEVENT
DTSTART;TZID=UTC:20240815T140000
DTEND;TZID=UTC:20240815T160000
DTSTAMP:20260424T132121
CREATED:20240626T195054Z
LAST-MODIFIED:20240626T200916Z
UID:10000150-1723730400-1723737600@parmaheightsoh.gov
SUMMARY:Cuyahoga Soil & Water Master Rain Gardeners Class
DESCRIPTION:Train to be a Master Rain Gardener! Learn to design and install your own rain garden and become the rain garden expert in your neighborhood.
URL:https://parmaheightsoh.gov/event/cuyahoga-soil-water-master-rain-gardeners-class/2024-08-15/
CATEGORIES:City
ATTACH;FMTTYPE=image/jpeg:https://parmaheightsoh.gov/wp-content/uploads/2024/06/MRG-August-2024.jpg
END:VEVENT
BEGIN:VEVENT
DTSTART;TZID=UTC:20240819T180000
DTEND;TZID=UTC:20240819T183000
DTSTAMP:20260424T132121
CREATED:20240807T161412Z
LAST-MODIFIED:20240807T161412Z
UID:10000217-1724090400-1724092200@parmaheightsoh.gov
SUMMARY:Board of Zoning Appeals
DESCRIPTION:Thank you for your interest in the City of Parma Heights.  Please click below to view the agenda for this upcoming meeting. \nCase 2024 – 05 and 2024 – 06 7085 York Road and 7038 Greenbriar Dr
URL:https://parmaheightsoh.gov/event/board-of-zoning-appeals-5/
LOCATION:City Hall
CATEGORIES:City
ORGANIZER;CN="Council Clerk Allen":MAILTO:ballen@parmaheights.us
END:VEVENT
BEGIN:VEVENT
DTSTART;TZID=UTC:20240822T140000
DTEND;TZID=UTC:20240822T160000
DTSTAMP:20260424T132121
CREATED:20240626T195054Z
LAST-MODIFIED:20240626T200916Z
UID:10000151-1724335200-1724342400@parmaheightsoh.gov
SUMMARY:Cuyahoga Soil & Water Master Rain Gardeners Class
DESCRIPTION:Train to be a Master Rain Gardener! Learn to design and install your own rain garden and become the rain garden expert in your neighborhood.
URL:https://parmaheightsoh.gov/event/cuyahoga-soil-water-master-rain-gardeners-class/2024-08-22/
CATEGORIES:City
ATTACH;FMTTYPE=image/jpeg:https://parmaheightsoh.gov/wp-content/uploads/2024/06/MRG-August-2024.jpg
END:VEVENT
BEGIN:VEVENT
DTSTART;TZID=UTC:20240826T173000
DTEND;TZID=UTC:20240826T183000
DTSTAMP:20260424T132121
CREATED:20240822T191546Z
LAST-MODIFIED:20240822T192608Z
UID:10000221-1724693400-1724697000@parmaheightsoh.gov
SUMMARY:Special Planning Commission Meeting
DESCRIPTION:Thank you for your interest in the City of Parma Heights. \n8 26 2024 Special Planning Commission Agenda \n 
URL:https://parmaheightsoh.gov/event/special-planning-commission-meeting/
LOCATION:City Hall
CATEGORIES:City
ORGANIZER;CN="Council Clerk Allen":MAILTO:ballen@parmaheights.us
END:VEVENT
BEGIN:VEVENT
DTSTART;TZID=UTC:20240829T140000
DTEND;TZID=UTC:20240829T160000
DTSTAMP:20260424T132121
CREATED:20240626T195054Z
LAST-MODIFIED:20240626T200916Z
UID:10000152-1724940000-1724947200@parmaheightsoh.gov
SUMMARY:Cuyahoga Soil & Water Master Rain Gardeners Class
DESCRIPTION:Train to be a Master Rain Gardener! Learn to design and install your own rain garden and become the rain garden expert in your neighborhood.
URL:https://parmaheightsoh.gov/event/cuyahoga-soil-water-master-rain-gardeners-class/2024-08-29/
CATEGORIES:City
ATTACH;FMTTYPE=image/jpeg:https://parmaheightsoh.gov/wp-content/uploads/2024/06/MRG-August-2024.jpg
END:VEVENT
END:VCALENDAR