BEGIN:VCALENDAR
VERSION:2.0
PRODID:-//City of Parma Heights - ECPv6.15.20//NONSGML v1.0//EN
CALSCALE:GREGORIAN
METHOD:PUBLISH
X-WR-CALNAME:City of Parma Heights
X-ORIGINAL-URL:https://parmaheightsoh.gov
X-WR-CALDESC:Events for City of Parma Heights
REFRESH-INTERVAL;VALUE=DURATION:PT1H
X-Robots-Tag:noindex
X-PUBLISHED-TTL:PT1H
BEGIN:VTIMEZONE
TZID:UTC
BEGIN:STANDARD
TZOFFSETFROM:+0000
TZOFFSETTO:+0000
TZNAME:UTC
DTSTART:20230101T000000
END:STANDARD
END:VTIMEZONE
BEGIN:VEVENT
DTSTART;TZID=UTC:20240401T173000
DTEND;TZID=UTC:20240401T180000
DTSTAMP:20260424T184531
CREATED:20240401T143927Z
LAST-MODIFIED:20240401T143927Z
UID:10000107-1711992600-1711994400@parmaheightsoh.gov
SUMMARY:Planning Commission
DESCRIPTION:Please be advised that the Planning Commission will meet on April 1st at 5:30 p.m. in Council Chamber.  Please click below on the agenda to view the discussion items. \n04 01 2024 Planning agenda
URL:https://parmaheightsoh.gov/event/planning-commission-3/
CATEGORIES:City
END:VEVENT
BEGIN:VEVENT
DTSTART;TZID=UTC:20240404T180000
DTEND;TZID=UTC:20240404T193000
DTSTAMP:20260424T184531
CREATED:20240403T155938Z
LAST-MODIFIED:20240403T155938Z
UID:10000108-1712253600-1712259000@parmaheightsoh.gov
SUMMARY:PCSD Eclipse Party
DESCRIPTION:Join us on Thursday\, April 4th\, from 6:00 to 7:30pm at Valley Forge High School to learn about a space-tacular event\, the total solar eclipse! Parma City School District partners will share crafts\, activities\, information\, and more to prepare for the April 8th total solar eclipse.\nOn Monday\, April 8th\, 2024\, the Moon passes between the Earth and the Sun\, making it dark in the daytime! Please remember to only view the eclipse with your special PSCD glasses.\nThank you to our partners\, The City of Parma Heights\, Cuyahoga County Public Library\, & West Creek
URL:https://parmaheightsoh.gov/event/pcsd-eclipse-party/
CATEGORIES:City,Recreation
END:VEVENT
BEGIN:VEVENT
DTSTART;TZID=UTC:20240408T183000
DTEND;TZID=UTC:20240408T190000
DTSTAMP:20260424T184531
CREATED:20240405T150253Z
LAST-MODIFIED:20240405T195754Z
UID:10000114-1712601000-1712602800@parmaheightsoh.gov
SUMMARY:Mayor's Caucus
DESCRIPTION:  \nPlease click the link below to view the Mayor’s Caucus agenda. \nCaucus Agenda 4.8.24
URL:https://parmaheightsoh.gov/event/mayors-caucus-15/
CATEGORIES:City
END:VEVENT
BEGIN:VEVENT
DTSTART;TZID=UTC:20240408T190000
DTEND;TZID=UTC:20240408T200000
DTSTAMP:20260424T184531
CREATED:20240405T150217Z
LAST-MODIFIED:20240405T202923Z
UID:10000113-1712602800-1712606400@parmaheightsoh.gov
SUMMARY:City Council Meeting
DESCRIPTION:Thank you for your interest in the City of Parma Heights.  Please click the link below to view the agenda and proposed legislation. \nCC PACKET 4 08 2024
URL:https://parmaheightsoh.gov/event/city-council-meeting-13/
CATEGORIES:City
END:VEVENT
BEGIN:VEVENT
DTSTART;TZID=UTC:20240415T173000
DTEND;TZID=UTC:20240415T180000
DTSTAMP:20260424T184531
CREATED:20240403T164651Z
LAST-MODIFIED:20240411T201512Z
UID:10000111-1713202200-1713204000@parmaheightsoh.gov
SUMMARY:Planning Commission/Public Hearing
DESCRIPTION:Please be advised that the Planning Commission will meet on April 15th at 5:30 p.m. in Council Chamber.   Thank you for your interest in the City of Parma Heights. \n04 15 2024 Planning agenda
URL:https://parmaheightsoh.gov/event/planning-commission-public-hearing/
CATEGORIES:City
END:VEVENT
BEGIN:VEVENT
DTSTART;TZID=UTC:20240420T130000
DTEND;TZID=UTC:20240420T150000
DTSTAMP:20260424T184531
CREATED:20240403T161206Z
LAST-MODIFIED:20240403T161206Z
UID:10000110-1713618000-1713625200@parmaheightsoh.gov
SUMMARY:Line Dancing - Beginner
DESCRIPTION:Join Mary Harwood at Cassidy Theatre on April 20th from 1-3 PM for beginner line dance classes!\n\n\nA MyRec account will need to be created before or at the door to participate in the program.\n$6 for preregistration\n$6 at the door\n\n\nCreate your MyRec account and preregister here: https://parmaheightsoh.myrec.com/…/program_details.aspx…
URL:https://parmaheightsoh.gov/event/line-dancing-beginner/
CATEGORIES:City,Recreation
END:VEVENT
BEGIN:VEVENT
DTSTART;TZID=UTC:20240422T173000
DTEND;TZID=UTC:20240422T180000
DTSTAMP:20260424T184531
CREATED:20240412T185122Z
LAST-MODIFIED:20240423T152328Z
UID:10000116-1713807000-1713808800@parmaheightsoh.gov
SUMMARY:Recreation Commission
DESCRIPTION:Please click the link below to view the Recreation Commission agenda. \nApril 22\, 2024 Agenda
URL:https://parmaheightsoh.gov/event/recreation-commission-2/
LOCATION:City Hall
CATEGORIES:City
ORGANIZER;CN="Council Clerk Allen":MAILTO:ballen@parmaheights.us
END:VEVENT
BEGIN:VEVENT
DTSTART;TZID=UTC:20240422T181500
DTEND;TZID=UTC:20240422T190000
DTSTAMP:20260424T184531
CREATED:20240412T184913Z
LAST-MODIFIED:20240419T195319Z
UID:10000115-1713809700-1713812400@parmaheightsoh.gov
SUMMARY:Mayor's Caucus
DESCRIPTION:  \nPlease click the link below to view the Mayor’s Caucus agenda. \nCaucus Agenda 4.22.24 \n 
URL:https://parmaheightsoh.gov/event/mayors-caucus-16/
CATEGORIES:City
END:VEVENT
BEGIN:VEVENT
DTSTART;TZID=UTC:20240422T190000
DTEND;TZID=UTC:20240422T200000
DTSTAMP:20260424T184531
CREATED:20240412T185420Z
LAST-MODIFIED:20240419T195403Z
UID:10000118-1713812400-1713816000@parmaheightsoh.gov
SUMMARY:City Council Meeting
DESCRIPTION:Thank you for your interest in the City of Parma Heights. \nCC PACEKT 4 22 2024 \n 
URL:https://parmaheightsoh.gov/event/city-council-meeting-14/
LOCATION:City Hall
CATEGORIES:City
ORGANIZER;CN="Council Clerk Allen":MAILTO:ballen@parmaheights.us
END:VEVENT
BEGIN:VEVENT
DTSTART;TZID=UTC:20240427T090000
DTEND;TZID=UTC:20240427T120000
DTSTAMP:20260424T184531
CREATED:20240216T165635Z
LAST-MODIFIED:20240216T170405Z
UID:10000089-1714208400-1714219200@parmaheightsoh.gov
SUMMARY:Community Shred Event
DESCRIPTION:Please limit to 2 standard boxes per household.
URL:https://parmaheightsoh.gov/event/community-shred-event/
LOCATION:Service Garage at Greenbrier Commons
CATEGORIES:City
END:VEVENT
BEGIN:VEVENT
DTSTART;TZID=UTC:20240427T130000
DTEND;TZID=UTC:20240427T160000
DTSTAMP:20260424T184531
CREATED:20240403T160533Z
LAST-MODIFIED:20240403T160636Z
UID:10000109-1714222800-1714233600@parmaheightsoh.gov
SUMMARY:Earth Day in the Commons
DESCRIPTION:The City of Parma Heights is hosting the 3rd Annual Earth Day in the Commons\, sponsored by NOPEC\, on Saturday\, April 27\, from 1 to 4pm in Greenbriar Commons.\nThe family-friendly\, free event features a mix of local vendors and exhibitors: NOPEC\, Cleveland Metroparks – Watershed Stewardship Center\, Drink Local Drink Tap\, Good Nature Organic Lawn Care\, Cuyahoga County Solid Waste District\, Meadow City Native Plant Nursery\, West Creek Conservancy\, Cuyahoga County Department of Sustainability\, Nature Center at Shaker Lakes\, Big Creek Connects\, Western Cuyahoga Audubon Chapter\, Hive Works Honey\, Lucky Paws Foster Group\, Cuyahoga Soil & Water\, Republic Services and more.\nParma Heights community partners will feature Cuyahoga County Public Library – Parma Heights Branch\, Parma Heights Senior Center\, Parma Heights Historical Society\, Parma City Schools District\, Parma Heights Garden Club\, Parma Animal Shelter and Parma Heights City Council.\nSATOO Reptiles & Aquatics will have live animals on display\, too.\nPlus\, the Parma Heights Police and Parma Heights Fire Departments will have vehicles for kids to sit-in\, Samurai Dynasty food trucks and more.
URL:https://parmaheightsoh.gov/event/earth-day-in-the-commons/
LOCATION:Greenbrier Commons
CATEGORIES:City,Recreation
END:VEVENT
END:VCALENDAR