BEGIN:VCALENDAR
VERSION:2.0
PRODID:-//City of Parma Heights - ECPv6.15.20//NONSGML v1.0//EN
CALSCALE:GREGORIAN
METHOD:PUBLISH
X-WR-CALNAME:City of Parma Heights
X-ORIGINAL-URL:https://parmaheightsoh.gov
X-WR-CALDESC:Events for City of Parma Heights
REFRESH-INTERVAL;VALUE=DURATION:PT1H
X-Robots-Tag:noindex
X-PUBLISHED-TTL:PT1H
BEGIN:VTIMEZONE
TZID:UTC
BEGIN:STANDARD
TZOFFSETFROM:+0000
TZOFFSETTO:+0000
TZNAME:UTC
DTSTART:20250101T000000
END:STANDARD
END:VTIMEZONE
BEGIN:VEVENT
DTSTART;VALUE=DATE:20260910
DTEND;VALUE=DATE:20260911
DTSTAMP:20260423T115136
CREATED:20260115T220318Z
LAST-MODIFIED:20260115T220318Z
UID:10000452-1788998400-1789084799@parmaheightsoh.gov
SUMMARY:Curbside Rubbish - Holiday Delay
DESCRIPTION:Services will be delayed one day due to the holiday. Curbside garbage collection will be Thursday September 10th.
URL:https://parmaheightsoh.gov/event/curbside-rubbish-holiday-delay-2/
CATEGORIES:City
END:VEVENT
END:VCALENDAR