BEGIN:VCALENDAR
VERSION:2.0
PRODID:-//City of Parma Heights - ECPv6.15.20//NONSGML v1.0//EN
CALSCALE:GREGORIAN
METHOD:PUBLISH
X-ORIGINAL-URL:https://parmaheightsoh.gov
X-WR-CALDESC:Events for City of Parma Heights
REFRESH-INTERVAL;VALUE=DURATION:PT1H
X-Robots-Tag:noindex
X-PUBLISHED-TTL:PT1H
BEGIN:VTIMEZONE
TZID:UTC
BEGIN:STANDARD
TZOFFSETFROM:+0000
TZOFFSETTO:+0000
TZNAME:UTC
DTSTART:20250101T000000
END:STANDARD
END:VTIMEZONE
BEGIN:VEVENT
DTSTART;TZID=UTC:20260712T183000
DTEND;TZID=UTC:20260712T183000
DTSTAMP:20260423T130712
CREATED:20260422T142621Z
LAST-MODIFIED:20260422T144200Z
UID:10000483-1783881000-1783881000@parmaheightsoh.gov
SUMMARY:Summer Concerts at Nathan Hale Park
DESCRIPTION:Summer Concerts at Nathan Hale Park starting at 6:30: Faction Cleveland – More than just a top 40 cover band…Faction is a musically inspired party movement. \nJuly 19 Summer Concert at Nathan Hale Park starting at 6:30: Akron Symphonic Winds \nJuly 26 Summer Concert at Nathan Hale Park starting at 6:30: Classic Mellow Rock \nAugust 2 Summer Concert at Nathan Hale Park starting at 6:30: Hayden Grove \nAugust 9 Summer Concert at Nathan Hale Park starting at 6:30: Masterpiece \n 
URL:https://parmaheightsoh.gov/event/summer-concert-at-nathan-hale-park/
LOCATION:Nathan Hale Park\, 7075 Parma Park Blvd\, Parma Heights\, OH\, United States
CATEGORIES:City,Recreation
END:VEVENT
END:VCALENDAR