BEGIN:VCALENDAR
VERSION:2.0
PRODID:-//City of Parma Heights - ECPv6.15.20//NONSGML v1.0//EN
CALSCALE:GREGORIAN
METHOD:PUBLISH
X-ORIGINAL-URL:https://parmaheightsoh.gov
X-WR-CALDESC:Events for City of Parma Heights
REFRESH-INTERVAL;VALUE=DURATION:PT1H
X-Robots-Tag:noindex
X-PUBLISHED-TTL:PT1H
BEGIN:VTIMEZONE
TZID:UTC
BEGIN:STANDARD
TZOFFSETFROM:+0000
TZOFFSETTO:+0000
TZNAME:UTC
DTSTART:20250101T000000
END:STANDARD
END:VTIMEZONE
BEGIN:VEVENT
DTSTART;TZID=UTC:20260209T184500
DTEND;TZID=UTC:20260209T190000
DTSTAMP:20260423T033033
CREATED:20260206T210940Z
LAST-MODIFIED:20260206T210940Z
UID:10000458-1770662700-1770663600@parmaheightsoh.gov
SUMMARY:Mayor's Caucus
DESCRIPTION:Caucus Agenda 2.9.26
URL:https://parmaheightsoh.gov/event/mayors-caucus-55/
LOCATION:City Hall
CATEGORIES:City
ORGANIZER;CN="Council Clerk Allen":MAILTO:ballen@parmaheights.us
END:VEVENT
BEGIN:VEVENT
DTSTART;TZID=UTC:20260209T190000
DTEND;TZID=UTC:20260209T193000
DTSTAMP:20260423T033033
CREATED:20251222T174559Z
LAST-MODIFIED:20260206T211104Z
UID:10000428-1770663600-1770665400@parmaheightsoh.gov
SUMMARY:City Council
DESCRIPTION:CC Packet 2.09.26
URL:https://parmaheightsoh.gov/event/city-council-4/
LOCATION:City Hall
CATEGORIES:City
ORGANIZER;CN="Council Clerk Allen":MAILTO:ballen@parmaheights.us
END:VEVENT
END:VCALENDAR