BEGIN:VCALENDAR
VERSION:2.0
PRODID:-//City of Parma Heights - ECPv6.15.20//NONSGML v1.0//EN
CALSCALE:GREGORIAN
METHOD:PUBLISH
X-WR-CALNAME:City of Parma Heights
X-ORIGINAL-URL:https://parmaheightsoh.gov
X-WR-CALDESC:Events for City of Parma Heights
REFRESH-INTERVAL;VALUE=DURATION:PT1H
X-Robots-Tag:noindex
X-PUBLISHED-TTL:PT1H
BEGIN:VTIMEZONE
TZID:UTC
BEGIN:STANDARD
TZOFFSETFROM:+0000
TZOFFSETTO:+0000
TZNAME:UTC
DTSTART:20250101T000000
END:STANDARD
END:VTIMEZONE
BEGIN:VEVENT
DTSTART;VALUE=DATE:20260119
DTEND;VALUE=DATE:20260120
DTSTAMP:20260423T213124
CREATED:20260116T192241Z
LAST-MODIFIED:20260116T192241Z
UID:10000453-1768780800-1768867199@parmaheightsoh.gov
SUMMARY:City Hall Closed
DESCRIPTION:In observance of Martin Luther King\, Jr. Day – City Hall will be closed. \n 
URL:https://parmaheightsoh.gov/event/city-hall-closed-8/
LOCATION:City Hall
CATEGORIES:City
ORGANIZER;CN="Council Clerk Allen":MAILTO:ballen@parmaheights.us
END:VEVENT
END:VCALENDAR