BEGIN:VCALENDAR
VERSION:2.0
PRODID:-//City of Parma Heights - ECPv6.15.20//NONSGML v1.0//EN
CALSCALE:GREGORIAN
METHOD:PUBLISH
X-ORIGINAL-URL:https://parmaheightsoh.gov
X-WR-CALDESC:Events for City of Parma Heights
REFRESH-INTERVAL;VALUE=DURATION:PT1H
X-Robots-Tag:noindex
X-PUBLISHED-TTL:PT1H
BEGIN:VTIMEZONE
TZID:UTC
BEGIN:STANDARD
TZOFFSETFROM:+0000
TZOFFSETTO:+0000
TZNAME:UTC
DTSTART:20250101T000000
END:STANDARD
END:VTIMEZONE
BEGIN:VEVENT
DTSTART;TZID=UTC:20260108T180000
DTEND;TZID=UTC:20260108T200000
DTSTAMP:20260423T213120
CREATED:20251208T170943Z
LAST-MODIFIED:20251208T170943Z
UID:10000414-1767895200-1767902400@parmaheightsoh.gov
SUMMARY:Rec Night
DESCRIPTION:We want to bring this opportunity to our residents so they can meet our Rec Team\, register for upcoming sports\, explore job opportunities\, and get a glimpse of what’s coming in 2026. For more information\, please call 440-884-9606
URL:https://parmaheightsoh.gov/event/rec-night/
LOCATION:Cassidy Theatre\, 6200 Pearl Road\, Parma Heights\, OH\, United States
CATEGORIES:City,Recreation
ATTACH;FMTTYPE=image/png:https://parmaheightsoh.gov/wp-content/uploads/2025/12/Rec-Night-2026.png
END:VEVENT
END:VCALENDAR